From mboxrd@z Thu Jan  1 00:00:00 1970
Return-Path: <test-report-bounces@dpdk.org>
Received: from mails.dpdk.org (mails.dpdk.org [217.70.189.124])
	by inbox.dpdk.org (Postfix) with ESMTP id 60ADD43C10
	for <public@inbox.dpdk.org>; Wed, 28 Feb 2024 06:16:57 +0100 (CET)
Received: from mails.dpdk.org (localhost [127.0.0.1])
	by mails.dpdk.org (Postfix) with ESMTP id 5B1ED4027D;
	Wed, 28 Feb 2024 06:16:57 +0100 (CET)
Received: from mail-yb1-f228.google.com (mail-yb1-f228.google.com
 [209.85.219.228])
 by mails.dpdk.org (Postfix) with ESMTP id B0DB84003C
 for <test-report@dpdk.org>; Wed, 28 Feb 2024 06:16:56 +0100 (CET)
Received: by mail-yb1-f228.google.com with SMTP id
 3f1490d57ef6-db3a09e96daso4132596276.3
 for <test-report@dpdk.org>; Tue, 27 Feb 2024 21:16:56 -0800 (PST)
DKIM-Signature: v=1; a=rsa-sha256; c=relaxed/relaxed;
 d=iol.unh.edu; s=unh-iol; t=1709097416; x=1709702216; darn=dpdk.org;
 h=references:in-reply-to:cc:to:from:subject:message-id:date:from:to
 :cc:subject:date:message-id:reply-to;
 bh=BjGbJriCYBjhOZXa2r9uTIgdcYceJEfJf3PZLbqiJjE=;
 b=Bw9DhTsRJ8/RjRnaoE+ANGFjlW5Psnu0gjgIkvEWYIRunBdqnX221/FrA3rOF8xuWF
 R7R4oH+BakO2En4Ng2zrk+X55HEtBhGiogQfx/F1mn/OSgRcoUiyVtE9W4azBEYyxzgO
 GZzHn/c07Vds22eDf807ln5wosY+ZWM3ZXCQU=
X-Google-DKIM-Signature: v=1; a=rsa-sha256; c=relaxed/relaxed;
 d=1e100.net; s=20230601; t=1709097416; x=1709702216;
 h=references:in-reply-to:cc:to:from:subject:message-id:date
 :x-gm-message-state:from:to:cc:subject:date:message-id:reply-to;
 bh=BjGbJriCYBjhOZXa2r9uTIgdcYceJEfJf3PZLbqiJjE=;
 b=Xe0NLZ7hiIbs/OgFZP/zgdZiO60gS32f19S7g0oZgJpvhtxCib5cWrefrRouC5MVrm
 wnJCfHAiX3emKpVnDHnOIrGVo4iQgntAHuIVPSFKfgkxBlOcBqvi+tC4TTmIU5FLVgxt
 oMKLY9z9VeLnQlea1cqFTnP8fJvmmvWKqzPyULw27VSnOzn4JpSeM2AVus/7dn5uOA+D
 invGuyy05GdaLaLYAxFEJjELxpV7tBcaref0d8NRBNgr3MtVSukL2I7gzg2++0THyARd
 eLl5wRKn8aqZ2kJhueMm5rwNqEfbhgnjdy+3hthkaN00/mIxytj62XhE5FIWciNhz0FS
 s25w==
X-Gm-Message-State: AOJu0YzXWpSK3ag17UWd1uS+RnJ8C2JYlgb+zLZlg3lsyMOPuein1BAs
 NppnQXgkIQk0zhZapzNaxuebhntJt0svhK7UGp/P4KtcS60lbztvpvqW8Ee+z5BpaK2rHu35+i1
 IOeeufwASxT1NBUSxumpdnJT9nhb2KLBtm0CM0YuTFDrFVyXUVpQmxdHk
X-Google-Smtp-Source: AGHT+IFjD3WsNMJvJyGlOegF5guohN2lvLcD3WJ1+uCuo+lH6IbTlG+krPb73teQMoxSJ/zt+JNNOvFM0WS+
X-Received: by 2002:a25:949:0:b0:dbd:8f9:a71 with SMTP id
 u9-20020a250949000000b00dbd08f90a71mr1598673ybm.28.1709097415994; 
 Tue, 27 Feb 2024 21:16:55 -0800 (PST)
Received: from postal.iol.unh.edu ([2606:4100:3880:1234::84])
 by smtp-relay.gmail.com with ESMTPS id
 n187-20020a2572c4000000b00dcbb5d1443bsm382513ybc.32.2024.02.27.21.16.55
 (version=TLS1_2 cipher=ECDHE-ECDSA-AES128-GCM-SHA256 bits=128/128);
 Tue, 27 Feb 2024 21:16:55 -0800 (PST)
X-Relaying-Domain: iol.unh.edu
Date: Tue, 27 Feb 2024 21:16:55 -0800 (PST)
Message-ID: <65dec1c7.250a0220.8a30c.b649SMTPIN_ADDED_MISSING@mx.google.com>
Received: from [172.17.0.9] (unknown [172.18.0.217])
 by postal.iol.unh.edu (Postfix) with ESMTP id A69F460527CD;
 Wed, 28 Feb 2024 00:16:55 -0500 (EST)
Subject: |SUCCESS| pw137397-137398 [PATCH] [2/2] build: build ring library wi
From: dpdklab@iol.unh.edu
To: Test Report <test-report@dpdk.org>
Cc: dpdk-test-reports@iol.unh.edu
In-Reply-To: <1709061720-4843-3-git-send-email-roretzla@linux.microsoft.com>
References: <1709061720-4843-3-git-send-email-roretzla@linux.microsoft.com>
Content-Type: text/plain
X-BeenThere: test-report@dpdk.org
X-Mailman-Version: 2.1.29
Precedence: list
List-Id: automatic DPDK test reports <test-report.dpdk.org>
List-Unsubscribe: <https://mails.dpdk.org/options/test-report>,
 <mailto:test-report-request@dpdk.org?subject=unsubscribe>
List-Archive: <http://mails.dpdk.org/archives/test-report/>
List-Post: <mailto:test-report@dpdk.org>
List-Help: <mailto:test-report-request@dpdk.org?subject=help>
List-Subscribe: <https://mails.dpdk.org/listinfo/test-report>,
 <mailto:test-report-request@dpdk.org?subject=subscribe>
Errors-To: test-report-bounces@dpdk.org

Test-Label: iol-unit-arm64-testing
Test-Status: SUCCESS
http://dpdk.org/patch/137398

_Testing PASS_

Submitter: Tyler Retzlaff <roretzla@linux.microsoft.com>
Date: Tuesday, February 27 2024 19:22:00 
DPDK git baseline: Repo:dpdk
  Branch: master
  CommitID:92c0ad70caf3ed6f4b93de6ddaf7bc369737c049

137397-137398 --> testing pass

Test environment and result as below:

+--------------------------+--------------+----------------+
|       Environment        | lpm_autotest | dpdk_unit_test |
+==========================+==============+================+
| Ubuntu 20.04 ARM SVE     | PASS         | SKIPPED        |
+--------------------------+--------------+----------------+
| Fedora 37 (ARM)          | SKIPPED      | PASS           |
+--------------------------+--------------+----------------+
| Debian 12 (arm)          | SKIPPED      | PASS           |
+--------------------------+--------------+----------------+
| CentOS Stream 9 (ARM)    | SKIPPED      | PASS           |
+--------------------------+--------------+----------------+
| Debian 11 (Buster) (ARM) | SKIPPED      | PASS           |
+--------------------------+--------------+----------------+
| Fedora 38 (ARM Clang)    | SKIPPED      | PASS           |
+--------------------------+--------------+----------------+
| Fedora 38 (ARM)          | SKIPPED      | PASS           |
+--------------------------+--------------+----------------+


Ubuntu 20.04 ARM SVE
	Kernel: 5.4.0-80-generic
	Compiler: gcc 10.3.0 (Ubuntu 10.3.0-1ubuntu1~20.04)

Fedora 37 (ARM)
	Kernel: Depends on container host
	Compiler: gcc 12.3.1

Debian 12 (arm)
	Kernel: Container Host Kernel
	Compiler: gcc 11

CentOS Stream 9 (ARM)
	Kernel: Container Host Kernel
	Compiler: gcc 11.3.1

Debian 11 (Buster) (ARM)
	Kernel: Container Host Kernel
	Compiler: gcc 10.2.1

Fedora 38 (ARM Clang)
	Kernel: Depends on container host
	Compiler: clang 16.0.3

Fedora 38 (ARM)
	Kernel: Depends on container host
	Compiler: gcc 13.1.1

To view detailed results, visit:
https://lab.dpdk.org/results/dashboard/patchsets/29302/

UNH-IOL DPDK Community Lab

To manage your email subscriptions, visit: 
https://lab.dpdk.org/results/dashboard/preferences/subscriptions/