From mboxrd@z Thu Jan  1 00:00:00 1970
Return-Path: <test-report-bounces@dpdk.org>
Received: from mails.dpdk.org (mails.dpdk.org [217.70.189.124])
	by inbox.dpdk.org (Postfix) with ESMTP id 34E9143C13
	for <public@inbox.dpdk.org>; Wed, 28 Feb 2024 07:54:35 +0100 (CET)
Received: from mails.dpdk.org (localhost [127.0.0.1])
	by mails.dpdk.org (Postfix) with ESMTP id 0E35842F45;
	Wed, 28 Feb 2024 07:54:34 +0100 (CET)
Received: from mail-pl1-f227.google.com (mail-pl1-f227.google.com
 [209.85.214.227])
 by mails.dpdk.org (Postfix) with ESMTP id 3B01F4027D
 for <test-report@dpdk.org>; Wed, 28 Feb 2024 07:54:19 +0100 (CET)
Received: by mail-pl1-f227.google.com with SMTP id
 d9443c01a7336-1d7232dcb3eso37097535ad.2
 for <test-report@dpdk.org>; Tue, 27 Feb 2024 22:54:19 -0800 (PST)
DKIM-Signature: v=1; a=rsa-sha256; c=relaxed/relaxed;
 d=iol.unh.edu; s=unh-iol; t=1709103258; x=1709708058; darn=dpdk.org;
 h=references:in-reply-to:cc:to:from:subject:message-id:date:from:to
 :cc:subject:date:message-id:reply-to;
 bh=DVuAc9BcXAsUbxv4TsJuBD+0f+6p/9tADsoOIBIoj68=;
 b=BibkFFGIM8JcPsJBXeaYyQja7bDcUaAFPCRHQfYT/NfZZ3gEEf+gA779F+DAZJF2Np
 a3n8gtSOZSO5KAURL9PWSIxsh2v7UrkWuMzBxVAC2RNjZ/K2Y9V/gbP4/e8WcYz5KUHh
 MWfCQ31rsjQxNkDpuodqXdUjloJ2TaOHekNRs=
X-Google-DKIM-Signature: v=1; a=rsa-sha256; c=relaxed/relaxed;
 d=1e100.net; s=20230601; t=1709103258; x=1709708058;
 h=references:in-reply-to:cc:to:from:subject:message-id:date
 :x-gm-message-state:from:to:cc:subject:date:message-id:reply-to;
 bh=DVuAc9BcXAsUbxv4TsJuBD+0f+6p/9tADsoOIBIoj68=;
 b=noPAIDGllyU+hfecTY11pjzqMX0vcA2H/0L9QqNYKkqzvUyHbCVW3UgNv4FyLaf4SR
 Crhb6viNiMjK8DvWfRHpJ7f+qy1mT8bq4BI2TDv81lgW274c4gMOrwXgS2qqukEr4tJF
 nC9waHaQYGAkijujSbXXIyyC1k/PlZNjfqUYckc7T2UGEdt+PIPoJzU3qgU/y7pdkmZi
 C48zotD34O0Ib45ifLujYR60Pouo/rD0PwCVlDUq6EO1q/9M3nKekDbBUh07659A51yJ
 GFLzlEuSH0IAtxyzCPgbPMEQS4DuT3/v8NyuM1XLefUHZC48fXMCUmmTz3UdrPf73KnO
 uuPQ==
X-Gm-Message-State: AOJu0YxBGlCn1UOBQUxkYwRCCQy7JisfIbfNNsnzVpkJ5SI+vMpUdVdR
 5fcKfarHIBkJ7uXzQRxF7YNIIj92ZNNFvFRctcoinPOAO8iqmFrXBO4E1VbQbBO3IdbeHyrKdox
 X2+OD5YbKf5aS57icLBzbYGlFfrDCUP1Non+An7j2p/7wYmSNgwxwL1vm
X-Google-Smtp-Source: AGHT+IGbaSU5jQaWQJiF90q5Ozrw1BjOCaGJEzgtNWOWAMvnMn2bX5QiHAfyhNnKwDNay2RpBYvYLvJUXvqP
X-Received: by 2002:a17:902:e811:b0:1dc:cd2e:fc68 with SMTP id
 u17-20020a170902e81100b001dccd2efc68mr213984plg.27.1709103258534; 
 Tue, 27 Feb 2024 22:54:18 -0800 (PST)
Received: from postal.iol.unh.edu (postal.iol.unh.edu.
 [2606:4100:3880:1234::84]) by smtp-relay.gmail.com with ESMTPS id
 lh6-20020a170903290600b001dc9893b02fsm113573plb.39.2024.02.27.22.54.18
 (version=TLS1_2 cipher=ECDHE-ECDSA-AES128-GCM-SHA256 bits=128/128);
 Tue, 27 Feb 2024 22:54:18 -0800 (PST)
X-Relaying-Domain: iol.unh.edu
Date: Tue, 27 Feb 2024 22:54:18 -0800 (PST)
Message-ID: <65ded89a.170a0220.17fe.738cSMTPIN_ADDED_MISSING@mx.google.com>
Received: from [172.21.0.6] (unknown [172.18.0.240])
 by postal.iol.unh.edu (Postfix) with ESMTP id B8AAC60527CD;
 Wed, 28 Feb 2024 01:54:17 -0500 (EST)
Subject: |SUCCESS| pw137374-137396 [PATCH] [v4,23/23] net/cnxk: other flow op
From: dpdklab@iol.unh.edu
To: Test Report <test-report@dpdk.org>
Cc: dpdk-test-reports@iol.unh.edu
In-Reply-To: <20240227191550.137687-24-hkalra@marvell.com>
References: <20240227191550.137687-24-hkalra@marvell.com>
Content-Type: text/plain
X-BeenThere: test-report@dpdk.org
X-Mailman-Version: 2.1.29
Precedence: list
List-Id: automatic DPDK test reports <test-report.dpdk.org>
List-Unsubscribe: <https://mails.dpdk.org/options/test-report>,
 <mailto:test-report-request@dpdk.org?subject=unsubscribe>
List-Archive: <http://mails.dpdk.org/archives/test-report/>
List-Post: <mailto:test-report@dpdk.org>
List-Help: <mailto:test-report-request@dpdk.org?subject=help>
List-Subscribe: <https://mails.dpdk.org/listinfo/test-report>,
 <mailto:test-report-request@dpdk.org?subject=subscribe>
Errors-To: test-report-bounces@dpdk.org

Test-Label: iol-compile-arm64-testing
Test-Status: SUCCESS
http://dpdk.org/patch/137396

_Testing PASS_

Submitter: Harman Kalra <hkalra@marvell.com>
Date: Tuesday, February 27 2024 19:15:50 
DPDK git baseline: Repo:dpdk
  Branch: master
  CommitID:ab5b7cd5a0b563e6d49be6c8beaad1f39c581a5c

137374-137396 --> testing pass

Test environment and result as below:

+----------------------------------------+--------------------+
|              Environment               | dpdk_meson_compile |
+========================================+====================+
| Ubuntu 20.04 ARM SVE                   | PASS               |
+----------------------------------------+--------------------+
| Ubuntu 20.04 aarch32 GCC Cross Compile | PASS               |
+----------------------------------------+--------------------+
| Ubuntu 20.04 ARM Clang Cross Compile   | PASS               |
+----------------------------------------+--------------------+
| Ubuntu 20.04 ARM GCC Cross Compile     | PASS               |
+----------------------------------------+--------------------+
| Fedora 37 (ARM)                        | PASS               |
+----------------------------------------+--------------------+
| Fedora 38 (ARM)                        | PASS               |
+----------------------------------------+--------------------+
| Fedora 38 (ARM Clang)                  | PASS               |
+----------------------------------------+--------------------+
| Debian 12 (arm)                        | PASS               |
+----------------------------------------+--------------------+
| CentOS Stream 9 (ARM)                  | PASS               |
+----------------------------------------+--------------------+
| Debian 11 (Buster) (ARM)               | PASS               |
+----------------------------------------+--------------------+
| Ubuntu 20.04 (ARM)                     | PASS               |
+----------------------------------------+--------------------+


Ubuntu 20.04 ARM SVE
	Kernel: 5.4.0-80-generic
	Compiler: gcc 10.3.0 (Ubuntu 10.3.0-1ubuntu1~20.04)

Ubuntu 20.04 aarch32 GCC Cross Compile
	Kernel: 5.4.0-72-generic
	Compiler: gcc 9.3.0

Ubuntu 20.04 ARM Clang Cross Compile
	Kernel: 5.4.0-72-generic
	Compiler: clang version 10.0.0-4ubuntu1

Ubuntu 20.04 ARM GCC Cross Compile
	Kernel: 5.4.0-72-generic
	Compiler: aarch64-linux-gnu-gcc (Ubuntu 9.3.0-17ubuntu1~20.04) 9.3.0

Fedora 37 (ARM)
	Kernel: Depends on container host
	Compiler: gcc 12.3.1

Fedora 38 (ARM)
	Kernel: Depends on container host
	Compiler: gcc 13.1.1

Fedora 38 (ARM Clang)
	Kernel: Depends on container host
	Compiler: clang 16.0.3

Debian 12 (arm)
	Kernel: Container Host Kernel
	Compiler: gcc 11

CentOS Stream 9 (ARM)
	Kernel: Container Host Kernel
	Compiler: gcc 11.3.1

Debian 11 (Buster) (ARM)
	Kernel: Container Host Kernel
	Compiler: gcc 10.2.1

Ubuntu 20.04 (ARM)
	Kernel: Container Host Kernel
	Compiler: gcc 9.4.0

To view detailed results, visit:
https://lab.dpdk.org/results/dashboard/patchsets/29301/

UNH-IOL DPDK Community Lab

To manage your email subscriptions, visit: 
https://lab.dpdk.org/results/dashboard/preferences/subscriptions/