From mboxrd@z Thu Jan  1 00:00:00 1970
Return-Path: <test-report-bounces@dpdk.org>
Received: from mails.dpdk.org (mails.dpdk.org [217.70.189.124])
	by inbox.dpdk.org (Postfix) with ESMTP id AAF9743C1D
	for <public@inbox.dpdk.org>; Wed, 28 Feb 2024 08:42:05 +0100 (CET)
Received: from mails.dpdk.org (localhost [127.0.0.1])
	by mails.dpdk.org (Postfix) with ESMTP id EB823427E5;
	Wed, 28 Feb 2024 08:42:04 +0100 (CET)
Received: from mail-yw1-f227.google.com (mail-yw1-f227.google.com
 [209.85.128.227])
 by mails.dpdk.org (Postfix) with ESMTP id 75E4B4003C
 for <test-report@dpdk.org>; Wed, 28 Feb 2024 08:36:10 +0100 (CET)
Received: by mail-yw1-f227.google.com with SMTP id
 00721157ae682-6093b4f82ceso4386317b3.3
 for <test-report@dpdk.org>; Tue, 27 Feb 2024 23:36:10 -0800 (PST)
DKIM-Signature: v=1; a=rsa-sha256; c=relaxed/relaxed;
 d=iol.unh.edu; s=unh-iol; t=1709105770; x=1709710570; darn=dpdk.org;
 h=references:in-reply-to:cc:to:from:subject:message-id:date:from:to
 :cc:subject:date:message-id:reply-to;
 bh=s/h9EGKMaC2PKizc93jiZJ69kA99FhXsgl13bIFyQ4c=;
 b=LjZRMoqv9Tug9MP66VWCDGJbgdm3qE33XmD2OU5KHrX0cN3IJoloZVRlOsfb111fQM
 1+yWWwO4ExtWKUkLMS2rJw+1HdV8c0wmmW09bKeNao6XV0+y4iqMkB+zDvqo4sMs3TX3
 YX0iJqtlxiKt+AkDN1pLCGM08YGyASXk1kpLQ=
X-Google-DKIM-Signature: v=1; a=rsa-sha256; c=relaxed/relaxed;
 d=1e100.net; s=20230601; t=1709105770; x=1709710570;
 h=references:in-reply-to:cc:to:from:subject:message-id:date
 :x-gm-message-state:from:to:cc:subject:date:message-id:reply-to;
 bh=s/h9EGKMaC2PKizc93jiZJ69kA99FhXsgl13bIFyQ4c=;
 b=b51Ckj62SgT4RstMNQDKPM9YYhi8eIRd3m7OAfoTVfj/QUE5C6zi5QPpJFlB54TOtB
 XER2ZfkiPn1/Uc3avU9fglWAss0Pnk+v+Oh1+E/F29oyNWt+vAcj7poMr41wA8jCS+3Z
 pDSqU6lfNHpZ5oDQj6KUvFohPGqSU7bicR8EfCUsDsYxqcAy5h3mQyxGD6dYeGMMOzKr
 skdC1Gd+gPnTmfOXZdu1mDeudZgAcF5IShR1yIFpexJXuuFC5A8aCDSgF93vP8kDnU5d
 vJfuwOLllghRfye7fP22YxKu8TUhxtsNneT5+JlHP5uvF2Jzss4guc3KkAR4q0UGoC/d
 gJCw==
X-Gm-Message-State: AOJu0YyXy5z2w52dceq5eWAGYIKrfaytJ1Fkwccmm9fTlx4x85LQQIh8
 V/r/Bhdn6IQk0BvfIXc0WiBJ7PeQ+49OU6Bxivaok8xvh/1EDSrkcmb6BHtw10lknJ02gGBf7M5
 sbkNMXDLPLocCMO62lVh1QqHMsKk63kANZlX1wiOJqi/dESkzuLP1FITz
X-Google-Smtp-Source: AGHT+IFnuFoc1imuvipNSh6rptO5zMU2hCe5ncetaB4TiCe3LQgdEDY/3UmV/iFQB8xK5L8+t46k5OOXz3+v
X-Received: by 2002:a0d:db46:0:b0:608:b73c:d0c8 with SMTP id
 d67-20020a0ddb46000000b00608b73cd0c8mr4941595ywe.17.1709105769418; 
 Tue, 27 Feb 2024 23:36:09 -0800 (PST)
Received: from postal.iol.unh.edu (postal.iol.unh.edu.
 [2606:4100:3880:1234::84]) by smtp-relay.gmail.com with ESMTPS id
 m204-20020a8171d5000000b0060784b52b43sm610251ywc.53.2024.02.27.23.36.09
 (version=TLS1_2 cipher=ECDHE-ECDSA-AES128-GCM-SHA256 bits=128/128);
 Tue, 27 Feb 2024 23:36:09 -0800 (PST)
X-Relaying-Domain: iol.unh.edu
Date: Tue, 27 Feb 2024 23:36:09 -0800 (PST)
Message-ID: <65dee269.810a0220.6e542.0f4eSMTPIN_ADDED_MISSING@mx.google.com>
Received: from [172.21.0.7] (unknown [172.18.0.240])
 by postal.iol.unh.edu (Postfix) with ESMTP id 186AF60527CD;
 Wed, 28 Feb 2024 02:36:09 -0500 (EST)
Subject: |SUCCESS| pw137397-137398 [PATCH] [2/2] build: build ring library wi
From: dpdklab@iol.unh.edu
To: Test Report <test-report@dpdk.org>
Cc: dpdk-test-reports@iol.unh.edu
In-Reply-To: <1709061720-4843-3-git-send-email-roretzla@linux.microsoft.com>
References: <1709061720-4843-3-git-send-email-roretzla@linux.microsoft.com>
Content-Type: text/plain
X-BeenThere: test-report@dpdk.org
X-Mailman-Version: 2.1.29
Precedence: list
List-Id: automatic DPDK test reports <test-report.dpdk.org>
List-Unsubscribe: <https://mails.dpdk.org/options/test-report>,
 <mailto:test-report-request@dpdk.org?subject=unsubscribe>
List-Archive: <http://mails.dpdk.org/archives/test-report/>
List-Post: <mailto:test-report@dpdk.org>
List-Help: <mailto:test-report-request@dpdk.org?subject=help>
List-Subscribe: <https://mails.dpdk.org/listinfo/test-report>,
 <mailto:test-report-request@dpdk.org?subject=subscribe>
Errors-To: test-report-bounces@dpdk.org

Test-Label: iol-compile-arm64-testing
Test-Status: SUCCESS
http://dpdk.org/patch/137398

_Testing PASS_

Submitter: Tyler Retzlaff <roretzla@linux.microsoft.com>
Date: Tuesday, February 27 2024 19:22:00 
DPDK git baseline: Repo:dpdk
  Branch: master
  CommitID:92c0ad70caf3ed6f4b93de6ddaf7bc369737c049

137397-137398 --> testing pass

Test environment and result as below:

+----------------------------------------+--------------------+
|              Environment               | dpdk_meson_compile |
+========================================+====================+
| Ubuntu 20.04 ARM SVE                   | PASS               |
+----------------------------------------+--------------------+
| Ubuntu 20.04 aarch32 GCC Cross Compile | PASS               |
+----------------------------------------+--------------------+
| Ubuntu 20.04 ARM Clang Cross Compile   | PASS               |
+----------------------------------------+--------------------+
| Ubuntu 20.04 ARM GCC Cross Compile     | PASS               |
+----------------------------------------+--------------------+
| Debian 12 (arm)                        | PASS               |
+----------------------------------------+--------------------+
| CentOS Stream 9 (ARM)                  | PASS               |
+----------------------------------------+--------------------+
| Debian 11 (Buster) (ARM)               | PASS               |
+----------------------------------------+--------------------+
| Fedora 38 (ARM Clang)                  | PASS               |
+----------------------------------------+--------------------+
| Fedora 37 (ARM)                        | PASS               |
+----------------------------------------+--------------------+
| Ubuntu 20.04 (ARM)                     | PASS               |
+----------------------------------------+--------------------+
| Fedora 38 (ARM)                        | PASS               |
+----------------------------------------+--------------------+


Ubuntu 20.04 ARM SVE
	Kernel: 5.4.0-80-generic
	Compiler: gcc 10.3.0 (Ubuntu 10.3.0-1ubuntu1~20.04)

Ubuntu 20.04 aarch32 GCC Cross Compile
	Kernel: 5.4.0-72-generic
	Compiler: gcc 9.3.0

Ubuntu 20.04 ARM Clang Cross Compile
	Kernel: 5.4.0-72-generic
	Compiler: clang version 10.0.0-4ubuntu1

Ubuntu 20.04 ARM GCC Cross Compile
	Kernel: 5.4.0-72-generic
	Compiler: aarch64-linux-gnu-gcc (Ubuntu 9.3.0-17ubuntu1~20.04) 9.3.0

Debian 12 (arm)
	Kernel: Container Host Kernel
	Compiler: gcc 11

CentOS Stream 9 (ARM)
	Kernel: Container Host Kernel
	Compiler: gcc 11.3.1

Debian 11 (Buster) (ARM)
	Kernel: Container Host Kernel
	Compiler: gcc 10.2.1

Fedora 38 (ARM Clang)
	Kernel: Depends on container host
	Compiler: clang 16.0.3

Fedora 37 (ARM)
	Kernel: Depends on container host
	Compiler: gcc 12.3.1

Ubuntu 20.04 (ARM)
	Kernel: Container Host Kernel
	Compiler: gcc 9.4.0

Fedora 38 (ARM)
	Kernel: Depends on container host
	Compiler: gcc 13.1.1

To view detailed results, visit:
https://lab.dpdk.org/results/dashboard/patchsets/29302/

UNH-IOL DPDK Community Lab

To manage your email subscriptions, visit: 
https://lab.dpdk.org/results/dashboard/preferences/subscriptions/