From mboxrd@z Thu Jan  1 00:00:00 1970
Return-Path: <test-report-bounces@dpdk.org>
Received: from mails.dpdk.org (mails.dpdk.org [217.70.189.124])
	by inbox.dpdk.org (Postfix) with ESMTP id 570E943C12
	for <public@inbox.dpdk.org>; Wed, 28 Feb 2024 09:45:24 +0100 (CET)
Received: from mails.dpdk.org (localhost [127.0.0.1])
	by mails.dpdk.org (Postfix) with ESMTP id 532824027D;
	Wed, 28 Feb 2024 09:45:24 +0100 (CET)
Received: from mail-io1-f98.google.com (mail-io1-f98.google.com
 [209.85.166.98]) by mails.dpdk.org (Postfix) with ESMTP id 0C0674003C
 for <test-report@dpdk.org>; Wed, 28 Feb 2024 09:45:23 +0100 (CET)
Received: by mail-io1-f98.google.com with SMTP id
 ca18e2360f4ac-7c7964d109aso198092639f.2
 for <test-report@dpdk.org>; Wed, 28 Feb 2024 00:45:22 -0800 (PST)
DKIM-Signature: v=1; a=rsa-sha256; c=relaxed/relaxed;
 d=iol.unh.edu; s=unh-iol; t=1709109922; x=1709714722; darn=dpdk.org;
 h=references:in-reply-to:cc:to:from:subject:message-id:date:from:to
 :cc:subject:date:message-id:reply-to;
 bh=KFbSd8ib+U9jPDvdrUfVg/EGD2P3P5nmG5CLF74glPU=;
 b=JInlP+67mxI2nfsc/W0yPlClWUqY5812PG4wCKXnux347omaHnu2VlcAF9n9FMe0Ci
 Iu0xExEp5V9T0btQX2QKbeIE64c+ed2w/2Dti75glhn/FHfO6iHZkVPrY9L0Rc64leyK
 XaPXUnsGhZx1I99b325m1U0RQ6lgPGZo5dxLc=
X-Google-DKIM-Signature: v=1; a=rsa-sha256; c=relaxed/relaxed;
 d=1e100.net; s=20230601; t=1709109922; x=1709714722;
 h=references:in-reply-to:cc:to:from:subject:message-id:date
 :x-gm-message-state:from:to:cc:subject:date:message-id:reply-to;
 bh=KFbSd8ib+U9jPDvdrUfVg/EGD2P3P5nmG5CLF74glPU=;
 b=gOw+xXdjcuQkBRt2JVBbFB0cift3u+y0o6ae0oarjfoZa+n51deWMdRTL5h/6S2/wI
 FoBhSzPuJ4/+YQPHOpMUmbHePMKR61Ftu89yE05aRCYZlmtSRcz404sBI8NXUYSukags
 tIX7skE6JGmaq6jUui7jrzIC/lCjBjYK0BP7CmOYOuL6dEPACAONEy6UmIVANw5uBPZ+
 jL624xHcHSi5hVjoRECwVu87dUOglzkvYrKc1EvtTcIqp29+cigGMeyKty3r6yQhV4MO
 /eA5XRGcDlqGAGiiWmxFOb6f7RvByI8WkPMBKM73KL+e2LbVQn1roUTnRy3FVqZntyj4
 SMHg==
X-Gm-Message-State: AOJu0YwcY8p/qbh8w7oTHsoD/BK2gT9HpJfPeofo8Uh/FvoUY3AjX+le
 rRZYet7x4lBQppnUda2RXZP+D36/fYvYM+bktmc1Z1RX1Qp040VsNncJG2VyXMCuJ3Hrm72lPR7
 Rau9bZHZRqRJcuKIoZHX7sE9NgXte5rIywo4g/J59qtzF8EnBrNJAxxKR
X-Google-Smtp-Source: AGHT+IFbW6SPG9ufgK+fKyBle3Sj63T7S9sNTLIHiprTPhnEoYXy943UcmCzVe3VX2BM/YXRWusoPvbQzPw9
X-Received: by 2002:a6b:6004:0:b0:7c7:e3b9:2e90 with SMTP id
 r4-20020a6b6004000000b007c7e3b92e90mr3805814iog.1.1709109922425; 
 Wed, 28 Feb 2024 00:45:22 -0800 (PST)
Received: from postal.iol.unh.edu (postal.iol.unh.edu.
 [2606:4100:3880:1234::84]) by smtp-relay.gmail.com with ESMTPS id
 k18-20020a6bf712000000b007c76bc20260sm307327iog.20.2024.02.28.00.45.22
 (version=TLS1_2 cipher=ECDHE-ECDSA-AES128-GCM-SHA256 bits=128/128);
 Wed, 28 Feb 2024 00:45:22 -0800 (PST)
X-Relaying-Domain: iol.unh.edu
Date: Wed, 28 Feb 2024 00:45:22 -0800 (PST)
Message-ID: <65def2a2.6b0a0220.63fd6.6540SMTPIN_ADDED_MISSING@mx.google.com>
Received: from [172.21.0.10] (unknown [172.18.0.240])
 by postal.iol.unh.edu (Postfix) with ESMTP id EF658605250F;
 Wed, 28 Feb 2024 03:45:21 -0500 (EST)
Subject: |SUCCESS| pw137407-137409 [PATCH] [v3,6/6] table: replace zero lengt
From: dpdklab@iol.unh.edu
To: Test Report <test-report@dpdk.org>
Cc: dpdk-test-reports@iol.unh.edu
In-Reply-To: <1709078215-20292-7-git-send-email-roretzla@linux.microsoft.com>
References: <1709078215-20292-7-git-send-email-roretzla@linux.microsoft.com>
Content-Type: text/plain
X-BeenThere: test-report@dpdk.org
X-Mailman-Version: 2.1.29
Precedence: list
List-Id: automatic DPDK test reports <test-report.dpdk.org>
List-Unsubscribe: <https://mails.dpdk.org/options/test-report>,
 <mailto:test-report-request@dpdk.org?subject=unsubscribe>
List-Archive: <http://mails.dpdk.org/archives/test-report/>
List-Post: <mailto:test-report@dpdk.org>
List-Help: <mailto:test-report-request@dpdk.org?subject=help>
List-Subscribe: <https://mails.dpdk.org/listinfo/test-report>,
 <mailto:test-report-request@dpdk.org?subject=subscribe>
Errors-To: test-report-bounces@dpdk.org

Test-Label: iol-unit-amd64-testing
Test-Status: SUCCESS
http://dpdk.org/patch/137409

_Testing PASS_

Submitter: Tyler Retzlaff <roretzla@linux.microsoft.com>
Date: Tuesday, February 27 2024 23:56:55 
DPDK git baseline: Repo:dpdk
  Branch: master
  CommitID:92c0ad70caf3ed6f4b93de6ddaf7bc369737c049

137407-137409 --> testing pass

Test environment and result as below:

+------------------+----------------+
|   Environment    | dpdk_unit_test |
+==================+================+
| CentOS Stream 9  | PASS           |
+------------------+----------------+
| Debian Bullseye  | PASS           |
+------------------+----------------+
| CentOS Stream 8  | PASS           |
+------------------+----------------+
| Fedora 37        | PASS           |
+------------------+----------------+
| Debian 12 (arm)  | PASS           |
+------------------+----------------+
| Ubuntu 20.04     | PASS           |
+------------------+----------------+
| Fedora 38        | PASS           |
+------------------+----------------+
| RHEL8            | PASS           |
+------------------+----------------+
| Ubuntu 22.04     | PASS           |
+------------------+----------------+
| openSUSE Leap 15 | PASS           |
+------------------+----------------+


CentOS Stream 9
	Kernel: 4.18.0-240.10.1.el8_3.x86_64
	Compiler: gcc 11.3.1 20220421

Debian Bullseye
	Kernel: 5.4.0-122-generic
	Compiler: gcc 10.2.1-6

CentOS Stream 8
	Kernel: 4.18.0-240.10.1.el8_3.x86_64
	Compiler: gcc 8.4.1 20200928

Fedora 37
	Kernel: Depends on container host system
	Compiler: gcc 12.3.1

Debian 12 (arm)
	Kernel: Container Host Kernel
	Compiler: gcc 11

Ubuntu 20.04
	Kernel: 5.4.0-153-generic
	Compiler: gcc 9.4.0-1ubuntu1~20.04.1

Fedora 38
	Kernel: Depends on container host
	Compiler: gcc 13.1.1

RHEL8
	Kernel: 4.18.0-240.10.1.el8_3.x86_64
	Compiler: gcc 8.3.1 20191121 (Red Hat 8.3.1-5)

Ubuntu 22.04
	Kernel: 4.18.0-240.10.1.el8_3.x86_64
	Compiler: gcc 11.3.0

openSUSE Leap 15
	Kernel: 4.18.0-240.10.1.el8_3.x86_64
	Compiler: gcc 7.5.0

To view detailed results, visit:
https://lab.dpdk.org/results/dashboard/patchsets/29306/

UNH-IOL DPDK Community Lab

To manage your email subscriptions, visit: 
https://lab.dpdk.org/results/dashboard/preferences/subscriptions/