From mboxrd@z Thu Jan  1 00:00:00 1970
Return-Path: <test-report-bounces@dpdk.org>
Received: from mails.dpdk.org (mails.dpdk.org [217.70.189.124])
	by inbox.dpdk.org (Postfix) with ESMTP id E2B0743C17
	for <public@inbox.dpdk.org>; Wed, 28 Feb 2024 09:57:43 +0100 (CET)
Received: from mails.dpdk.org (localhost [127.0.0.1])
	by mails.dpdk.org (Postfix) with ESMTP id DC8914027D;
	Wed, 28 Feb 2024 09:57:43 +0100 (CET)
Received: from mail-pf1-f228.google.com (mail-pf1-f228.google.com
 [209.85.210.228])
 by mails.dpdk.org (Postfix) with ESMTP id 26B1F4003C
 for <test-report@dpdk.org>; Wed, 28 Feb 2024 09:57:43 +0100 (CET)
Received: by mail-pf1-f228.google.com with SMTP id
 d2e1a72fcca58-6e4e7e25945so2937045b3a.1
 for <test-report@dpdk.org>; Wed, 28 Feb 2024 00:57:43 -0800 (PST)
DKIM-Signature: v=1; a=rsa-sha256; c=relaxed/relaxed;
 d=iol.unh.edu; s=unh-iol; t=1709110662; x=1709715462; darn=dpdk.org;
 h=references:in-reply-to:cc:to:from:subject:message-id:date:from:to
 :cc:subject:date:message-id:reply-to;
 bh=dPY0qscn3KbTINtbGTwu0UADtoVqIsI3Z2+tqBRs9z8=;
 b=SMYoS+ruxmLAcE5OzbFipxUuxG+2espCu+UsqHEfNyEDYMcP504K6n421+9LYD0ne4
 COE512tWQV/5+yWDJbs4scjNXQb4xMJGbpvDB3vOr0a/eyRfc41eNqC9jgYH1CGswjsH
 MF2nz7cIti7fR0sLarvA2sHL6+IlxKtWBiy6Y=
X-Google-DKIM-Signature: v=1; a=rsa-sha256; c=relaxed/relaxed;
 d=1e100.net; s=20230601; t=1709110662; x=1709715462;
 h=references:in-reply-to:cc:to:from:subject:message-id:date
 :x-gm-message-state:from:to:cc:subject:date:message-id:reply-to;
 bh=dPY0qscn3KbTINtbGTwu0UADtoVqIsI3Z2+tqBRs9z8=;
 b=YBum550c8V9ZAO7hBiEA1Trb3GiH6arIAvSTeuc44jdIKTfvNbJKJqa0e73qwovagQ
 JqT5z7Dsk8ftDvtdfpYkCDAmbVEwR5u1RFAOuF7nQ+x2uqFf+apQ8Iv8Jlk2pb8XjRun
 hjRuzJnVo5h/0gcKKHWuqcf0GC7UGkDZ2iUVq42218bP3njqSaU5+dcCE5u/BEcEvCpS
 bFCAGA0KaXFTEGgiJXxrV9vU7Uea3TNvpEhQEVqfHsSiEcnEfUTKIkwxfslz7lgsNYba
 Vm/h1wJjjUoJlKamlmdj58bNlWkhEBfaCoIpJXoM4GGFH5YurYCX3b69gpr5PS7YmYrT
 zUKQ==
X-Gm-Message-State: AOJu0YyMVPhemg4YdFIMvb58qI6vJcJIJ4C82YuzyJLEwIOwAhLtL8HR
 Khu0DqbflCbmCAO3ThIJZPZ+WTKpvF/xCDxS+1RSE7B/2oSjM9D7x+5VIqiqDa18PxVcfNNDXU0
 /GmVBMnhuN9T6EmMs7ugRje5rSuwPQdZrzEQBOue3
X-Google-Smtp-Source: AGHT+IEKaeszHZMzxq/VSob20+bs0XmO97b78VXP6ZM5Z8Gy81SaACZypDAPgdcCn/IDDCu1XvdgEk3Pk0Pj
X-Received: by 2002:a05:6a00:1395:b0:6e5:675f:a60e with SMTP id
 t21-20020a056a00139500b006e5675fa60emr805472pfg.30.1709110662303; 
 Wed, 28 Feb 2024 00:57:42 -0800 (PST)
Received: from postal.iol.unh.edu (postal.iol.unh.edu. [132.177.123.84])
 by smtp-relay.gmail.com with ESMTPS id
 z66-20020a626545000000b006e4683cd9ffsm531086pfb.9.2024.02.28.00.57.42
 (version=TLS1_2 cipher=ECDHE-ECDSA-AES128-GCM-SHA256 bits=128/128);
 Wed, 28 Feb 2024 00:57:42 -0800 (PST)
X-Relaying-Domain: iol.unh.edu
Date: Wed, 28 Feb 2024 00:57:42 -0800 (PST)
Message-ID: <65def586.620a0220.49fcd.29d7SMTPIN_ADDED_MISSING@mx.google.com>
Received: from [172.17.0.7] (unknown [172.18.0.217])
 by postal.iol.unh.edu (Postfix) with ESMTP id 88DEB6052510;
 Wed, 28 Feb 2024 03:57:41 -0500 (EST)
Subject: |SUCCESS| pw137407-137409 [PATCH] [v3,6/6] table: replace zero lengt
From: dpdklab@iol.unh.edu
To: Test Report <test-report@dpdk.org>
Cc: dpdk-test-reports@iol.unh.edu
In-Reply-To: <1709078215-20292-7-git-send-email-roretzla@linux.microsoft.com>
References: <1709078215-20292-7-git-send-email-roretzla@linux.microsoft.com>
Content-Type: text/plain
X-BeenThere: test-report@dpdk.org
X-Mailman-Version: 2.1.29
Precedence: list
List-Id: automatic DPDK test reports <test-report.dpdk.org>
List-Unsubscribe: <https://mails.dpdk.org/options/test-report>,
 <mailto:test-report-request@dpdk.org?subject=unsubscribe>
List-Archive: <http://mails.dpdk.org/archives/test-report/>
List-Post: <mailto:test-report@dpdk.org>
List-Help: <mailto:test-report-request@dpdk.org?subject=help>
List-Subscribe: <https://mails.dpdk.org/listinfo/test-report>,
 <mailto:test-report-request@dpdk.org?subject=subscribe>
Errors-To: test-report-bounces@dpdk.org

Test-Label: iol-compile-arm64-testing
Test-Status: SUCCESS
http://dpdk.org/patch/137409

_Testing PASS_

Submitter: Tyler Retzlaff <roretzla@linux.microsoft.com>
Date: Tuesday, February 27 2024 23:56:55 
DPDK git baseline: Repo:dpdk
  Branch: master
  CommitID:92c0ad70caf3ed6f4b93de6ddaf7bc369737c049

137407-137409 --> testing pass

Test environment and result as below:

+----------------------------------------+--------------------+
|              Environment               | dpdk_meson_compile |
+========================================+====================+
| Ubuntu 20.04 ARM SVE                   | PASS               |
+----------------------------------------+--------------------+
| Ubuntu 20.04 aarch32 GCC Cross Compile | PASS               |
+----------------------------------------+--------------------+
| Fedora 37 (ARM)                        | PASS               |
+----------------------------------------+--------------------+
| Debian 11 (Buster) (ARM)               | PASS               |
+----------------------------------------+--------------------+


Ubuntu 20.04 ARM SVE
	Kernel: 5.4.0-80-generic
	Compiler: gcc 10.3.0 (Ubuntu 10.3.0-1ubuntu1~20.04)

Ubuntu 20.04 aarch32 GCC Cross Compile
	Kernel: 5.4.0-72-generic
	Compiler: gcc 9.3.0

Fedora 37 (ARM)
	Kernel: Depends on container host
	Compiler: gcc 12.3.1

Debian 11 (Buster) (ARM)
	Kernel: Container Host Kernel
	Compiler: gcc 10.2.1

To view detailed results, visit:
https://lab.dpdk.org/results/dashboard/patchsets/29306/

UNH-IOL DPDK Community Lab

To manage your email subscriptions, visit: 
https://lab.dpdk.org/results/dashboard/preferences/subscriptions/