From mboxrd@z Thu Jan  1 00:00:00 1970
Return-Path: <test-report-bounces@dpdk.org>
Received: from mails.dpdk.org (mails.dpdk.org [217.70.189.124])
	by inbox.dpdk.org (Postfix) with ESMTP id AB5BC43C23
	for <public@inbox.dpdk.org>; Wed, 28 Feb 2024 11:56:38 +0100 (CET)
Received: from mails.dpdk.org (localhost [127.0.0.1])
	by mails.dpdk.org (Postfix) with ESMTP id A0193410E7;
	Wed, 28 Feb 2024 11:56:38 +0100 (CET)
Received: from mail-io1-f97.google.com (mail-io1-f97.google.com
 [209.85.166.97]) by mails.dpdk.org (Postfix) with ESMTP id 194A9410D3
 for <test-report@dpdk.org>; Wed, 28 Feb 2024 11:56:36 +0100 (CET)
Received: by mail-io1-f97.google.com with SMTP id
 ca18e2360f4ac-7c796072dafso232619439f.0
 for <test-report@dpdk.org>; Wed, 28 Feb 2024 02:56:36 -0800 (PST)
DKIM-Signature: v=1; a=rsa-sha256; c=relaxed/relaxed;
 d=iol.unh.edu; s=unh-iol; t=1709117795; x=1709722595; darn=dpdk.org;
 h=references:in-reply-to:cc:to:from:subject:message-id:date:from:to
 :cc:subject:date:message-id:reply-to;
 bh=io+3VyH8Y7yNk3q07Ba+PjsKS12cCMjJ+hF4sJ4ZhM4=;
 b=J5WU/NTdjeioyIM5oPXgT29oA3ZwK4um9SG4o7BFxE3eyEbHTCKRbEHLI0XSz4RIDg
 oG71Yeva8M5twxfAE+PJ/1dA1W4LOMeOliALQJAUV0FlNIDODQ51C3lNlCK3uMg32Ej0
 KBglAAsLWUJdumzqj7L30I3ZjxPmCOhMso010=
X-Google-DKIM-Signature: v=1; a=rsa-sha256; c=relaxed/relaxed;
 d=1e100.net; s=20230601; t=1709117795; x=1709722595;
 h=references:in-reply-to:cc:to:from:subject:message-id:date
 :x-gm-message-state:from:to:cc:subject:date:message-id:reply-to;
 bh=io+3VyH8Y7yNk3q07Ba+PjsKS12cCMjJ+hF4sJ4ZhM4=;
 b=b5DkKgaaKKp4RgxySkv9qTy3FzDNdaruvpSgiWCW6OgSAqxJ5FTxxK0Imx9vDQyl23
 c4OiT/2avbpgCHLFLaJZ8McJ8u1IM4OEUCf0qoDvARxaLMG9r0W+HQs2bRHga/veuVI9
 sASw2TJ37NWVWZRmsPy84udmeBPpTSgtPTFTGnrL3ZwvCjJv69SCia8849zUA1cVDq2v
 SZxGPpU1ETemcC1hl7kdDTwksKUX8fnujAIRDnZ/qpFXyA0qeQhDwD8ja7oTRm5wzyuJ
 KLFX4WaHTCPaTPsMWx9Q8iTuZ3pBIXOPosZ9bc+sGMXCzYZAKH7yRIHMmFs6837793J0
 b4+g==
X-Gm-Message-State: AOJu0Yyvn+C0sa84SbnB+SyAOouBEwZzrEpgTVr0L6+PEJiz/Pzzy1+9
 JewHLmxs/+FfEwouV2gBQBTrlY4I/L8zmp/PJlcu1rdPtpCfXNmO5c0CxmELTzyuvVSxFMqOBrw
 pCQIwBzyKY6AZlJiQ/tfbY92oXXiw2WEffZIVzG3P7okRZDzzBXIGl7Bn
X-Google-Smtp-Source: AGHT+IGZUU46Lz5T/a2trjUQSmm4MTo/Zdf5MBHWcK+YXHeHyq8MyCwnpUNcwPR4W4VHw/dNzw73V2845K7B
X-Received: by 2002:a05:6602:29a1:b0:7c7:9776:9b02 with SMTP id
 u1-20020a05660229a100b007c797769b02mr14577778ios.14.1709117795471; 
 Wed, 28 Feb 2024 02:56:35 -0800 (PST)
Received: from postal.iol.unh.edu (postal.iol.unh.edu.
 [2606:4100:3880:1234::84]) by smtp-relay.gmail.com with ESMTPS id
 k14-20020a02c64e000000b004747da64146sm216255jan.22.2024.02.28.02.56.35
 (version=TLS1_2 cipher=ECDHE-ECDSA-AES128-GCM-SHA256 bits=128/128);
 Wed, 28 Feb 2024 02:56:35 -0800 (PST)
X-Relaying-Domain: iol.unh.edu
Date: Wed, 28 Feb 2024 02:56:35 -0800 (PST)
Message-ID: <65df1163.020a0220.f0361.ddb2SMTPIN_ADDED_MISSING@mx.google.com>
Received: from [172.17.0.9] (unknown [172.18.0.217])
 by postal.iol.unh.edu (Postfix) with ESMTP id F3BF06052510;
 Wed, 28 Feb 2024 05:56:34 -0500 (EST)
Subject: |SUCCESS| pw137411 [PATCH] common/cnxk: fix Coverity issues
From: dpdklab@iol.unh.edu
To: Test Report <test-report@dpdk.org>
Cc: dpdk-test-reports@iol.unh.edu
In-Reply-To: <20240228064643.1923169-1-psatheesh@marvell.com>
References: <20240228064643.1923169-1-psatheesh@marvell.com>
Content-Type: text/plain
X-BeenThere: test-report@dpdk.org
X-Mailman-Version: 2.1.29
Precedence: list
List-Id: automatic DPDK test reports <test-report.dpdk.org>
List-Unsubscribe: <https://mails.dpdk.org/options/test-report>,
 <mailto:test-report-request@dpdk.org?subject=unsubscribe>
List-Archive: <http://mails.dpdk.org/archives/test-report/>
List-Post: <mailto:test-report@dpdk.org>
List-Help: <mailto:test-report-request@dpdk.org?subject=help>
List-Subscribe: <https://mails.dpdk.org/listinfo/test-report>,
 <mailto:test-report-request@dpdk.org?subject=subscribe>
Errors-To: test-report-bounces@dpdk.org

Test-Label: iol-compile-amd64-testing
Test-Status: SUCCESS
http://dpdk.org/patch/137411

_Testing PASS_

Submitter: Satheesh Paul Antonysamy <psatheesh@marvell.com>
Date: Wednesday, February 28 2024 06:46:43 
DPDK git baseline: Repo:dpdk
  Branch: master
  CommitID:ab5b7cd5a0b563e6d49be6c8beaad1f39c581a5c

137411 --> testing pass

Test environment and result as below:

+---------------------+--------------------+----------------------+
|     Environment     | dpdk_meson_compile | dpdk_mingw64_compile |
+=====================+====================+======================+
| Windows Server 2022 | PASS               | SKIPPED              |
+---------------------+--------------------+----------------------+
| FreeBSD 13.2        | PASS               | SKIPPED              |
+---------------------+--------------------+----------------------+
| Debian Bullseye     | PASS               | SKIPPED              |
+---------------------+--------------------+----------------------+
| CentOS Stream 9     | PASS               | SKIPPED              |
+---------------------+--------------------+----------------------+
| CentOS Stream 8     | PASS               | SKIPPED              |
+---------------------+--------------------+----------------------+
| Fedora 37           | PASS               | SKIPPED              |
+---------------------+--------------------+----------------------+
| Debian 12 (arm)     | PASS               | SKIPPED              |
+---------------------+--------------------+----------------------+
| RHEL8               | PASS               | SKIPPED              |
+---------------------+--------------------+----------------------+
| Ubuntu 20.04        | PASS               | SKIPPED              |
+---------------------+--------------------+----------------------+
| Fedora 38           | PASS               | SKIPPED              |
+---------------------+--------------------+----------------------+
| Ubuntu 22.04        | PASS               | SKIPPED              |
+---------------------+--------------------+----------------------+
| Alpine              | PASS               | SKIPPED              |
+---------------------+--------------------+----------------------+
| openSUSE Leap 15    | PASS               | SKIPPED              |
+---------------------+--------------------+----------------------+
| Windows Server 2019 | SKIPPED            | PASS                 |
+---------------------+--------------------+----------------------+


Windows Server 2022
	Kernel: OS Build 20348.2031
	Compiler: MSVC VS-Preview

FreeBSD 13.2
	Kernel: 13.2
	Compiler: clang 11.3.0

Debian Bullseye
	Kernel: 5.4.0-122-generic
	Compiler: gcc 10.2.1-6

CentOS Stream 9
	Kernel: 4.18.0-240.10.1.el8_3.x86_64
	Compiler: gcc 11.3.1 20220421

CentOS Stream 8
	Kernel: 4.18.0-240.10.1.el8_3.x86_64
	Compiler: gcc 8.4.1 20200928

Fedora 37
	Kernel: Depends on container host system
	Compiler: gcc 12.3.1

Debian 12 (arm)
	Kernel: Container Host Kernel
	Compiler: gcc 11

RHEL8
	Kernel: 4.18.0-240.10.1.el8_3.x86_64
	Compiler: gcc 8.3.1 20191121 (Red Hat 8.3.1-5)

Ubuntu 20.04
	Kernel: 5.4.0-153-generic
	Compiler: gcc 9.4.0-1ubuntu1~20.04.1

Fedora 38
	Kernel: Depends on container host
	Compiler: gcc 13.1.1

Ubuntu 22.04
	Kernel: 4.18.0-240.10.1.el8_3.x86_64
	Compiler: gcc 11.3.0

Alpine
	Kernel: 5.4.0-73-generic
	Compiler: gcc (Alpine 10.3.1_git20210424) 10.3.1 20210424

openSUSE Leap 15
	Kernel: 4.18.0-240.10.1.el8_3.x86_64
	Compiler: gcc 7.5.0

Windows Server 2019
	Kernel: 10.0
	Compiler: clang 14.0 and gcc 8.1.0 (MinGW)

To view detailed results, visit:
https://lab.dpdk.org/results/dashboard/patchsets/29308/

UNH-IOL DPDK Community Lab

To manage your email subscriptions, visit: 
https://lab.dpdk.org/results/dashboard/preferences/subscriptions/