From mboxrd@z Thu Jan 1 00:00:00 1970 Return-Path: Received: from mails.dpdk.org (mails.dpdk.org [217.70.189.124]) by inbox.dpdk.org (Postfix) with ESMTP id 2224343C24 for ; Wed, 28 Feb 2024 12:06:08 +0100 (CET) Received: from mails.dpdk.org (localhost [127.0.0.1]) by mails.dpdk.org (Postfix) with ESMTP id 1E92E41144; Wed, 28 Feb 2024 12:06:08 +0100 (CET) Received: from mail-pl1-f226.google.com (mail-pl1-f226.google.com [209.85.214.226]) by mails.dpdk.org (Postfix) with ESMTP id D45FE40295 for ; Wed, 28 Feb 2024 12:05:55 +0100 (CET) Received: by mail-pl1-f226.google.com with SMTP id d9443c01a7336-1dcb3e6ff3fso19392705ad.2 for ; Wed, 28 Feb 2024 03:05:55 -0800 (PST) DKIM-Signature: v=1; a=rsa-sha256; c=relaxed/relaxed; d=iol.unh.edu; s=unh-iol; t=1709118355; x=1709723155; darn=dpdk.org; h=references:in-reply-to:cc:to:from:subject:message-id:date:from:to :cc:subject:date:message-id:reply-to; bh=LqU6VnIwAw7M+q0z2+2QXE4fQv4ItYQAMUpDHorIRi8=; b=dYp215MX/8gv2H0CBOaxL1Y/pWOxUdczCT7MhL6j22J1hYgw+Zp4sUZvh5X0i7AafD cZqBLR2AlXcRVlmM9Sg7XOQ9OX5IHv66ngUQTwZv3Xzd4BCgkkdvoSVtoHaadCpbR0w+ +TLMIo3GmZ1bmsQQwUrEKLEgm0v6V6ALiqoKM= X-Google-DKIM-Signature: v=1; a=rsa-sha256; c=relaxed/relaxed; d=1e100.net; s=20230601; t=1709118355; x=1709723155; h=references:in-reply-to:cc:to:from:subject:message-id:date :x-gm-message-state:from:to:cc:subject:date:message-id:reply-to; bh=LqU6VnIwAw7M+q0z2+2QXE4fQv4ItYQAMUpDHorIRi8=; b=jsOKE12091gfWT2iJd4w3aKd/nqGyMhON96qqDQmPChdoeEui/QmEwRmj7MtgvdGsv 0gvqo8s/XBX2TDX6tMMcOUHySfhATPUv8jxOX87fbCx+mRHBi/C5IfSOekBLnCxm32Cp HyGE7sUBDnu5vJHYO0bkim/Sx+JfkqqIspj+2jOKqokQRsvATI4KpAt27mHSkhQa4vwu nBKnSCTjjWmtJMtx1w/OcGgqz8m5aH3RyTdkgSTYQWxI2nuLrBhDj++p180oC6Ae9TCi UOYSO5Q6A4dEDlzTx6v3kr28mqwQqB3J4qchHKsEWDHL0WT4wW3byHlfyAGv0EDHr3Ts 3u6w== X-Gm-Message-State: AOJu0Yz+6vz3C8gBFiTTNhmATxk05p7X5SUupL6tTRfiVW8PmoIsbcSm mfOaK7/OWXK0RY4RkYDwzeBvO4qhlkqMo6099mWobB/HQ/IbarextwPUB7y8DUJorYL9teWg78D Yhdf1F3ImG5Mj0PaACN43JsJDdORaE6fNPrHy36niX+tD2Wy9lejvZN+K X-Google-Smtp-Source: AGHT+IH1m6kH53sMmN40MqHlxpPNNRCW6N7W2Kw3+Jepfe1DCifOA1YuPVZ0g2TfOwgovEaAx1yX1LzgIEdp X-Received: by 2002:a17:902:9a46:b0:1dc:3402:354e with SMTP id x6-20020a1709029a4600b001dc3402354emr11506801plv.54.1709118355031; Wed, 28 Feb 2024 03:05:55 -0800 (PST) Received: from postal.iol.unh.edu (postal.iol.unh.edu. [2606:4100:3880:1234::84]) by smtp-relay.gmail.com with ESMTPS id v9-20020a170902e8c900b001db5379cbb0sm124840plg.50.2024.02.28.03.05.54 (version=TLS1_2 cipher=ECDHE-ECDSA-AES128-GCM-SHA256 bits=128/128); Wed, 28 Feb 2024 03:05:55 -0800 (PST) X-Relaying-Domain: iol.unh.edu Date: Wed, 28 Feb 2024 03:05:55 -0800 (PST) Message-ID: <65df1393.170a0220.72927.7859SMTPIN_ADDED_MISSING@mx.google.com> Received: from [172.17.0.6] (unknown [172.18.0.217]) by postal.iol.unh.edu (Postfix) with ESMTP id 7CA576052510; Wed, 28 Feb 2024 06:05:54 -0500 (EST) Subject: |SUCCESS| pw137411 [PATCH] common/cnxk: fix Coverity issues From: dpdklab@iol.unh.edu To: Test Report Cc: dpdk-test-reports@iol.unh.edu In-Reply-To: <20240228064643.1923169-1-psatheesh@marvell.com> References: <20240228064643.1923169-1-psatheesh@marvell.com> Content-Type: text/plain X-BeenThere: test-report@dpdk.org X-Mailman-Version: 2.1.29 Precedence: list List-Id: automatic DPDK test reports List-Unsubscribe: , List-Archive: List-Post: List-Help: List-Subscribe: , Errors-To: test-report-bounces@dpdk.org Test-Label: iol-compile-arm64-testing Test-Status: SUCCESS http://dpdk.org/patch/137411 _Testing PASS_ Submitter: Satheesh Paul Antonysamy Date: Wednesday, February 28 2024 06:46:43 DPDK git baseline: Repo:dpdk Branch: master CommitID:ab5b7cd5a0b563e6d49be6c8beaad1f39c581a5c 137411 --> testing pass Test environment and result as below: +----------------------------------------+--------------------+ | Environment | dpdk_meson_compile | +========================================+====================+ | Ubuntu 20.04 ARM SVE | PASS | +----------------------------------------+--------------------+ | Ubuntu 20.04 aarch32 GCC Cross Compile | PASS | +----------------------------------------+--------------------+ | Ubuntu 20.04 (ARM) | PASS | +----------------------------------------+--------------------+ | Fedora 38 (ARM) | PASS | +----------------------------------------+--------------------+ | Debian 12 (arm) | PASS | +----------------------------------------+--------------------+ | Debian 11 (Buster) (ARM) | PASS | +----------------------------------------+--------------------+ | Fedora 37 (ARM) | PASS | +----------------------------------------+--------------------+ | CentOS Stream 9 (ARM) | PASS | +----------------------------------------+--------------------+ Ubuntu 20.04 ARM SVE Kernel: 5.4.0-80-generic Compiler: gcc 10.3.0 (Ubuntu 10.3.0-1ubuntu1~20.04) Ubuntu 20.04 aarch32 GCC Cross Compile Kernel: 5.4.0-72-generic Compiler: gcc 9.3.0 Ubuntu 20.04 (ARM) Kernel: Container Host Kernel Compiler: gcc 9.4.0 Fedora 38 (ARM) Kernel: Depends on container host Compiler: gcc 13.1.1 Debian 12 (arm) Kernel: Container Host Kernel Compiler: gcc 11 Debian 11 (Buster) (ARM) Kernel: Container Host Kernel Compiler: gcc 10.2.1 Fedora 37 (ARM) Kernel: Depends on container host Compiler: gcc 12.3.1 CentOS Stream 9 (ARM) Kernel: Container Host Kernel Compiler: gcc 11.3.1 To view detailed results, visit: https://lab.dpdk.org/results/dashboard/patchsets/29308/ UNH-IOL DPDK Community Lab To manage your email subscriptions, visit: https://lab.dpdk.org/results/dashboard/preferences/subscriptions/