From mboxrd@z Thu Jan 1 00:00:00 1970 Return-Path: Received: from mails.dpdk.org (mails.dpdk.org [217.70.189.124]) by inbox.dpdk.org (Postfix) with ESMTP id B6BAA43C24 for ; Wed, 28 Feb 2024 12:13:08 +0100 (CET) Received: from mails.dpdk.org (localhost [127.0.0.1]) by mails.dpdk.org (Postfix) with ESMTP id 6B5D0410F2; Wed, 28 Feb 2024 12:13:08 +0100 (CET) Received: from mail-qv1-f99.google.com (mail-qv1-f99.google.com [209.85.219.99]) by mails.dpdk.org (Postfix) with ESMTP id A207F40295 for ; Wed, 28 Feb 2024 12:13:05 +0100 (CET) Received: by mail-qv1-f99.google.com with SMTP id 6a1803df08f44-68f41af71ebso48751736d6.1 for ; Wed, 28 Feb 2024 03:13:05 -0800 (PST) DKIM-Signature: v=1; a=rsa-sha256; c=relaxed/relaxed; d=iol.unh.edu; s=unh-iol; t=1709118785; x=1709723585; darn=dpdk.org; h=references:in-reply-to:cc:to:from:subject:message-id:date:from:to :cc:subject:date:message-id:reply-to; bh=cQX9T/rrmkukflYqDXOCwToun5Ke2dWf55xz9CzOGWc=; b=c3E6clkDoPBhQr82n2WH3WTZZEGah9cqt9tx0RHCouKfHyzYJbsMfNz9495Tbib/fA 2mZrJIoIuYht95sNMMSiIr6nQHFU7w2yVerUnKkMP4SGi4qyzbg3Im5vPdwPdubQybSp 3kskicIu906WDrxjiEFaBWYjLDpf0tjiK6k2U= X-Google-DKIM-Signature: v=1; a=rsa-sha256; c=relaxed/relaxed; d=1e100.net; s=20230601; t=1709118785; x=1709723585; h=references:in-reply-to:cc:to:from:subject:message-id:date :x-gm-message-state:from:to:cc:subject:date:message-id:reply-to; bh=cQX9T/rrmkukflYqDXOCwToun5Ke2dWf55xz9CzOGWc=; b=KCQzrUw2xJ8Ipeg7rQNSquLIGy/MSR3yIhCKGLBfPJxg2bPqWhnaB3idcUU9wE2VUE Ykujnh9Kg4f+3/W/LTfymZcSyjG68Z7Su7Q7MYjY1+ueT+7dmuojTPz/iGNbXSKR9XYn P+9n/u8aN+0JIrhw1c+GRqzByv52CDGFFPnFLZhh0eCr28L2vON0XGUeMDJyjHzKpGuA Ns8fsdqskUVYNQbHUWkDa9T+BEaNCMUX6pPwYtj+unZPbhX4sWKmFGJX2GWxblOobyoe GsQ1BVlns9DPxyuN1CcePdsQp21I3yjXAGzzWVo8HVh23T8fNNQohRA352/P9+tpsY3Y uk4A== X-Gm-Message-State: AOJu0YzUV2WCbqGDezdfrzbtKw5U3y8JNc7pm9DR4tvAykbeLP/YyiQh FbbNgwlrLhqoLrVENsFAGM3tG89mk4CUN52GwHoLXOSlupoxgp0NKG/e3PkRS/iMuiUjRtAn3Fn r4VJ4oNdi4JM+bRzey/hUNI7qckxjXoen2d5lJ0/P X-Google-Smtp-Source: AGHT+IHkysSbgy0D8gag2QFiilOGGYtIjlhMKdOo0lue1ldRdiVp2cyScM71nhkCiLEKrcYL+WLUo/N3nSkJ X-Received: by 2002:ad4:5943:0:b0:690:68a:72f7 with SMTP id eo3-20020ad45943000000b00690068a72f7mr5153203qvb.19.1709118785027; Wed, 28 Feb 2024 03:13:05 -0800 (PST) Received: from postal.iol.unh.edu (postal.iol.unh.edu. [132.177.123.84]) by smtp-relay.gmail.com with ESMTPS id 1-20020a0562140d0100b006901af174c7sm205209qvh.12.2024.02.28.03.13.04 (version=TLS1_2 cipher=ECDHE-ECDSA-AES128-GCM-SHA256 bits=128/128); Wed, 28 Feb 2024 03:13:05 -0800 (PST) X-Relaying-Domain: iol.unh.edu Date: Wed, 28 Feb 2024 03:13:05 -0800 (PST) Message-ID: <65df1541.050a0220.36cf0.b684SMTPIN_ADDED_MISSING@mx.google.com> Received: from [172.21.0.8] (unknown [172.18.0.240]) by postal.iol.unh.edu (Postfix) with ESMTP id B93B56052510; Wed, 28 Feb 2024 06:13:04 -0500 (EST) Subject: |SUCCESS| pw137411 [PATCH] common/cnxk: fix Coverity issues From: dpdklab@iol.unh.edu To: Test Report Cc: dpdk-test-reports@iol.unh.edu In-Reply-To: <20240228064643.1923169-1-psatheesh@marvell.com> References: <20240228064643.1923169-1-psatheesh@marvell.com> Content-Type: text/plain X-BeenThere: test-report@dpdk.org X-Mailman-Version: 2.1.29 Precedence: list List-Id: automatic DPDK test reports List-Unsubscribe: , List-Archive: List-Post: List-Help: List-Subscribe: , Errors-To: test-report-bounces@dpdk.org Test-Label: iol-abi-testing Test-Status: SUCCESS http://dpdk.org/patch/137411 _Testing PASS_ Submitter: Satheesh Paul Antonysamy Date: Wednesday, February 28 2024 06:46:43 DPDK git baseline: Repo:dpdk Branch: master CommitID:ab5b7cd5a0b563e6d49be6c8beaad1f39c581a5c 137411 --> testing pass Test environment and result as below: +------------------+----------+ | Environment | abi_test | +==================+==========+ | Debian Bullseye | PASS | +------------------+----------+ | CentOS Stream 9 | PASS | +------------------+----------+ | Fedora 38 | PASS | +------------------+----------+ | CentOS Stream 8 | PASS | +------------------+----------+ | openSUSE Leap 15 | PASS | +------------------+----------+ | Ubuntu 22.04 | PASS | +------------------+----------+ | RHEL8 | PASS | +------------------+----------+ | Fedora 37 | PASS | +------------------+----------+ Debian Bullseye Kernel: 5.4.0-122-generic Compiler: gcc 10.2.1-6 CentOS Stream 9 Kernel: 4.18.0-240.10.1.el8_3.x86_64 Compiler: gcc 11.3.1 20220421 Fedora 38 Kernel: Depends on container host Compiler: gcc 13.1.1 CentOS Stream 8 Kernel: 4.18.0-240.10.1.el8_3.x86_64 Compiler: gcc 8.4.1 20200928 openSUSE Leap 15 Kernel: 4.18.0-240.10.1.el8_3.x86_64 Compiler: gcc 7.5.0 Ubuntu 22.04 Kernel: 4.18.0-240.10.1.el8_3.x86_64 Compiler: gcc 11.3.0 RHEL8 Kernel: 4.18.0-240.10.1.el8_3.x86_64 Compiler: gcc 8.3.1 20191121 (Red Hat 8.3.1-5) Fedora 37 Kernel: Depends on container host system Compiler: gcc 12.3.1 To view detailed results, visit: https://lab.dpdk.org/results/dashboard/patchsets/29308/ UNH-IOL DPDK Community Lab To manage your email subscriptions, visit: https://lab.dpdk.org/results/dashboard/preferences/subscriptions/