From mboxrd@z Thu Jan  1 00:00:00 1970
Return-Path: <test-report-bounces@dpdk.org>
Received: from mails.dpdk.org (mails.dpdk.org [217.70.189.124])
	by inbox.dpdk.org (Postfix) with ESMTP id 39FFA43BA2
	for <public@inbox.dpdk.org>; Wed, 28 Feb 2024 12:23:18 +0100 (CET)
Received: from mails.dpdk.org (localhost [127.0.0.1])
	by mails.dpdk.org (Postfix) with ESMTP id 3299540295;
	Wed, 28 Feb 2024 12:23:18 +0100 (CET)
Received: from mail-io1-f99.google.com (mail-io1-f99.google.com
 [209.85.166.99]) by mails.dpdk.org (Postfix) with ESMTP id E05CA4003C
 for <test-report@dpdk.org>; Wed, 28 Feb 2024 12:23:16 +0100 (CET)
Received: by mail-io1-f99.google.com with SMTP id
 ca18e2360f4ac-7c76a566218so251674339f.2
 for <test-report@dpdk.org>; Wed, 28 Feb 2024 03:23:16 -0800 (PST)
DKIM-Signature: v=1; a=rsa-sha256; c=relaxed/relaxed;
 d=iol.unh.edu; s=unh-iol; t=1709119396; x=1709724196; darn=dpdk.org;
 h=references:in-reply-to:cc:to:from:subject:message-id:date:from:to
 :cc:subject:date:message-id:reply-to;
 bh=Qn8vTN7j+8M+4maNLaNDvpFCJgKaWsqt8GU2pNzW13E=;
 b=CxPZfTsEuxDc8gL3UAZ6+KCeBbfCFOPTAght4qhfoaw3e0gsGAalQO4CdZQipkKgAN
 bszxSfNl5j7DWCcEE8bgPQt0YQV0HtsGjA8XVZcex0SkQhXFK4emonx526eRPzj6lS/Q
 QTPuxBenG1JmAXUGHVFubLVZOjgaaeCKQYntQ=
X-Google-DKIM-Signature: v=1; a=rsa-sha256; c=relaxed/relaxed;
 d=1e100.net; s=20230601; t=1709119396; x=1709724196;
 h=references:in-reply-to:cc:to:from:subject:message-id:date
 :x-gm-message-state:from:to:cc:subject:date:message-id:reply-to;
 bh=Qn8vTN7j+8M+4maNLaNDvpFCJgKaWsqt8GU2pNzW13E=;
 b=Tbw/WYkP+IZHrEMcGXqIHmp6wiwcuaWbEDwvLR7YV/OpAWYs/YWEXPlZzdO/P43QOs
 C1Mg5Fb1x08dqsjBXWCwMutUXDnlPiJmxC0i5dW5JiJDOw5yZUdzaxaSK8CiGZYzmq9I
 wRfptzWsfxS4+vt4pYLZMdRfRnLa7wFEXVnZLaPRPVvqARFmu6mgQz4OFCOXiCC8zutb
 M7skiDxY/3185pcNCShG5YoxZujWVufkkC79v+YZTew203uB06Fgg7XPOOluJ5ERcu2I
 WQRFW/4SPxPBAYYSmIc8eaRVSe+UxV1rbr6dIsND+cXb581iB5b06IyRteaGEoJgFRos
 BEIw==
X-Gm-Message-State: AOJu0YzSsY5QA4QtCXkGQHIuGSEhybOkzBiX4Q/hhLxOJO2LOrFIt9yb
 50lYgMRMZv9xoyIAico3ucZsZgqkBCePHOzprSvmO/rxYPOHGAknVLkApuF2+CpRxTTrtdqiky6
 0H1XMvnjyofiJEBfTKWqojDGMu20xxS9117wShrav
X-Google-Smtp-Source: AGHT+IEiqjcY2W2wqqeEg8UjWHk0k8nHnaGg/t2Dl6niReekKSp1ainh1gTxIwFzVKASrf073eNqHsXcIHvp
X-Received: by 2002:a5e:8e0a:0:b0:7c7:ffc5:7920 with SMTP id
 a10-20020a5e8e0a000000b007c7ffc57920mr373833ion.9.1709119396304; 
 Wed, 28 Feb 2024 03:23:16 -0800 (PST)
Received: from postal.iol.unh.edu (postal.iol.unh.edu. [132.177.123.84])
 by smtp-relay.gmail.com with ESMTPS id
 fr17-20020a056602601100b007c49e10cc9fsm281307iob.32.2024.02.28.03.23.16
 (version=TLS1_2 cipher=ECDHE-ECDSA-AES128-GCM-SHA256 bits=128/128);
 Wed, 28 Feb 2024 03:23:16 -0800 (PST)
X-Relaying-Domain: iol.unh.edu
Date: Wed, 28 Feb 2024 03:23:16 -0800 (PST)
Message-ID: <65df17a4.050a0220.b51d5.38fbSMTPIN_ADDED_MISSING@mx.google.com>
Received: from [172.21.0.6] (unknown [172.18.0.240])
 by postal.iol.unh.edu (Postfix) with ESMTP id CDB3E6052510;
 Wed, 28 Feb 2024 06:23:15 -0500 (EST)
Subject: |SUCCESS| pw137411 [PATCH] common/cnxk: fix Coverity issues
From: dpdklab@iol.unh.edu
To: Test Report <test-report@dpdk.org>
Cc: dpdk-test-reports@iol.unh.edu
In-Reply-To: <20240228064643.1923169-1-psatheesh@marvell.com>
References: <20240228064643.1923169-1-psatheesh@marvell.com>
Content-Type: text/plain
X-BeenThere: test-report@dpdk.org
X-Mailman-Version: 2.1.29
Precedence: list
List-Id: automatic DPDK test reports <test-report.dpdk.org>
List-Unsubscribe: <https://mails.dpdk.org/options/test-report>,
 <mailto:test-report-request@dpdk.org?subject=unsubscribe>
List-Archive: <http://mails.dpdk.org/archives/test-report/>
List-Post: <mailto:test-report@dpdk.org>
List-Help: <mailto:test-report-request@dpdk.org?subject=help>
List-Subscribe: <https://mails.dpdk.org/listinfo/test-report>,
 <mailto:test-report-request@dpdk.org?subject=subscribe>
Errors-To: test-report-bounces@dpdk.org

Test-Label: iol-unit-amd64-testing
Test-Status: SUCCESS
http://dpdk.org/patch/137411

_Testing PASS_

Submitter: Satheesh Paul Antonysamy <psatheesh@marvell.com>
Date: Wednesday, February 28 2024 06:46:43 
DPDK git baseline: Repo:dpdk
  Branch: master
  CommitID:ab5b7cd5a0b563e6d49be6c8beaad1f39c581a5c

137411 --> testing pass

Test environment and result as below:

+------------------+----------------+
|   Environment    | dpdk_unit_test |
+==================+================+
| Debian 12 (arm)  | PASS           |
+------------------+----------------+
| CentOS Stream 8  | PASS           |
+------------------+----------------+
| Debian Bullseye  | PASS           |
+------------------+----------------+
| CentOS Stream 9  | PASS           |
+------------------+----------------+
| Ubuntu 20.04     | PASS           |
+------------------+----------------+
| Fedora 38        | PASS           |
+------------------+----------------+
| Fedora 37        | PASS           |
+------------------+----------------+
| openSUSE Leap 15 | PASS           |
+------------------+----------------+
| RHEL8            | PASS           |
+------------------+----------------+
| Ubuntu 22.04     | PASS           |
+------------------+----------------+


Debian 12 (arm)
	Kernel: Container Host Kernel
	Compiler: gcc 11

CentOS Stream 8
	Kernel: 4.18.0-240.10.1.el8_3.x86_64
	Compiler: gcc 8.4.1 20200928

Debian Bullseye
	Kernel: 5.4.0-122-generic
	Compiler: gcc 10.2.1-6

CentOS Stream 9
	Kernel: 4.18.0-240.10.1.el8_3.x86_64
	Compiler: gcc 11.3.1 20220421

Ubuntu 20.04
	Kernel: 5.4.0-153-generic
	Compiler: gcc 9.4.0-1ubuntu1~20.04.1

Fedora 38
	Kernel: Depends on container host
	Compiler: gcc 13.1.1

Fedora 37
	Kernel: Depends on container host system
	Compiler: gcc 12.3.1

openSUSE Leap 15
	Kernel: 4.18.0-240.10.1.el8_3.x86_64
	Compiler: gcc 7.5.0

RHEL8
	Kernel: 4.18.0-240.10.1.el8_3.x86_64
	Compiler: gcc 8.3.1 20191121 (Red Hat 8.3.1-5)

Ubuntu 22.04
	Kernel: 4.18.0-240.10.1.el8_3.x86_64
	Compiler: gcc 11.3.0

To view detailed results, visit:
https://lab.dpdk.org/results/dashboard/patchsets/29308/

UNH-IOL DPDK Community Lab

To manage your email subscriptions, visit: 
https://lab.dpdk.org/results/dashboard/preferences/subscriptions/