From mboxrd@z Thu Jan  1 00:00:00 1970
Return-Path: <test-report-bounces@dpdk.org>
Received: from mails.dpdk.org (mails.dpdk.org [217.70.189.124])
	by inbox.dpdk.org (Postfix) with ESMTP id 6AD1B43BA2
	for <public@inbox.dpdk.org>; Wed, 28 Feb 2024 12:23:50 +0100 (CET)
Received: from mails.dpdk.org (localhost [127.0.0.1])
	by mails.dpdk.org (Postfix) with ESMTP id 667C840295;
	Wed, 28 Feb 2024 12:23:50 +0100 (CET)
Received: from mail-yw1-f225.google.com (mail-yw1-f225.google.com
 [209.85.128.225])
 by mails.dpdk.org (Postfix) with ESMTP id 50A0D4003C
 for <test-report@dpdk.org>; Wed, 28 Feb 2024 12:23:40 +0100 (CET)
Received: by mail-yw1-f225.google.com with SMTP id
 00721157ae682-607dec82853so56353817b3.3
 for <test-report@dpdk.org>; Wed, 28 Feb 2024 03:23:40 -0800 (PST)
DKIM-Signature: v=1; a=rsa-sha256; c=relaxed/relaxed;
 d=iol.unh.edu; s=unh-iol; t=1709119419; x=1709724219; darn=dpdk.org;
 h=references:in-reply-to:cc:to:from:subject:message-id:date:from:to
 :cc:subject:date:message-id:reply-to;
 bh=ue/JDksMYzRbd+yFLxK2y/cRjp/+a0o+n9qq9m/RcfM=;
 b=ZYKIh4BGC4GOnnIv0fxiiritLpYTIz5uuJSW5Wyd8bul4UbJcTLxA5PtLkoTSpZxyf
 uYyBM/5dvzKJSqLm352HiFEmQvfBkECAb5Nj3sltCnrJ7doi4sUS5Z+pR9ePuIwHpv2M
 mIF40Tkh5NfqcYL4X5kllE38CedA6rU9CXjtA=
X-Google-DKIM-Signature: v=1; a=rsa-sha256; c=relaxed/relaxed;
 d=1e100.net; s=20230601; t=1709119419; x=1709724219;
 h=references:in-reply-to:cc:to:from:subject:message-id:date
 :x-gm-message-state:from:to:cc:subject:date:message-id:reply-to;
 bh=ue/JDksMYzRbd+yFLxK2y/cRjp/+a0o+n9qq9m/RcfM=;
 b=R7dzfGV+1M7uC0CTntpEpm546TfIYbeSndG0MXxYUH82Jpv0tED7U4bZVufd8Up+JZ
 TQkAgcMYQ+d+plOSx/AZm4R6DFOLy3nP+yM0mNyyYxXe0aMkG+X5wlwF/7yG6SRsLr40
 WOhnvXI9mBxn/LL3Cz0wA2jtUuj5JViu/63bKTIV8o6pAGFdmQO09EKx7W/zstSFJFgd
 fTxevKEbS4eQWWJLfNaNENO3C/sz6LLV3Nbc9hWu/Si9t+O6p3Moxe8P3P6+Ra6xmwaE
 i8qB1Y+ROnfC2LJzrwhX+c9RQ/QQXxIOH7Ux5tKC0YnxnaJJMZXmpO13oZ6vSD0EIhlK
 +1Bw==
X-Gm-Message-State: AOJu0YwcKKnvsRLt0Lb8TqHC5r0Kwg+mkzaJmXiiH5bmt3R2+wD+BIo6
 a+g00uLwCKiBi9OKAJKTE01cBGw0YfY1kLosvG7RZ5njOb8xRjL5yxl1bONgs8WBSCoy65tUstJ
 inwDTTtuOPgC5tU3zepi42WLhxL9uANIDHPwSrclZ
X-Google-Smtp-Source: AGHT+IHV9VsST7IQ7EYpO+pECvt5ZZlCFMV1T73wfb71Vmq+OBmFj3h8yrnpewzWNBwN4gcWZwi67W/OqEZB
X-Received: by 2002:a81:6c44:0:b0:609:205d:18ae with SMTP id
 h65-20020a816c44000000b00609205d18aemr4801190ywc.2.1709119419672; 
 Wed, 28 Feb 2024 03:23:39 -0800 (PST)
Received: from postal.iol.unh.edu (postal.iol.unh.edu. [132.177.123.84])
 by smtp-relay.gmail.com with ESMTPS id
 m13-20020a819c0d000000b006087da090b6sm333327ywa.74.2024.02.28.03.23.39
 (version=TLS1_2 cipher=ECDHE-ECDSA-AES128-GCM-SHA256 bits=128/128);
 Wed, 28 Feb 2024 03:23:39 -0800 (PST)
X-Relaying-Domain: iol.unh.edu
Date: Wed, 28 Feb 2024 03:23:39 -0800 (PST)
Message-ID: <65df17bb.810a0220.46d00.6812SMTPIN_ADDED_MISSING@mx.google.com>
Received: from [172.21.0.6] (unknown [172.18.0.240])
 by postal.iol.unh.edu (Postfix) with ESMTP id 3C4E16052510;
 Wed, 28 Feb 2024 06:23:39 -0500 (EST)
Subject: |SUCCESS| pw137411 [PATCH] common/cnxk: fix Coverity issues
From: dpdklab@iol.unh.edu
To: Test Report <test-report@dpdk.org>
Cc: dpdk-test-reports@iol.unh.edu
In-Reply-To: <20240228064643.1923169-1-psatheesh@marvell.com>
References: <20240228064643.1923169-1-psatheesh@marvell.com>
Content-Type: text/plain
X-BeenThere: test-report@dpdk.org
X-Mailman-Version: 2.1.29
Precedence: list
List-Id: automatic DPDK test reports <test-report.dpdk.org>
List-Unsubscribe: <https://mails.dpdk.org/options/test-report>,
 <mailto:test-report-request@dpdk.org?subject=unsubscribe>
List-Archive: <http://mails.dpdk.org/archives/test-report/>
List-Post: <mailto:test-report@dpdk.org>
List-Help: <mailto:test-report-request@dpdk.org?subject=help>
List-Subscribe: <https://mails.dpdk.org/listinfo/test-report>,
 <mailto:test-report-request@dpdk.org?subject=subscribe>
Errors-To: test-report-bounces@dpdk.org

Test-Label: iol-abi-testing
Test-Status: SUCCESS
http://dpdk.org/patch/137411

_Testing PASS_

Submitter: Satheesh Paul Antonysamy <psatheesh@marvell.com>
Date: Wednesday, February 28 2024 06:46:43 
DPDK git baseline: Repo:dpdk
  Branch: master
  CommitID:ab5b7cd5a0b563e6d49be6c8beaad1f39c581a5c

137411 --> testing pass

Test environment and result as below:

+------------------+----------+
|   Environment    | abi_test |
+==================+==========+
| Debian Bullseye  | PASS     |
+------------------+----------+
| CentOS Stream 9  | PASS     |
+------------------+----------+
| Fedora 38        | PASS     |
+------------------+----------+
| CentOS Stream 8  | PASS     |
+------------------+----------+
| openSUSE Leap 15 | PASS     |
+------------------+----------+
| Ubuntu 22.04     | PASS     |
+------------------+----------+
| RHEL8            | PASS     |
+------------------+----------+
| Fedora 37        | PASS     |
+------------------+----------+
| Debian 12 (arm)  | PASS     |
+------------------+----------+


Debian Bullseye
	Kernel: 5.4.0-122-generic
	Compiler: gcc 10.2.1-6

CentOS Stream 9
	Kernel: 4.18.0-240.10.1.el8_3.x86_64
	Compiler: gcc 11.3.1 20220421

Fedora 38
	Kernel: Depends on container host
	Compiler: gcc 13.1.1

CentOS Stream 8
	Kernel: 4.18.0-240.10.1.el8_3.x86_64
	Compiler: gcc 8.4.1 20200928

openSUSE Leap 15
	Kernel: 4.18.0-240.10.1.el8_3.x86_64
	Compiler: gcc 7.5.0

Ubuntu 22.04
	Kernel: 4.18.0-240.10.1.el8_3.x86_64
	Compiler: gcc 11.3.0

RHEL8
	Kernel: 4.18.0-240.10.1.el8_3.x86_64
	Compiler: gcc 8.3.1 20191121 (Red Hat 8.3.1-5)

Fedora 37
	Kernel: Depends on container host system
	Compiler: gcc 12.3.1

Debian 12 (arm)
	Kernel: Container Host Kernel
	Compiler: gcc 11

To view detailed results, visit:
https://lab.dpdk.org/results/dashboard/patchsets/29308/

UNH-IOL DPDK Community Lab

To manage your email subscriptions, visit: 
https://lab.dpdk.org/results/dashboard/preferences/subscriptions/