From mboxrd@z Thu Jan  1 00:00:00 1970
Return-Path: <test-report-bounces@dpdk.org>
Received: from mails.dpdk.org (mails.dpdk.org [217.70.189.124])
	by inbox.dpdk.org (Postfix) with ESMTP id F41F143C1E
	for <public@inbox.dpdk.org>; Wed, 28 Feb 2024 12:39:31 +0100 (CET)
Received: from mails.dpdk.org (localhost [127.0.0.1])
	by mails.dpdk.org (Postfix) with ESMTP id CC934402AE;
	Wed, 28 Feb 2024 12:39:31 +0100 (CET)
Received: from mail-io1-f97.google.com (mail-io1-f97.google.com
 [209.85.166.97]) by mails.dpdk.org (Postfix) with ESMTP id 2A9934003C
 for <test-report@dpdk.org>; Wed, 28 Feb 2024 12:39:31 +0100 (CET)
Received: by mail-io1-f97.google.com with SMTP id
 ca18e2360f4ac-7c7ee7fa1d8so60602239f.1
 for <test-report@dpdk.org>; Wed, 28 Feb 2024 03:39:31 -0800 (PST)
DKIM-Signature: v=1; a=rsa-sha256; c=relaxed/relaxed;
 d=iol.unh.edu; s=unh-iol; t=1709120370; x=1709725170; darn=dpdk.org;
 h=references:in-reply-to:cc:to:from:subject:message-id:date:from:to
 :cc:subject:date:message-id:reply-to;
 bh=11EpLxbXMcPW8afEE6VxxKYeYQAUEDzX3QFUPBIhmHI=;
 b=J8FDDyEkwdPdmd8udBf7ELFRSfdR8wck7dxV+WxMNhYLfoslwdkSdwQg6+RdFcFk+f
 WSIpHDx9ht99BHBTioS3DlbbYHY4U99Q46e+BwSiqctLQ+53axePa8+QiiPqibst5AdZ
 ZHKpKviRwN/kbIlC4h0NSOHMhmJZdFP4qYw5E=
X-Google-DKIM-Signature: v=1; a=rsa-sha256; c=relaxed/relaxed;
 d=1e100.net; s=20230601; t=1709120370; x=1709725170;
 h=references:in-reply-to:cc:to:from:subject:message-id:date
 :x-gm-message-state:from:to:cc:subject:date:message-id:reply-to;
 bh=11EpLxbXMcPW8afEE6VxxKYeYQAUEDzX3QFUPBIhmHI=;
 b=lKooxRSf/ZYS2KQqbHSKBW+ciz2O1Yj0WuPL/2vMdJX9TZYsuaoqyjW2XtW3ZdB7oe
 TfPKVShJNpMy/JMO6MtaDvYZzeE5q3tMs6qSiGKE8vATWuYf5cehUgOXzuxvvWYPVmr7
 rRCcCnfpdWYUegllprIh8td2Hzj2LueUe8cf6aZqdRczhdLPS2EDGepdqJuABf5tqdM0
 oycPTMndw6cviDM27jF3yFNR7BvGr0sksSJuCwn3IkNzJycROeyYccvLuh3OP9bExTne
 fC+pVIUMmVBDNpWqfe+b6Lw1XrP4gFaFH1JeXmCSyVWGKXxSe/UuIRsk20REbF6WArH4
 YOfg==
X-Gm-Message-State: AOJu0YwIOjpHZ7VsadVdLq47jkrk5XBGGPGF22FhmVppdv1+73MS+Gq6
 YQLkSZWDUGCHrsrQhjC5hi5h47YChXu3nnSixjzThxw98QgK3uD+e7xka6fAmJEJUBOrsQxzei9
 VSkKFJvWVDtnzhYL7rt0+CPsqv1z44gkLLQLNbYHm
X-Google-Smtp-Source: AGHT+IFKbLCO+f2PNZJTH8pPN0f6gaDFOdqEqDgQmVR2XR/FjyU9vD8xERUA5XAvgoTx59ej2Jhor2H6pC8i
X-Received: by 2002:a5e:8707:0:b0:7c7:f99b:bd0e with SMTP id
 y7-20020a5e8707000000b007c7f99bbd0emr1558325ioj.18.1709120370516; 
 Wed, 28 Feb 2024 03:39:30 -0800 (PST)
Received: from postal.iol.unh.edu (postal.iol.unh.edu. [132.177.123.84])
 by smtp-relay.gmail.com with ESMTPS id
 w29-20020a05660205dd00b007c78f83cc44sm337620iox.26.2024.02.28.03.39.30
 (version=TLS1_2 cipher=ECDHE-ECDSA-AES128-GCM-SHA256 bits=128/128);
 Wed, 28 Feb 2024 03:39:30 -0800 (PST)
X-Relaying-Domain: iol.unh.edu
Date: Wed, 28 Feb 2024 03:39:30 -0800 (PST)
Message-ID: <65df1b72.050a0220.c0b75.542aSMTPIN_ADDED_MISSING@mx.google.com>
Received: from [172.21.0.6] (unknown [172.18.0.240])
 by postal.iol.unh.edu (Postfix) with ESMTP id B29A66052510;
 Wed, 28 Feb 2024 06:39:29 -0500 (EST)
Subject: |SUCCESS| pw137421-137424 [PATCH] [v2,4/4] net/mlx5: add support for
From: dpdklab@iol.unh.edu
To: Test Report <test-report@dpdk.org>
Cc: dpdk-test-reports@iol.unh.edu
In-Reply-To: <20240228102526.434717-5-getelson@nvidia.com>
References: <20240228102526.434717-5-getelson@nvidia.com>
Content-Type: text/plain
X-BeenThere: test-report@dpdk.org
X-Mailman-Version: 2.1.29
Precedence: list
List-Id: automatic DPDK test reports <test-report.dpdk.org>
List-Unsubscribe: <https://mails.dpdk.org/options/test-report>,
 <mailto:test-report-request@dpdk.org?subject=unsubscribe>
List-Archive: <http://mails.dpdk.org/archives/test-report/>
List-Post: <mailto:test-report@dpdk.org>
List-Help: <mailto:test-report-request@dpdk.org?subject=help>
List-Subscribe: <https://mails.dpdk.org/listinfo/test-report>,
 <mailto:test-report-request@dpdk.org?subject=subscribe>
Errors-To: test-report-bounces@dpdk.org

Test-Label: iol-abi-testing
Test-Status: SUCCESS
http://dpdk.org/patch/137424

_Testing PASS_

Submitter: Gregory Etelson <getelson@nvidia.com>
Date: Wednesday, February 28 2024 10:25:26 
DPDK git baseline: Repo:dpdk
  Branch: master
  CommitID:fba0d7ac2d84dbe0e12b4989198640e14216762b

137421-137424 --> testing pass

Test environment and result as below:

+------------------+----------+
|   Environment    | abi_test |
+==================+==========+
| Debian 12 (arm)  | PASS     |
+------------------+----------+
| RHEL8            | PASS     |
+------------------+----------+
| Ubuntu 22.04     | PASS     |
+------------------+----------+
| Fedora 38        | PASS     |
+------------------+----------+
| Debian Bullseye  | PASS     |
+------------------+----------+
| openSUSE Leap 15 | PASS     |
+------------------+----------+
| CentOS Stream 8  | PASS     |
+------------------+----------+
| CentOS Stream 9  | PASS     |
+------------------+----------+
| Fedora 37        | PASS     |
+------------------+----------+


Debian 12 (arm)
	Kernel: Container Host Kernel
	Compiler: gcc 11

RHEL8
	Kernel: 4.18.0-240.10.1.el8_3.x86_64
	Compiler: gcc 8.3.1 20191121 (Red Hat 8.3.1-5)

Ubuntu 22.04
	Kernel: 4.18.0-240.10.1.el8_3.x86_64
	Compiler: gcc 11.3.0

Fedora 38
	Kernel: Depends on container host
	Compiler: clang 16.0.3

Debian Bullseye
	Kernel: 5.4.0-122-generic
	Compiler: gcc 10.2.1-6

openSUSE Leap 15
	Kernel: 4.18.0-240.10.1.el8_3.x86_64
	Compiler: gcc 7.5.0

CentOS Stream 8
	Kernel: 4.18.0-240.10.1.el8_3.x86_64
	Compiler: gcc 8.4.1 20200928

CentOS Stream 9
	Kernel: 4.18.0-240.10.1.el8_3.x86_64
	Compiler: gcc 11.3.1 20220421

Fedora 37
	Kernel: Depends on container host system
	Compiler: gcc 12.3.1

To view detailed results, visit:
https://lab.dpdk.org/results/dashboard/patchsets/29313/

UNH-IOL DPDK Community Lab

To manage your email subscriptions, visit: 
https://lab.dpdk.org/results/dashboard/preferences/subscriptions/