From mboxrd@z Thu Jan 1 00:00:00 1970 Return-Path: Received: from mails.dpdk.org (mails.dpdk.org [217.70.189.124]) by inbox.dpdk.org (Postfix) with ESMTP id 293A543C1E for ; Wed, 28 Feb 2024 12:41:06 +0100 (CET) Received: from mails.dpdk.org (localhost [127.0.0.1]) by mails.dpdk.org (Postfix) with ESMTP id 248A740295; Wed, 28 Feb 2024 12:41:06 +0100 (CET) Received: from mail-oi1-f228.google.com (mail-oi1-f228.google.com [209.85.167.228]) by mails.dpdk.org (Postfix) with ESMTP id 05DE94003C for ; Wed, 28 Feb 2024 12:41:05 +0100 (CET) Received: by mail-oi1-f228.google.com with SMTP id 5614622812f47-3c19e1846ecso1889215b6e.2 for ; Wed, 28 Feb 2024 03:41:04 -0800 (PST) DKIM-Signature: v=1; a=rsa-sha256; c=relaxed/relaxed; d=iol.unh.edu; s=unh-iol; t=1709120464; x=1709725264; darn=dpdk.org; h=references:in-reply-to:cc:to:from:subject:message-id:date:from:to :cc:subject:date:message-id:reply-to; bh=DHqojt419E7LbD7QtOSQ2UDdB7SiCJ0PFOILbTDR7PA=; b=MGdXnxUwaDB2OUEVGHFFm3iKn1DgBayiboW+WKxhJWKsxXYsUC4uiWy7TJHE6gBmwc uYCIyg7Y2ECWcuv+50XsqoXAGI+qGLl2NLlwq39ZDZtJuJ0nwZTGRXbo0vPwj8UgDTPb tUUMAHBKbdFAAtxbr8tLmteTqGKGQFKeGr4uI= X-Google-DKIM-Signature: v=1; a=rsa-sha256; c=relaxed/relaxed; d=1e100.net; s=20230601; t=1709120464; x=1709725264; h=references:in-reply-to:cc:to:from:subject:message-id:date :x-gm-message-state:from:to:cc:subject:date:message-id:reply-to; bh=DHqojt419E7LbD7QtOSQ2UDdB7SiCJ0PFOILbTDR7PA=; b=C3skU1HlWgk8ip+dpJHqledmCNieipD3D39Eewr1Rlmve3B03VUMSChrx8mKAw2aG3 8pLyQD7WKfjxccIQLBaMr7v84qHGpiGovC85tiKMk+7aJtWg+dkvnzMHdrjjvTf6LAJL XCzQhKFWaxn2tTh6AYJgWejUSB+RcLAIhBX7fWm6rEvIfSQbOiIi/midnoMwKUdDRg+v SFaqh4reJ9UmvfudHbdyIJpzmhjX69IL2vbLqgCvWH3vSZDFBbQyJG+u8AwTcfd8eGIq aatAb1/twFBEqV/UeGTBTYmpZJQcbDL1Zrim1SWamag+I+S13pG8zRrZo95rf+l0r3IM yPng== X-Gm-Message-State: AOJu0YwfYs6act01rKo5E3uy/Z7eE2dOzyybCFN8j7gFS07Jr9BdafCc r9rJSdnFwM3vDQHzc4xmvu7jora4zqpsaYlVdYvP+N+afGR164jB0Kt+uwplNawnL6dm+y78nWV fWUuKChYSdLnTbNYQyZsXQEJPFw26xj136qzwWH9C X-Google-Smtp-Source: AGHT+IH1LpPELS2sOf5Io5+iKvpd1yTH8VzjzWPzglilRid1qYHaL3enyGOumoy7ikvptaOWt/xa8RHn1TSb X-Received: by 2002:a05:6871:7810:b0:21e:be10:f39d with SMTP id oy16-20020a056871781000b0021ebe10f39dmr13281974oac.46.1709120464040; Wed, 28 Feb 2024 03:41:04 -0800 (PST) Received: from postal.iol.unh.edu (postal.iol.unh.edu. [132.177.123.84]) by smtp-relay.gmail.com with ESMTPS id 7-20020a056870118700b0021e25ae2dd7sm170317oau.33.2024.02.28.03.41.03 (version=TLS1_2 cipher=ECDHE-ECDSA-AES128-GCM-SHA256 bits=128/128); Wed, 28 Feb 2024 03:41:04 -0800 (PST) X-Relaying-Domain: iol.unh.edu Date: Wed, 28 Feb 2024 03:41:04 -0800 (PST) Message-ID: <65df1bd0.050a0220.e36a4.b99dSMTPIN_ADDED_MISSING@mx.google.com> Received: from [172.21.0.6] (unknown [172.18.0.240]) by postal.iol.unh.edu (Postfix) with ESMTP id 7F10F6052510; Wed, 28 Feb 2024 06:41:03 -0500 (EST) Subject: |SUCCESS| pw137411 [PATCH] common/cnxk: fix Coverity issues From: dpdklab@iol.unh.edu To: Test Report Cc: dpdk-test-reports@iol.unh.edu In-Reply-To: <20240228064643.1923169-1-psatheesh@marvell.com> References: <20240228064643.1923169-1-psatheesh@marvell.com> Content-Type: text/plain X-BeenThere: test-report@dpdk.org X-Mailman-Version: 2.1.29 Precedence: list List-Id: automatic DPDK test reports List-Unsubscribe: , List-Archive: List-Post: List-Help: List-Subscribe: , Errors-To: test-report-bounces@dpdk.org Test-Label: iol-unit-arm64-testing Test-Status: SUCCESS http://dpdk.org/patch/137411 _Testing PASS_ Submitter: Satheesh Paul Antonysamy Date: Wednesday, February 28 2024 06:46:43 DPDK git baseline: Repo:dpdk Branch: master CommitID:ab5b7cd5a0b563e6d49be6c8beaad1f39c581a5c 137411 --> testing pass Test environment and result as below: +--------------------------+------------------------------+----------------+--------------+---------------------------+ | Environment | cryptodev_sw_snow3g_autotest | dpdk_unit_test | lpm_autotest | cryptodev_sw_zuc_autotest | +==========================+==============================+================+==============+===========================+ | Debian 12 (arm) | PASS | PASS | SKIPPED | PASS | +--------------------------+------------------------------+----------------+--------------+---------------------------+ | Debian 11 (Buster) (ARM) | SKIPPED | PASS | SKIPPED | SKIPPED | +--------------------------+------------------------------+----------------+--------------+---------------------------+ | Fedora 37 (ARM) | SKIPPED | PASS | SKIPPED | SKIPPED | +--------------------------+------------------------------+----------------+--------------+---------------------------+ | Fedora 38 (ARM) | SKIPPED | PASS | SKIPPED | SKIPPED | +--------------------------+------------------------------+----------------+--------------+---------------------------+ | CentOS Stream 9 (ARM) | SKIPPED | PASS | SKIPPED | SKIPPED | +--------------------------+------------------------------+----------------+--------------+---------------------------+ | Ubuntu 20.04 (ARM) | SKIPPED | PASS | SKIPPED | SKIPPED | +--------------------------+------------------------------+----------------+--------------+---------------------------+ | Ubuntu 20.04 ARM SVE | SKIPPED | SKIPPED | PASS | SKIPPED | +--------------------------+------------------------------+----------------+--------------+---------------------------+ Debian 12 (arm) Kernel: Container Host Kernel Compiler: gcc 11 Debian 11 (Buster) (ARM) Kernel: Container Host Kernel Compiler: gcc 10.2.1 Fedora 37 (ARM) Kernel: Depends on container host Compiler: gcc 12.3.1 Fedora 38 (ARM) Kernel: Depends on container host Compiler: gcc 13.1.1 CentOS Stream 9 (ARM) Kernel: Container Host Kernel Compiler: gcc 11.3.1 Ubuntu 20.04 (ARM) Kernel: Container Host Kernel Compiler: gcc 9.4.0 Ubuntu 20.04 ARM SVE Kernel: 5.4.0-80-generic Compiler: gcc 10.3.0 (Ubuntu 10.3.0-1ubuntu1~20.04) To view detailed results, visit: https://lab.dpdk.org/results/dashboard/patchsets/29308/ UNH-IOL DPDK Community Lab To manage your email subscriptions, visit: https://lab.dpdk.org/results/dashboard/preferences/subscriptions/