From mboxrd@z Thu Jan  1 00:00:00 1970
Return-Path: <test-report-bounces@dpdk.org>
Received: from mails.dpdk.org (mails.dpdk.org [217.70.189.124])
	by inbox.dpdk.org (Postfix) with ESMTP id 33F5543C1E
	for <public@inbox.dpdk.org>; Wed, 28 Feb 2024 12:45:49 +0100 (CET)
Received: from mails.dpdk.org (localhost [127.0.0.1])
	by mails.dpdk.org (Postfix) with ESMTP id 2F943402AE;
	Wed, 28 Feb 2024 12:45:49 +0100 (CET)
Received: from mail-oo1-f98.google.com (mail-oo1-f98.google.com
 [209.85.161.98]) by mails.dpdk.org (Postfix) with ESMTP id 065FB40295
 for <test-report@dpdk.org>; Wed, 28 Feb 2024 12:45:48 +0100 (CET)
Received: by mail-oo1-f98.google.com with SMTP id
 006d021491bc7-5a0c29637easo630557eaf.1
 for <test-report@dpdk.org>; Wed, 28 Feb 2024 03:45:47 -0800 (PST)
DKIM-Signature: v=1; a=rsa-sha256; c=relaxed/relaxed;
 d=iol.unh.edu; s=unh-iol; t=1709120747; x=1709725547; darn=dpdk.org;
 h=references:in-reply-to:cc:to:from:subject:message-id:date:from:to
 :cc:subject:date:message-id:reply-to;
 bh=rc3WeZ6skQCz5NqX3S1FkOEOYjTvuiQgB7Uia2WZlOM=;
 b=hzfVl66/gPVVJAIMqQtRmPJLd+v1QSkRarEavSCk/uRQ5qzIaWOTMsqwH7BbeD5lgt
 gDkckXp4yL803YG+Bm8EsWrzOsQLqSvaKJzTnktHvCLo8lWy+j6qM9+GZSmiALATiUAF
 BQsWdi0SlWIMvVsRY1VM12WwT8U4ecSwNXP9I=
X-Google-DKIM-Signature: v=1; a=rsa-sha256; c=relaxed/relaxed;
 d=1e100.net; s=20230601; t=1709120747; x=1709725547;
 h=references:in-reply-to:cc:to:from:subject:message-id:date
 :x-gm-message-state:from:to:cc:subject:date:message-id:reply-to;
 bh=rc3WeZ6skQCz5NqX3S1FkOEOYjTvuiQgB7Uia2WZlOM=;
 b=Wg4AGgPyWQ4s1MlDEfiNojvjquuH/bQ4j0Q1YbUSp3dh+4p21WCW6jIgtqeutnJchE
 hR9of/Ch60BlwtMSwA4d6PO4sZnWhIyaaDBGPOLsrX2JdTd9Ve+v6dfWOXoZ4t6L2ZTl
 lvJjQpNPUeDfsAZu8ynBpNoEFRv0VEOnuQ+Xmc+VokKzSZFyxv04mpk/QVSaWpqMkXN0
 8SGpb7wFiYlJKkQOzES2ghIyKXwStbUlq8zFdsajSmX+8mbOd5fdeQqTb4dP7/dPMATq
 97gSVM8G22cCN3ZpW+bMi5DX5/WgnkmFt9wIrffrmRvZpzNpwjm0zIcZyhPIxQ+u6Cca
 x2qw==
X-Gm-Message-State: AOJu0YxTrJTVkgmauyeQjDAS3jm3Ido8l7Jpmut3XDBDOx69ClieYxUu
 iLXA8x7aN34tE0Vt4Upaq+JvuKKgo4yBVpuvWqZWJfpI9NATbbhl8MTIzbc7QezfTdrGsN7md6L
 d3EjfbK5/W9axPb5brcMo2r/ImweXtP1QgDh7dch3
X-Google-Smtp-Source: AGHT+IFAWVNwZvm43YxhTFFivuxBzry5jl0uJwyV9J0AqhllfQax3snrBMrQKDr0BnK/QIF4bnbsVIUJzB6l
X-Received: by 2002:a4a:6207:0:b0:5a0:db26:9a50 with SMTP id
 x7-20020a4a6207000000b005a0db269a50mr360605ooc.8.1709120747367; 
 Wed, 28 Feb 2024 03:45:47 -0800 (PST)
Received: from postal.iol.unh.edu (postal.iol.unh.edu. [132.177.123.84])
 by smtp-relay.gmail.com with ESMTPS id
 e185-20020a4a55c2000000b005a03889bca5sm472055oob.25.2024.02.28.03.45.47
 (version=TLS1_2 cipher=ECDHE-ECDSA-AES128-GCM-SHA256 bits=128/128);
 Wed, 28 Feb 2024 03:45:47 -0800 (PST)
X-Relaying-Domain: iol.unh.edu
Date: Wed, 28 Feb 2024 03:45:47 -0800 (PST)
Message-ID: <65df1ceb.4a0a0220.65d66.10ddSMTPIN_ADDED_MISSING@mx.google.com>
Received: from [172.21.0.11] (unknown [172.18.0.240])
 by postal.iol.unh.edu (Postfix) with ESMTP id D32046052510;
 Wed, 28 Feb 2024 06:45:46 -0500 (EST)
Subject: |SUCCESS| pw137421-137424 [PATCH] [v2,4/4] net/mlx5: add support for
From: dpdklab@iol.unh.edu
To: Test Report <test-report@dpdk.org>
Cc: dpdk-test-reports@iol.unh.edu
In-Reply-To: <20240228102526.434717-5-getelson@nvidia.com>
References: <20240228102526.434717-5-getelson@nvidia.com>
Content-Type: text/plain
X-BeenThere: test-report@dpdk.org
X-Mailman-Version: 2.1.29
Precedence: list
List-Id: automatic DPDK test reports <test-report.dpdk.org>
List-Unsubscribe: <https://mails.dpdk.org/options/test-report>,
 <mailto:test-report-request@dpdk.org?subject=unsubscribe>
List-Archive: <http://mails.dpdk.org/archives/test-report/>
List-Post: <mailto:test-report@dpdk.org>
List-Help: <mailto:test-report-request@dpdk.org?subject=help>
List-Subscribe: <https://mails.dpdk.org/listinfo/test-report>,
 <mailto:test-report-request@dpdk.org?subject=subscribe>
Errors-To: test-report-bounces@dpdk.org

Test-Label: iol-unit-arm64-testing
Test-Status: SUCCESS
http://dpdk.org/patch/137424

_Testing PASS_

Submitter: Gregory Etelson <getelson@nvidia.com>
Date: Wednesday, February 28 2024 10:25:26 
DPDK git baseline: Repo:dpdk
  Branch: master
  CommitID:fba0d7ac2d84dbe0e12b4989198640e14216762b

137421-137424 --> testing pass

Test environment and result as below:

+--------------------------+---------------------------+----------------+------------------------------+
|       Environment        | cryptodev_sw_zuc_autotest | dpdk_unit_test | cryptodev_sw_snow3g_autotest |
+==========================+===========================+================+==============================+
| Debian 12 (arm)          | PASS                      | PASS           | PASS                         |
+--------------------------+---------------------------+----------------+------------------------------+
| Debian 11 (Buster) (ARM) | SKIPPED                   | PASS           | SKIPPED                      |
+--------------------------+---------------------------+----------------+------------------------------+


Debian 12 (arm)
	Kernel: Container Host Kernel
	Compiler: gcc 11

Debian 11 (Buster) (ARM)
	Kernel: Container Host Kernel
	Compiler: gcc 10.2.1

To view detailed results, visit:
https://lab.dpdk.org/results/dashboard/patchsets/29313/

UNH-IOL DPDK Community Lab

To manage your email subscriptions, visit: 
https://lab.dpdk.org/results/dashboard/preferences/subscriptions/