From mboxrd@z Thu Jan  1 00:00:00 1970
Return-Path: <test-report-bounces@dpdk.org>
Received: from mails.dpdk.org (mails.dpdk.org [217.70.189.124])
	by inbox.dpdk.org (Postfix) with ESMTP id AD74943C1E
	for <public@inbox.dpdk.org>; Wed, 28 Feb 2024 12:47:11 +0100 (CET)
Received: from mails.dpdk.org (localhost [127.0.0.1])
	by mails.dpdk.org (Postfix) with ESMTP id A7F6D402AE;
	Wed, 28 Feb 2024 12:47:11 +0100 (CET)
Received: from mail-yw1-f225.google.com (mail-yw1-f225.google.com
 [209.85.128.225])
 by mails.dpdk.org (Postfix) with ESMTP id C494140295
 for <test-report@dpdk.org>; Wed, 28 Feb 2024 12:47:03 +0100 (CET)
Received: by mail-yw1-f225.google.com with SMTP id
 00721157ae682-608a21f1cbcso34721477b3.0
 for <test-report@dpdk.org>; Wed, 28 Feb 2024 03:47:03 -0800 (PST)
DKIM-Signature: v=1; a=rsa-sha256; c=relaxed/relaxed;
 d=iol.unh.edu; s=unh-iol; t=1709120823; x=1709725623; darn=dpdk.org;
 h=references:in-reply-to:cc:to:from:subject:message-id:date:from:to
 :cc:subject:date:message-id:reply-to;
 bh=/x7gJ7oLVCQlSCsE8J33k0+XUUVAtoynhz5psNFzErE=;
 b=iOj5DRuSl6gktBD5PBibHUD5TSqOjJqWQP1RcHazqei71TQ80Q/F+4wLWWT2RC/k7E
 6detuQacKuK1ii10CQnTcwyxb3gMQIPqb5IsUTh+tfSYkoEsVqAzTGSiuFxUX66oTM35
 M9qujA+cHZ7PaM4sQ2MGB64JAbkna4Yqy9KKM=
X-Google-DKIM-Signature: v=1; a=rsa-sha256; c=relaxed/relaxed;
 d=1e100.net; s=20230601; t=1709120823; x=1709725623;
 h=references:in-reply-to:cc:to:from:subject:message-id:date
 :x-gm-message-state:from:to:cc:subject:date:message-id:reply-to;
 bh=/x7gJ7oLVCQlSCsE8J33k0+XUUVAtoynhz5psNFzErE=;
 b=l5hJJwZZTCNhJxCTn7p6c9WXjzVVuWI0M/9q9AdStkYwLscINzTyHBb1zq97TlmfCq
 CMSj88AU8wSnq8vjDZZInIu6drJudrJ1pYECF3Xsjc0UF8LFtBcw3Y8j84uwMAtNY2k0
 HsXzMjHjw/ZuhaiZpeE/V5t2ognkWzYo4o51V40WMwcfBMR8v1jj7+Up74+SVIysjvN7
 FW2C4O3UatQhvHamlbipZYTHRig3yEOPI5NhKgydBAcPtGu5xn+JkdBQu7RLwqE/H/4U
 Eto8+rlfLFpdlJ/nphPSOHCWYJZHNTy9VRGdZa7eauWfX9o+cpTL9twHvg0csqS+kWfM
 x9DQ==
X-Gm-Message-State: AOJu0Yzz5sP9ZjBLaioQtr+76d3HLSh4D0cH8mQ5Hyfo5ZFP1MLELb4w
 Jn5DkNzqc2I7DvWkBjQD87ouQ5GWF4jDo166Xh1NaTWFuvAnlDTE/CQEBlLbkd9j62gzYSO0smP
 fcgPDXm4hPYUHtPtIiTNkQLKupp9bkJ5KufOG/l8+SKyDqpKNqB0RkHMu
X-Google-Smtp-Source: AGHT+IEaSMCMKBlk2Trc4Nlh5Ujd3zoV3GssMGA8+Ny5rjR3L01xG5buEmULi9OqcWHeWDODmaLgg+7kL0Bp
X-Received: by 2002:a0d:d782:0:b0:609:435f:edd7 with SMTP id
 z124-20020a0dd782000000b00609435fedd7mr925758ywd.3.1709120823202; 
 Wed, 28 Feb 2024 03:47:03 -0800 (PST)
Received: from postal.iol.unh.edu (postal.iol.unh.edu.
 [2606:4100:3880:1234::84]) by smtp-relay.gmail.com with ESMTPS id
 k66-20020a0dc845000000b00608c3c59bc6sm633082ywd.31.2024.02.28.03.47.03
 (version=TLS1_2 cipher=ECDHE-ECDSA-AES128-GCM-SHA256 bits=128/128);
 Wed, 28 Feb 2024 03:47:03 -0800 (PST)
X-Relaying-Domain: iol.unh.edu
Date: Wed, 28 Feb 2024 03:47:03 -0800 (PST)
Message-ID: <65df1d37.0d0a0220.a5257.3280SMTPIN_ADDED_MISSING@mx.google.com>
Received: from [172.21.0.8] (unknown [172.18.0.240])
 by postal.iol.unh.edu (Postfix) with ESMTP id D82F26052510;
 Wed, 28 Feb 2024 06:47:02 -0500 (EST)
Subject: |SUCCESS| pw137421-137424 [PATCH] [v2,4/4] net/mlx5: add support for
From: dpdklab@iol.unh.edu
To: Test Report <test-report@dpdk.org>
Cc: dpdk-test-reports@iol.unh.edu
In-Reply-To: <20240228102526.434717-5-getelson@nvidia.com>
References: <20240228102526.434717-5-getelson@nvidia.com>
Content-Type: text/plain
X-BeenThere: test-report@dpdk.org
X-Mailman-Version: 2.1.29
Precedence: list
List-Id: automatic DPDK test reports <test-report.dpdk.org>
List-Unsubscribe: <https://mails.dpdk.org/options/test-report>,
 <mailto:test-report-request@dpdk.org?subject=unsubscribe>
List-Archive: <http://mails.dpdk.org/archives/test-report/>
List-Post: <mailto:test-report@dpdk.org>
List-Help: <mailto:test-report-request@dpdk.org?subject=help>
List-Subscribe: <https://mails.dpdk.org/listinfo/test-report>,
 <mailto:test-report-request@dpdk.org?subject=subscribe>
Errors-To: test-report-bounces@dpdk.org

Test-Label: iol-compile-amd64-testing
Test-Status: SUCCESS
http://dpdk.org/patch/137424

_Testing PASS_

Submitter: Gregory Etelson <getelson@nvidia.com>
Date: Wednesday, February 28 2024 10:25:26 
DPDK git baseline: Repo:dpdk
  Branch: master
  CommitID:fba0d7ac2d84dbe0e12b4989198640e14216762b

137421-137424 --> testing pass

Test environment and result as below:

+---------------------+--------------------+----------------------+
|     Environment     | dpdk_meson_compile | dpdk_mingw64_compile |
+=====================+====================+======================+
| Windows Server 2022 | PASS               | SKIPPED              |
+---------------------+--------------------+----------------------+
| FreeBSD 13.2        | PASS               | SKIPPED              |
+---------------------+--------------------+----------------------+
| Windows Server 2019 | PASS               | PASS                 |
+---------------------+--------------------+----------------------+
| CentOS Stream 8     | PASS               | SKIPPED              |
+---------------------+--------------------+----------------------+


Windows Server 2022
	Kernel: OS Build 20348.2031
	Compiler: MSVC VS-Preview

FreeBSD 13.2
	Kernel: 13.2
	Compiler: clang 11.3.0

Windows Server 2019
	Kernel: 10.0
	Compiler: clang 14.0 and gcc 8.1.0 (MinGW)

CentOS Stream 8
	Kernel: 4.18.0-240.10.1.el8_3.x86_64
	Compiler: gcc 8.4.1 20200928

To view detailed results, visit:
https://lab.dpdk.org/results/dashboard/patchsets/29313/

UNH-IOL DPDK Community Lab

To manage your email subscriptions, visit: 
https://lab.dpdk.org/results/dashboard/preferences/subscriptions/