From mboxrd@z Thu Jan 1 00:00:00 1970 Return-Path: Received: from mails.dpdk.org (mails.dpdk.org [217.70.189.124]) by inbox.dpdk.org (Postfix) with ESMTP id 5F59843C1E for ; Wed, 28 Feb 2024 13:00:46 +0100 (CET) Received: from mails.dpdk.org (localhost [127.0.0.1]) by mails.dpdk.org (Postfix) with ESMTP id 44F1B40295; Wed, 28 Feb 2024 13:00:46 +0100 (CET) Received: from mail-pl1-f228.google.com (mail-pl1-f228.google.com [209.85.214.228]) by mails.dpdk.org (Postfix) with ESMTP id 1890E4003C for ; Wed, 28 Feb 2024 13:00:45 +0100 (CET) Received: by mail-pl1-f228.google.com with SMTP id d9443c01a7336-1dc75972f25so45737635ad.1 for ; Wed, 28 Feb 2024 04:00:45 -0800 (PST) DKIM-Signature: v=1; a=rsa-sha256; c=relaxed/relaxed; d=iol.unh.edu; s=unh-iol; t=1709121644; x=1709726444; darn=dpdk.org; h=references:in-reply-to:cc:to:from:subject:message-id:date:from:to :cc:subject:date:message-id:reply-to; bh=gVdQAvm/CIlqZDMxM7U1qdnNGDZVN4E5o1a5bQXVqeY=; b=NvxUfVAKkMjOlq9mhqJRjIz1wWgzWU9u8e2Io8KqehZUjzn4OKwQ0UABlouKa0ovB7 SLrqbMmGgyDwGaJRNAahB0lYNyqA/A+JgXPwfHr/kF5D1yOgaLpSenksWWVqubFF09iK /uZCr2GGjmfyNaZXerX/CLmKgR7Ao5DJpksTw= X-Google-DKIM-Signature: v=1; a=rsa-sha256; c=relaxed/relaxed; d=1e100.net; s=20230601; t=1709121644; x=1709726444; h=references:in-reply-to:cc:to:from:subject:message-id:date :x-gm-message-state:from:to:cc:subject:date:message-id:reply-to; bh=gVdQAvm/CIlqZDMxM7U1qdnNGDZVN4E5o1a5bQXVqeY=; b=b5ZPtM9EfnLoG4ZBuih9s/Qd+WvdHzc2N9ZGH3Z19MoQ9/IMWpHyWo2IePSGOwkBkx eQnIywiPrK64Wm7c8rFCywAMSML7y1GxOkQD1a2Udhha7Zucge4hknhLat2WDCuTLeuc cMtPkKUCROEQAS4+TbRLGUA0z57UxlhgUIM2j/LDzL/zUWu+UPAg4H2m4mTGzgZp7E96 Mb0CHKfQqXFmds/e21u8/otBcnI66KMXq4l1HDXePye54lx/unpV55305Vhj+fhBzf/w VnHrc3hgoCduUUsEGSJeme22I0J9ugrQyj6FonvcSvUU6nDt3UpHOJDJAs952scxrTtD 6cMQ== X-Gm-Message-State: AOJu0Ywy+rvWLN5CWfXq8LKSvsxF/MB1V4bef9yn0QaN2dA06UW/GXfd LjmeevmPNDF++RQiVaaSVKTg5h5g4AWCcxMKP05Do2gbCEriwDvmiqgecAHgxVT456hgIE0tW65 QB5l6EYLjrntl3ryf+0zMvyNMyHXtfkey4w3w5EmYhRHAYJhSaB6nLCe8 X-Google-Smtp-Source: AGHT+IHEGQBBbXw6wCfxS4YK95f3lQqgzEhgB+OSggmwaJWc2goBmuF5qL/xSf9qH7ElKeYtcknHHWX1sFbD X-Received: by 2002:a17:902:e5d2:b0:1d8:f129:a0bc with SMTP id u18-20020a170902e5d200b001d8f129a0bcmr15670537plf.13.1709121644330; Wed, 28 Feb 2024 04:00:44 -0800 (PST) Received: from postal.iol.unh.edu (postal.iol.unh.edu. [2606:4100:3880:1234::84]) by smtp-relay.gmail.com with ESMTPS id kp5-20020a170903280500b001dc95e5f584sm130567plb.63.2024.02.28.04.00.44 (version=TLS1_2 cipher=ECDHE-ECDSA-AES128-GCM-SHA256 bits=128/128); Wed, 28 Feb 2024 04:00:44 -0800 (PST) X-Relaying-Domain: iol.unh.edu Date: Wed, 28 Feb 2024 04:00:44 -0800 (PST) Message-ID: <65df206c.170a0220.c6025.89f8SMTPIN_ADDED_MISSING@mx.google.com> Received: from [172.21.0.6] (unknown [172.18.0.240]) by postal.iol.unh.edu (Postfix) with ESMTP id 7CF3E6052510; Wed, 28 Feb 2024 07:00:43 -0500 (EST) Subject: |SUCCESS| pw137411 [PATCH] common/cnxk: fix Coverity issues From: dpdklab@iol.unh.edu To: Test Report Cc: dpdk-test-reports@iol.unh.edu In-Reply-To: <20240228064643.1923169-1-psatheesh@marvell.com> References: <20240228064643.1923169-1-psatheesh@marvell.com> Content-Type: text/plain X-BeenThere: test-report@dpdk.org X-Mailman-Version: 2.1.29 Precedence: list List-Id: automatic DPDK test reports List-Unsubscribe: , List-Archive: List-Post: List-Help: List-Subscribe: , Errors-To: test-report-bounces@dpdk.org Test-Label: iol-unit-arm64-testing Test-Status: SUCCESS http://dpdk.org/patch/137411 _Testing PASS_ Submitter: Satheesh Paul Antonysamy Date: Wednesday, February 28 2024 06:46:43 DPDK git baseline: Repo:dpdk Branch: master CommitID:ab5b7cd5a0b563e6d49be6c8beaad1f39c581a5c 137411 --> testing pass Test environment and result as below: +--------------------------+------------------------------+----------------+--------------+---------------------------+ | Environment | cryptodev_sw_snow3g_autotest | dpdk_unit_test | lpm_autotest | cryptodev_sw_zuc_autotest | +==========================+==============================+================+==============+===========================+ | Debian 12 (arm) | PASS | PASS | SKIPPED | PASS | +--------------------------+------------------------------+----------------+--------------+---------------------------+ | Debian 11 (Buster) (ARM) | SKIPPED | PASS | SKIPPED | SKIPPED | +--------------------------+------------------------------+----------------+--------------+---------------------------+ | Fedora 37 (ARM) | SKIPPED | PASS | SKIPPED | SKIPPED | +--------------------------+------------------------------+----------------+--------------+---------------------------+ | Fedora 38 (ARM) | SKIPPED | PASS | SKIPPED | SKIPPED | +--------------------------+------------------------------+----------------+--------------+---------------------------+ | CentOS Stream 9 (ARM) | SKIPPED | PASS | SKIPPED | SKIPPED | +--------------------------+------------------------------+----------------+--------------+---------------------------+ | Ubuntu 20.04 (ARM) | SKIPPED | PASS | SKIPPED | SKIPPED | +--------------------------+------------------------------+----------------+--------------+---------------------------+ | Fedora 38 (ARM Clang) | SKIPPED | PASS | SKIPPED | SKIPPED | +--------------------------+------------------------------+----------------+--------------+---------------------------+ | Ubuntu 20.04 ARM SVE | SKIPPED | SKIPPED | PASS | SKIPPED | +--------------------------+------------------------------+----------------+--------------+---------------------------+ Debian 12 (arm) Kernel: Container Host Kernel Compiler: gcc 11 Debian 11 (Buster) (ARM) Kernel: Container Host Kernel Compiler: gcc 10.2.1 Fedora 37 (ARM) Kernel: Depends on container host Compiler: gcc 12.3.1 Fedora 38 (ARM) Kernel: Depends on container host Compiler: gcc 13.1.1 CentOS Stream 9 (ARM) Kernel: Container Host Kernel Compiler: gcc 11.3.1 Ubuntu 20.04 (ARM) Kernel: Container Host Kernel Compiler: gcc 9.4.0 Fedora 38 (ARM Clang) Kernel: Depends on container host Compiler: clang 16.0.3 Ubuntu 20.04 ARM SVE Kernel: 5.4.0-80-generic Compiler: gcc 10.3.0 (Ubuntu 10.3.0-1ubuntu1~20.04) To view detailed results, visit: https://lab.dpdk.org/results/dashboard/patchsets/29308/ UNH-IOL DPDK Community Lab To manage your email subscriptions, visit: https://lab.dpdk.org/results/dashboard/preferences/subscriptions/