From mboxrd@z Thu Jan  1 00:00:00 1970
Return-Path: <test-report-bounces@dpdk.org>
Received: from mails.dpdk.org (mails.dpdk.org [217.70.189.124])
	by inbox.dpdk.org (Postfix) with ESMTP id C4CE543C20
	for <public@inbox.dpdk.org>; Wed, 28 Feb 2024 13:14:06 +0100 (CET)
Received: from mails.dpdk.org (localhost [127.0.0.1])
	by mails.dpdk.org (Postfix) with ESMTP id B7F84402AE;
	Wed, 28 Feb 2024 13:14:06 +0100 (CET)
Received: from mail-qv1-f97.google.com (mail-qv1-f97.google.com
 [209.85.219.97]) by mails.dpdk.org (Postfix) with ESMTP id E362340295
 for <test-report@dpdk.org>; Wed, 28 Feb 2024 13:13:50 +0100 (CET)
Received: by mail-qv1-f97.google.com with SMTP id
 6a1803df08f44-686a92a8661so30641356d6.0
 for <test-report@dpdk.org>; Wed, 28 Feb 2024 04:13:50 -0800 (PST)
DKIM-Signature: v=1; a=rsa-sha256; c=relaxed/relaxed;
 d=iol.unh.edu; s=unh-iol; t=1709122430; x=1709727230; darn=dpdk.org;
 h=references:in-reply-to:cc:to:from:subject:message-id:date:from:to
 :cc:subject:date:message-id:reply-to;
 bh=21GMzoTeK869VRPPruO5C8ggK3XsJMJ87Gdvfh/8G1M=;
 b=hJ/gXJJWqNDJDzm1ZwFXZneU+kugHAbz8d1PyTVoMqhvb6wmeCEx0RITp9bzr39cgb
 e99fgRrY7QJAJv01Holm93DUHiOh3TV9/GAizw7+zzs5frDJ98m/hkdW9dqv18p8o7Xm
 2QW/zLuUaLbbQu9GegVm6ENYfhxVEIQQ6SeYU=
X-Google-DKIM-Signature: v=1; a=rsa-sha256; c=relaxed/relaxed;
 d=1e100.net; s=20230601; t=1709122430; x=1709727230;
 h=references:in-reply-to:cc:to:from:subject:message-id:date
 :x-gm-message-state:from:to:cc:subject:date:message-id:reply-to;
 bh=21GMzoTeK869VRPPruO5C8ggK3XsJMJ87Gdvfh/8G1M=;
 b=SGpD7w3HhtoJc+oS6zberXXrGl48wmgRt8dVpcxCbAYVCR4NWNCH67yX8x5Tizgu6Z
 k0s10uEzuVG/BZya+bl4z6oIh/cf9Tu3RwCgOcJvanjkF6m9AafyKu94ZIdYrcQCaBLJ
 rZxrLVUfVwJYe0XGijKwt/ObTwYe6EQ46g76fRc6ey+1lsOKZdFc2UpYG1ShTp5fr0BZ
 U6ABVztzlIDfTZ5VADImeDuB2eX90XMQGtxM19qZU9E6fNLbgkC1MctgM+Zn3FjLJe5u
 uYPnN0Uv9t+86uihw2S02pf+eKR3lv+1BPJWp2zbQS3clmdG43gqI7JQGDbc0cLsZjT6
 oDZg==
X-Gm-Message-State: AOJu0YwRN60uDKFkqMkH+QOFIvxAQ77g+Fk7Bqz14s/Cw+I159T8b6sj
 bBZorC9ffzr0NMlLXk19fVs+bqzISAUxRKBE87Pm5W8gkgKF0KktfQWibt+mpOkskrwMyWz2HuT
 FgR24CQLzodBJ7CwlJmC1IFHLp7dIpqtjimpGYbdG2tK2zjPyFCe8ChjM
X-Google-Smtp-Source: AGHT+IFK/i+924rbAvtSaCviPL27/h3LaBjG+lfgVMa3wrpwteLmCfL/ollJMP7dEiIoa70PRxDMopieIM72
X-Received: by 2002:a0c:e184:0:b0:68f:d23c:9c35 with SMTP id
 p4-20020a0ce184000000b0068fd23c9c35mr4587100qvl.19.1709122430340; 
 Wed, 28 Feb 2024 04:13:50 -0800 (PST)
Received: from postal.iol.unh.edu (postal.iol.unh.edu.
 [2606:4100:3880:1234::84]) by smtp-relay.gmail.com with ESMTPS id
 r1-20020ad45761000000b0068f5bdfd4easm499845qvx.50.2024.02.28.04.13.50
 (version=TLS1_2 cipher=ECDHE-ECDSA-AES128-GCM-SHA256 bits=128/128);
 Wed, 28 Feb 2024 04:13:50 -0800 (PST)
X-Relaying-Domain: iol.unh.edu
Date: Wed, 28 Feb 2024 04:13:50 -0800 (PST)
Message-ID: <65df237e.d40a0220.cbd13.6476SMTPIN_ADDED_MISSING@mx.google.com>
Received: from [172.21.0.6] (unknown [172.18.0.240])
 by postal.iol.unh.edu (Postfix) with ESMTP id 10DAE6052510;
 Wed, 28 Feb 2024 07:13:50 -0500 (EST)
Subject: |SUCCESS| pw137415-137419 [PATCH] [RFC,v5,6/6] eal: keep per-lcore p
From: dpdklab@iol.unh.edu
To: Test Report <test-report@dpdk.org>
Cc: dpdk-test-reports@iol.unh.edu
In-Reply-To: <20240228100928.524277-7-mattias.ronnblom@ericsson.com>
References: <20240228100928.524277-7-mattias.ronnblom@ericsson.com>
Content-Type: text/plain
X-BeenThere: test-report@dpdk.org
X-Mailman-Version: 2.1.29
Precedence: list
List-Id: automatic DPDK test reports <test-report.dpdk.org>
List-Unsubscribe: <https://mails.dpdk.org/options/test-report>,
 <mailto:test-report-request@dpdk.org?subject=unsubscribe>
List-Archive: <http://mails.dpdk.org/archives/test-report/>
List-Post: <mailto:test-report@dpdk.org>
List-Help: <mailto:test-report-request@dpdk.org?subject=help>
List-Subscribe: <https://mails.dpdk.org/listinfo/test-report>,
 <mailto:test-report-request@dpdk.org?subject=subscribe>
Errors-To: test-report-bounces@dpdk.org

Test-Label: iol-abi-testing
Test-Status: SUCCESS
http://dpdk.org/patch/137419

_Testing PASS_

Submitter: Mattias Ronnblom <mattias.ronnblom@ericsson.com>
Date: Wednesday, February 28 2024 10:09:28 
DPDK git baseline: Repo:dpdk
  Branch: master
  CommitID:92c0ad70caf3ed6f4b93de6ddaf7bc369737c049

137415-137419 --> testing pass

Test environment and result as below:

+------------------+----------+
|   Environment    | abi_test |
+==================+==========+
| Fedora 37        | PASS     |
+------------------+----------+
| Ubuntu 22.04     | PASS     |
+------------------+----------+
| Debian Bullseye  | PASS     |
+------------------+----------+
| Fedora 38        | PASS     |
+------------------+----------+
| CentOS Stream 8  | PASS     |
+------------------+----------+
| Debian 12 (arm)  | PASS     |
+------------------+----------+
| RHEL8            | PASS     |
+------------------+----------+
| openSUSE Leap 15 | PASS     |
+------------------+----------+
| CentOS Stream 9  | PASS     |
+------------------+----------+


Fedora 37
	Kernel: Depends on container host system
	Compiler: gcc 12.3.1

Ubuntu 22.04
	Kernel: 4.18.0-240.10.1.el8_3.x86_64
	Compiler: gcc 11.3.0

Debian Bullseye
	Kernel: 5.4.0-122-generic
	Compiler: gcc 10.2.1-6

Fedora 38
	Kernel: Depends on container host
	Compiler: clang 16.0.3

CentOS Stream 8
	Kernel: 4.18.0-240.10.1.el8_3.x86_64
	Compiler: gcc 8.4.1 20200928

Debian 12 (arm)
	Kernel: Container Host Kernel
	Compiler: gcc 11

RHEL8
	Kernel: 4.18.0-240.10.1.el8_3.x86_64
	Compiler: gcc 8.3.1 20191121 (Red Hat 8.3.1-5)

openSUSE Leap 15
	Kernel: 4.18.0-240.10.1.el8_3.x86_64
	Compiler: gcc 7.5.0

CentOS Stream 9
	Kernel: 4.18.0-240.10.1.el8_3.x86_64
	Compiler: gcc 11.3.1 20220421

To view detailed results, visit:
https://lab.dpdk.org/results/dashboard/patchsets/29312/

UNH-IOL DPDK Community Lab

To manage your email subscriptions, visit: 
https://lab.dpdk.org/results/dashboard/preferences/subscriptions/