From mboxrd@z Thu Jan  1 00:00:00 1970
Return-Path: <test-report-bounces@dpdk.org>
Received: from mails.dpdk.org (mails.dpdk.org [217.70.189.124])
	by inbox.dpdk.org (Postfix) with ESMTP id CE31443C20
	for <public@inbox.dpdk.org>; Wed, 28 Feb 2024 13:15:51 +0100 (CET)
Received: from mails.dpdk.org (localhost [127.0.0.1])
	by mails.dpdk.org (Postfix) with ESMTP id CA5D1410FA;
	Wed, 28 Feb 2024 13:15:51 +0100 (CET)
Received: from mail-yw1-f227.google.com (mail-yw1-f227.google.com
 [209.85.128.227])
 by mails.dpdk.org (Postfix) with ESMTP id 3408740A70
 for <test-report@dpdk.org>; Wed, 28 Feb 2024 13:15:40 +0100 (CET)
Received: by mail-yw1-f227.google.com with SMTP id
 00721157ae682-60925d20af0so19794007b3.2
 for <test-report@dpdk.org>; Wed, 28 Feb 2024 04:15:40 -0800 (PST)
DKIM-Signature: v=1; a=rsa-sha256; c=relaxed/relaxed;
 d=iol.unh.edu; s=unh-iol; t=1709122539; x=1709727339; darn=dpdk.org;
 h=references:in-reply-to:cc:to:from:subject:message-id:date:from:to
 :cc:subject:date:message-id:reply-to;
 bh=L0jdyL0UYNVBFeqXiRy42usSaluir80y+xtiwsD4f3A=;
 b=Cqon4tsMB0VQsCvARMydz0R6nvaXz1Qx53JQBzV6T6KGIjGHihCfT8sPUCk4LeWuJo
 Jb84AcbubW+TXV/JQo1P/cNLiNh1JTixH1mDqfRURH9RprfYYGfpwjvD6T5nkn57otX8
 Ml6mbkrKSIxFa+AxBITuX/kwIXBG933B2q0Wk=
X-Google-DKIM-Signature: v=1; a=rsa-sha256; c=relaxed/relaxed;
 d=1e100.net; s=20230601; t=1709122539; x=1709727339;
 h=references:in-reply-to:cc:to:from:subject:message-id:date
 :x-gm-message-state:from:to:cc:subject:date:message-id:reply-to;
 bh=L0jdyL0UYNVBFeqXiRy42usSaluir80y+xtiwsD4f3A=;
 b=ifRAH5KSAMxdn8aKc2M+8IuoeIGc4qve8Y3r1Jp++i3ht58aA/ukzmlNWiSDc1GpcP
 2NunWxuVRdJl09pP/K0bAfqkEoUx39t3FQi+BFqG9mLA8YJ5lWsHdwdqX4pUa6/L9P8h
 +NsBwUy2hkCdzKwarUZc+/yT92EsEwFbFjFGO9r8C8K9OvqiDhD9siMGtH9UkyVk9vsm
 3i2i5uKbC54qkjlCWn/tmPUeyXHX7d9YGik0E/eeXceOdwF1A1inj37gPa7n7IysDOaQ
 Sv95OvIZPfFH7sHNuxVpwdwKvlrznFziEbgA5f1/Q7M0xQtJfTI9p79C0uRzhykasccl
 Z/Eg==
X-Gm-Message-State: AOJu0Yyp/ZqKIkW7l2nCvUruHEWhZx3SgfJMPLC3VpqBAF9liANz2pTo
 KDkjOClI/iOMHDQdJnImX66U2YzllmoYd9vuTO98cKA4l7UQIXXcRsqV6LGQUDwZaV7Q/XlBb/X
 kY4WLitdqU60wxNFKy7q6sAelcTEHBu2gjeo3S3rY
X-Google-Smtp-Source: AGHT+IGIGYC40/IyKpK/v3LB97wtlYQIIqbCDhqWqWk6G345HlHUEmkN4oVKBlm9k+VCxpy719NY943RiFZy
X-Received: by 2002:a05:690c:f94:b0:609:4326:771d with SMTP id
 df20-20020a05690c0f9400b006094326771dmr965141ywb.16.1709122539558; 
 Wed, 28 Feb 2024 04:15:39 -0800 (PST)
Received: from postal.iol.unh.edu (postal.iol.unh.edu. [132.177.123.84])
 by smtp-relay.gmail.com with ESMTPS id
 u11-20020a81600b000000b00607853652e7sm645537ywb.20.2024.02.28.04.15.39
 (version=TLS1_2 cipher=ECDHE-ECDSA-AES128-GCM-SHA256 bits=128/128);
 Wed, 28 Feb 2024 04:15:39 -0800 (PST)
X-Relaying-Domain: iol.unh.edu
Date: Wed, 28 Feb 2024 04:15:39 -0800 (PST)
Message-ID: <65df23eb.810a0220.16d61.65aeSMTPIN_ADDED_MISSING@mx.google.com>
Received: from [172.21.0.6] (unknown [172.18.0.240])
 by postal.iol.unh.edu (Postfix) with ESMTP id 423A36052510;
 Wed, 28 Feb 2024 07:15:39 -0500 (EST)
Subject: |SUCCESS| pw137421-137424 [PATCH] [v2,4/4] net/mlx5: add support for
From: dpdklab@iol.unh.edu
To: Test Report <test-report@dpdk.org>
Cc: dpdk-test-reports@iol.unh.edu
In-Reply-To: <20240228102526.434717-5-getelson@nvidia.com>
References: <20240228102526.434717-5-getelson@nvidia.com>
Content-Type: text/plain
X-BeenThere: test-report@dpdk.org
X-Mailman-Version: 2.1.29
Precedence: list
List-Id: automatic DPDK test reports <test-report.dpdk.org>
List-Unsubscribe: <https://mails.dpdk.org/options/test-report>,
 <mailto:test-report-request@dpdk.org?subject=unsubscribe>
List-Archive: <http://mails.dpdk.org/archives/test-report/>
List-Post: <mailto:test-report@dpdk.org>
List-Help: <mailto:test-report-request@dpdk.org?subject=help>
List-Subscribe: <https://mails.dpdk.org/listinfo/test-report>,
 <mailto:test-report-request@dpdk.org?subject=subscribe>
Errors-To: test-report-bounces@dpdk.org

Test-Label: iol-compile-amd64-testing
Test-Status: SUCCESS
http://dpdk.org/patch/137424

_Testing PASS_

Submitter: Gregory Etelson <getelson@nvidia.com>
Date: Wednesday, February 28 2024 10:25:26 
DPDK git baseline: Repo:dpdk
  Branch: master
  CommitID:fba0d7ac2d84dbe0e12b4989198640e14216762b

137421-137424 --> testing pass

Test environment and result as below:

+---------------------+--------------------+----------------------+
|     Environment     | dpdk_meson_compile | dpdk_mingw64_compile |
+=====================+====================+======================+
| Windows Server 2022 | PASS               | SKIPPED              |
+---------------------+--------------------+----------------------+
| FreeBSD 13.2        | PASS               | SKIPPED              |
+---------------------+--------------------+----------------------+
| Windows Server 2019 | PASS               | PASS                 |
+---------------------+--------------------+----------------------+
| CentOS Stream 8     | PASS               | SKIPPED              |
+---------------------+--------------------+----------------------+
| Fedora 37           | PASS               | SKIPPED              |
+---------------------+--------------------+----------------------+
| Debian 12 (arm)     | PASS               | SKIPPED              |
+---------------------+--------------------+----------------------+
| CentOS Stream 9     | PASS               | SKIPPED              |
+---------------------+--------------------+----------------------+
| Debian Bullseye     | PASS               | SKIPPED              |
+---------------------+--------------------+----------------------+
| Fedora 38           | PASS               | SKIPPED              |
+---------------------+--------------------+----------------------+
| openSUSE Leap 15    | PASS               | SKIPPED              |
+---------------------+--------------------+----------------------+
| Ubuntu 20.04        | PASS               | SKIPPED              |
+---------------------+--------------------+----------------------+
| Ubuntu 22.04        | PASS               | SKIPPED              |
+---------------------+--------------------+----------------------+
| RHEL8               | PASS               | SKIPPED              |
+---------------------+--------------------+----------------------+
| Alpine              | PASS               | SKIPPED              |
+---------------------+--------------------+----------------------+


Windows Server 2022
	Kernel: OS Build 20348.2031
	Compiler: MSVC VS-Preview

FreeBSD 13.2
	Kernel: 13.2
	Compiler: clang 11.3.0

Windows Server 2019
	Kernel: 10.0
	Compiler: clang 14.0 and gcc 8.1.0 (MinGW)

CentOS Stream 8
	Kernel: 4.18.0-240.10.1.el8_3.x86_64
	Compiler: gcc 8.4.1 20200928

Fedora 37
	Kernel: Depends on container host system
	Compiler: gcc 12.3.1

Debian 12 (arm)
	Kernel: Container Host Kernel
	Compiler: gcc 11

CentOS Stream 9
	Kernel: 4.18.0-240.10.1.el8_3.x86_64
	Compiler: gcc 11.3.1 20220421

Debian Bullseye
	Kernel: 5.4.0-122-generic
	Compiler: gcc 10.2.1-6

Fedora 38
	Kernel: Depends on container host
	Compiler: gcc 13.1.1

openSUSE Leap 15
	Kernel: 4.18.0-240.10.1.el8_3.x86_64
	Compiler: gcc 7.5.0

Ubuntu 20.04
	Kernel: 5.4.0-153-generic
	Compiler: gcc 9.4.0-1ubuntu1~20.04.1

Ubuntu 22.04
	Kernel: 4.18.0-240.10.1.el8_3.x86_64
	Compiler: gcc 11.3.0

RHEL8
	Kernel: 4.18.0-240.10.1.el8_3.x86_64
	Compiler: gcc 8.3.1 20191121 (Red Hat 8.3.1-5)

Alpine
	Kernel: 5.4.0-73-generic
	Compiler: gcc (Alpine 10.3.1_git20210424) 10.3.1 20210424

To view detailed results, visit:
https://lab.dpdk.org/results/dashboard/patchsets/29313/

UNH-IOL DPDK Community Lab

To manage your email subscriptions, visit: 
https://lab.dpdk.org/results/dashboard/preferences/subscriptions/