From mboxrd@z Thu Jan  1 00:00:00 1970
Return-Path: <test-report-bounces@dpdk.org>
Received: from mails.dpdk.org (mails.dpdk.org [217.70.189.124])
	by inbox.dpdk.org (Postfix) with ESMTP id 2BDBD43C20
	for <public@inbox.dpdk.org>; Wed, 28 Feb 2024 13:16:53 +0100 (CET)
Received: from mails.dpdk.org (localhost [127.0.0.1])
	by mails.dpdk.org (Postfix) with ESMTP id 2859B410FA;
	Wed, 28 Feb 2024 13:16:53 +0100 (CET)
Received: from mail-vs1-f100.google.com (mail-vs1-f100.google.com
 [209.85.217.100])
 by mails.dpdk.org (Postfix) with ESMTP id 39DA540A70
 for <test-report@dpdk.org>; Wed, 28 Feb 2024 13:16:52 +0100 (CET)
Received: by mail-vs1-f100.google.com with SMTP id
 ada2fe7eead31-4725acb539cso435492137.3
 for <test-report@dpdk.org>; Wed, 28 Feb 2024 04:16:52 -0800 (PST)
DKIM-Signature: v=1; a=rsa-sha256; c=relaxed/relaxed;
 d=iol.unh.edu; s=unh-iol; t=1709122611; x=1709727411; darn=dpdk.org;
 h=references:in-reply-to:cc:to:from:subject:message-id:date:from:to
 :cc:subject:date:message-id:reply-to;
 bh=owzNrZxk2w/z1WUHesQkX/nW6bv0+ub0YMSuM4Hqx+Q=;
 b=NAQ2ptFTTXBggGU+ojuwvMwrC5IuX4w4axj85ZkGUU67aG8Gh45heJr+WzupaNkRRi
 z5Vr9NrZF3c9Q9lGLs4xv+EjxUtKTbUqE+faj10Xrrv9ZpDx4Zli8tzhzFYRpC+BID+g
 juA80H6Ac8fVC8cc0jguui8NVqw9ai4Zvs4xA=
X-Google-DKIM-Signature: v=1; a=rsa-sha256; c=relaxed/relaxed;
 d=1e100.net; s=20230601; t=1709122611; x=1709727411;
 h=references:in-reply-to:cc:to:from:subject:message-id:date
 :x-gm-message-state:from:to:cc:subject:date:message-id:reply-to;
 bh=owzNrZxk2w/z1WUHesQkX/nW6bv0+ub0YMSuM4Hqx+Q=;
 b=vedzKDfjWJbXu7/vt3SBzJwiSNAYsKEJRslHmKqBx+67vILTPc+IIkrl0qvMCe+ITf
 C2e63gN14kJxiZR/yZNmkNbKJ72IeHbt0CV8R6ISV+FOKu5OfhRVruQKqH1lgMzsXgrG
 TjJe6NYm+WambPjlTOoD93N8C9Df138Xm1ba/O/ka86B1C9PXESNAUTudxdCGPLvoTkd
 CqAfzU3anU7CPv29lrplpgYehLZSnIJjTu0ZVJptrQMXc678JS7GGffcpcOvHx1GkOdh
 cyMwtXt3C/QV4vMWu9Ppt01fwCuToe4EnS6gYM3oOb9uBFlqTQhaYFKDHm4RFAzlXD06
 xiLA==
X-Gm-Message-State: AOJu0YzJxFmGjwyFJbp1Rpq27lTIO4rRpujMaYwOlLg1jFHYWVwKxhHo
 6tNyIjvRZ254xWU6KsWQ9W/p0IGGZp0ZhfuYz1QbG4ObreZK54OREUNEGihXqK9UeCB+ob51hqG
 70lg5iieW0iBKYjEdB1yp2kK0JN824SQH4fwjTPz3
X-Google-Smtp-Source: AGHT+IH+ZnnPBZHQzinIuSYziaSvv67TJ+OhrrSDN6XwX4U/zArFtg4DgYQd/5TjUj9VdoIQMHf9Td1IklJw
X-Received: by 2002:a67:ee0b:0:b0:472:63b8:fb16 with SMTP id
 f11-20020a67ee0b000000b0047263b8fb16mr3451343vsp.31.1709122611578; 
 Wed, 28 Feb 2024 04:16:51 -0800 (PST)
Received: from postal.iol.unh.edu (postal.iol.unh.edu. [132.177.123.84])
 by smtp-relay.gmail.com with ESMTPS id
 a15-20020a056102094f00b004724b271e8dsm265981vsi.1.2024.02.28.04.16.51
 (version=TLS1_2 cipher=ECDHE-ECDSA-AES128-GCM-SHA256 bits=128/128);
 Wed, 28 Feb 2024 04:16:51 -0800 (PST)
X-Relaying-Domain: iol.unh.edu
Date: Wed, 28 Feb 2024 04:16:51 -0800 (PST)
Message-ID: <65df2433.050a0220.2d1ff.b344SMTPIN_ADDED_MISSING@mx.google.com>
Received: from [172.21.0.6] (unknown [172.18.0.240])
 by postal.iol.unh.edu (Postfix) with ESMTP id 3F9456052510;
 Wed, 28 Feb 2024 07:16:51 -0500 (EST)
Subject: |SUCCESS| pw137421-137424 [PATCH] [v2,4/4] net/mlx5: add support for
From: dpdklab@iol.unh.edu
To: Test Report <test-report@dpdk.org>
Cc: dpdk-test-reports@iol.unh.edu
In-Reply-To: <20240228102526.434717-5-getelson@nvidia.com>
References: <20240228102526.434717-5-getelson@nvidia.com>
Content-Type: text/plain
X-BeenThere: test-report@dpdk.org
X-Mailman-Version: 2.1.29
Precedence: list
List-Id: automatic DPDK test reports <test-report.dpdk.org>
List-Unsubscribe: <https://mails.dpdk.org/options/test-report>,
 <mailto:test-report-request@dpdk.org?subject=unsubscribe>
List-Archive: <http://mails.dpdk.org/archives/test-report/>
List-Post: <mailto:test-report@dpdk.org>
List-Help: <mailto:test-report-request@dpdk.org?subject=help>
List-Subscribe: <https://mails.dpdk.org/listinfo/test-report>,
 <mailto:test-report-request@dpdk.org?subject=subscribe>
Errors-To: test-report-bounces@dpdk.org

Test-Label: iol-unit-amd64-testing
Test-Status: SUCCESS
http://dpdk.org/patch/137424

_Testing PASS_

Submitter: Gregory Etelson <getelson@nvidia.com>
Date: Wednesday, February 28 2024 10:25:26 
DPDK git baseline: Repo:dpdk
  Branch: master
  CommitID:fba0d7ac2d84dbe0e12b4989198640e14216762b

137421-137424 --> testing pass

Test environment and result as below:

+------------------+----------------+
|   Environment    | dpdk_unit_test |
+==================+================+
| CentOS Stream 8  | PASS           |
+------------------+----------------+
| Debian Bullseye  | PASS           |
+------------------+----------------+
| CentOS Stream 9  | PASS           |
+------------------+----------------+
| Debian 12 (arm)  | PASS           |
+------------------+----------------+
| Fedora 37        | PASS           |
+------------------+----------------+
| Fedora 38        | PASS           |
+------------------+----------------+
| openSUSE Leap 15 | PASS           |
+------------------+----------------+
| Ubuntu 22.04     | PASS           |
+------------------+----------------+
| RHEL8            | PASS           |
+------------------+----------------+
| Ubuntu 20.04     | PASS           |
+------------------+----------------+


CentOS Stream 8
	Kernel: 4.18.0-240.10.1.el8_3.x86_64
	Compiler: gcc 8.4.1 20200928

Debian Bullseye
	Kernel: 5.4.0-122-generic
	Compiler: gcc 10.2.1-6

CentOS Stream 9
	Kernel: 4.18.0-240.10.1.el8_3.x86_64
	Compiler: gcc 11.3.1 20220421

Debian 12 (arm)
	Kernel: Container Host Kernel
	Compiler: gcc 11

Fedora 37
	Kernel: Depends on container host system
	Compiler: gcc 12.3.1

Fedora 38
	Kernel: Depends on container host
	Compiler: gcc 13.1.1

openSUSE Leap 15
	Kernel: 4.18.0-240.10.1.el8_3.x86_64
	Compiler: gcc 7.5.0

Ubuntu 22.04
	Kernel: 4.18.0-240.10.1.el8_3.x86_64
	Compiler: gcc 11.3.0

RHEL8
	Kernel: 4.18.0-240.10.1.el8_3.x86_64
	Compiler: gcc 8.3.1 20191121 (Red Hat 8.3.1-5)

Ubuntu 20.04
	Kernel: 5.4.0-153-generic
	Compiler: gcc 9.4.0-1ubuntu1~20.04.1

To view detailed results, visit:
https://lab.dpdk.org/results/dashboard/patchsets/29313/

UNH-IOL DPDK Community Lab

To manage your email subscriptions, visit: 
https://lab.dpdk.org/results/dashboard/preferences/subscriptions/