From mboxrd@z Thu Jan  1 00:00:00 1970
Return-Path: <test-report-bounces@dpdk.org>
Received: from mails.dpdk.org (mails.dpdk.org [217.70.189.124])
	by inbox.dpdk.org (Postfix) with ESMTP id B670643C20
	for <public@inbox.dpdk.org>; Wed, 28 Feb 2024 13:21:09 +0100 (CET)
Received: from mails.dpdk.org (localhost [127.0.0.1])
	by mails.dpdk.org (Postfix) with ESMTP id 9215840A70;
	Wed, 28 Feb 2024 13:21:09 +0100 (CET)
Received: from mail-yw1-f225.google.com (mail-yw1-f225.google.com
 [209.85.128.225])
 by mails.dpdk.org (Postfix) with ESMTP id 449D64003C
 for <test-report@dpdk.org>; Wed, 28 Feb 2024 13:21:08 +0100 (CET)
Received: by mail-yw1-f225.google.com with SMTP id
 00721157ae682-60915328139so30124237b3.0
 for <test-report@dpdk.org>; Wed, 28 Feb 2024 04:21:08 -0800 (PST)
DKIM-Signature: v=1; a=rsa-sha256; c=relaxed/relaxed;
 d=iol.unh.edu; s=unh-iol; t=1709122867; x=1709727667; darn=dpdk.org;
 h=references:in-reply-to:cc:to:from:subject:message-id:date:from:to
 :cc:subject:date:message-id:reply-to;
 bh=21GMzoTeK869VRPPruO5C8ggK3XsJMJ87Gdvfh/8G1M=;
 b=dWYnlMxxKp3/StPTTS9HTS+VTN5sGR+dgCHultHrht5ohiSk2f9yzwcqU36xAPdA7K
 mfE6Gig9s2+9ABCa547VS+1a3Kbat/lWtv0qw3vxEk5pLmjiHviEOwrRsXMOSkRY9TRE
 8glA/JLrtrsw0ikictwDAHd/x24SrgPPKhPx8=
X-Google-DKIM-Signature: v=1; a=rsa-sha256; c=relaxed/relaxed;
 d=1e100.net; s=20230601; t=1709122867; x=1709727667;
 h=references:in-reply-to:cc:to:from:subject:message-id:date
 :x-gm-message-state:from:to:cc:subject:date:message-id:reply-to;
 bh=21GMzoTeK869VRPPruO5C8ggK3XsJMJ87Gdvfh/8G1M=;
 b=TmIwuBt1H7k9hY0gxWHaWUZfZ/vRzmT0LHPvhcwFPd7hJHIohHrNP067T/FPSSq01C
 HAHqC44HwSyWAguUqu+xKlzsED8GWBAMpYUu5ATCSayBOBrPrhCoF69AXu8hd9jfSc9C
 TThFO/yol3qqx1fRNOFBn8h74PVlr3Gja7xlG/R1/Mnc3rnIz6oglOOr+M4vfceo+Xxb
 fvppOmiFTKUZLB6Wr4jnhPeyZM8ZOILTr9YXLpMhjLH+p7PFFmbzQObbj0gqz+WVmie1
 v3G5d38ITlk3V1bSsY3T1UQEuE0idte4E4MVQ8WerTsKSsi/tj5yvr7j3d3hDVMjhrsB
 tFlA==
X-Gm-Message-State: AOJu0YzXxNxUqYiljYTn36KVXhG3AxJMSWuo742hS+97yo/nsdtm7a6J
 vQChYaKZiVnRoBAc0ZMxIxAV1Ex84VqjUi25REYukqZVScH3M23c+WptkeWiYdZfB9ybw1g0AvC
 Z1fC3LhV8rklB+uGhqSSpBGE7OfXex+qJuxrEOMUhx8nfLK0ULb4QdbNX
X-Google-Smtp-Source: AGHT+IGj5VIKfqOws/Be2l/QCJRFGi76Ev7NwSXlHFsBfEiIRXW4QeT2EigthRy2r/35vHoWabYIkf2PCH5g
X-Received: by 2002:a81:a98a:0:b0:608:bf09:a16f with SMTP id
 g132-20020a81a98a000000b00608bf09a16fmr4656631ywh.14.1709122867600; 
 Wed, 28 Feb 2024 04:21:07 -0800 (PST)
Received: from postal.iol.unh.edu (postal.iol.unh.edu.
 [2606:4100:3880:1234::84]) by smtp-relay.gmail.com with ESMTPS id
 j205-20020a816ed6000000b00604ac5d5e71sm637467ywc.45.2024.02.28.04.21.07
 (version=TLS1_2 cipher=ECDHE-ECDSA-AES128-GCM-SHA256 bits=128/128);
 Wed, 28 Feb 2024 04:21:07 -0800 (PST)
X-Relaying-Domain: iol.unh.edu
Date: Wed, 28 Feb 2024 04:21:07 -0800 (PST)
Message-ID: <65df2533.810a0220.b9eda.196bSMTPIN_ADDED_MISSING@mx.google.com>
Received: from [172.21.0.6] (unknown [172.18.0.240])
 by postal.iol.unh.edu (Postfix) with ESMTP id 346196052510;
 Wed, 28 Feb 2024 07:21:07 -0500 (EST)
Subject: |SUCCESS| pw137415-137419 [PATCH] [RFC,v5,6/6] eal: keep per-lcore p
From: dpdklab@iol.unh.edu
To: Test Report <test-report@dpdk.org>
Cc: dpdk-test-reports@iol.unh.edu
In-Reply-To: <20240228100928.524277-7-mattias.ronnblom@ericsson.com>
References: <20240228100928.524277-7-mattias.ronnblom@ericsson.com>
Content-Type: text/plain
X-BeenThere: test-report@dpdk.org
X-Mailman-Version: 2.1.29
Precedence: list
List-Id: automatic DPDK test reports <test-report.dpdk.org>
List-Unsubscribe: <https://mails.dpdk.org/options/test-report>,
 <mailto:test-report-request@dpdk.org?subject=unsubscribe>
List-Archive: <http://mails.dpdk.org/archives/test-report/>
List-Post: <mailto:test-report@dpdk.org>
List-Help: <mailto:test-report-request@dpdk.org?subject=help>
List-Subscribe: <https://mails.dpdk.org/listinfo/test-report>,
 <mailto:test-report-request@dpdk.org?subject=subscribe>
Errors-To: test-report-bounces@dpdk.org

Test-Label: iol-abi-testing
Test-Status: SUCCESS
http://dpdk.org/patch/137419

_Testing PASS_

Submitter: Mattias Ronnblom <mattias.ronnblom@ericsson.com>
Date: Wednesday, February 28 2024 10:09:28 
DPDK git baseline: Repo:dpdk
  Branch: master
  CommitID:92c0ad70caf3ed6f4b93de6ddaf7bc369737c049

137415-137419 --> testing pass

Test environment and result as below:

+------------------+----------+
|   Environment    | abi_test |
+==================+==========+
| Fedora 37        | PASS     |
+------------------+----------+
| Ubuntu 22.04     | PASS     |
+------------------+----------+
| Debian Bullseye  | PASS     |
+------------------+----------+
| Fedora 38        | PASS     |
+------------------+----------+
| CentOS Stream 8  | PASS     |
+------------------+----------+
| Debian 12 (arm)  | PASS     |
+------------------+----------+
| RHEL8            | PASS     |
+------------------+----------+
| openSUSE Leap 15 | PASS     |
+------------------+----------+
| CentOS Stream 9  | PASS     |
+------------------+----------+


Fedora 37
	Kernel: Depends on container host system
	Compiler: gcc 12.3.1

Ubuntu 22.04
	Kernel: 4.18.0-240.10.1.el8_3.x86_64
	Compiler: gcc 11.3.0

Debian Bullseye
	Kernel: 5.4.0-122-generic
	Compiler: gcc 10.2.1-6

Fedora 38
	Kernel: Depends on container host
	Compiler: clang 16.0.3

CentOS Stream 8
	Kernel: 4.18.0-240.10.1.el8_3.x86_64
	Compiler: gcc 8.4.1 20200928

Debian 12 (arm)
	Kernel: Container Host Kernel
	Compiler: gcc 11

RHEL8
	Kernel: 4.18.0-240.10.1.el8_3.x86_64
	Compiler: gcc 8.3.1 20191121 (Red Hat 8.3.1-5)

openSUSE Leap 15
	Kernel: 4.18.0-240.10.1.el8_3.x86_64
	Compiler: gcc 7.5.0

CentOS Stream 9
	Kernel: 4.18.0-240.10.1.el8_3.x86_64
	Compiler: gcc 11.3.1 20220421

To view detailed results, visit:
https://lab.dpdk.org/results/dashboard/patchsets/29312/

UNH-IOL DPDK Community Lab

To manage your email subscriptions, visit: 
https://lab.dpdk.org/results/dashboard/preferences/subscriptions/