From mboxrd@z Thu Jan  1 00:00:00 1970
Return-Path: <test-report-bounces@dpdk.org>
Received: from mails.dpdk.org (mails.dpdk.org [217.70.189.124])
	by inbox.dpdk.org (Postfix) with ESMTP id 33C3C43C20
	for <public@inbox.dpdk.org>; Wed, 28 Feb 2024 13:52:50 +0100 (CET)
Received: from mails.dpdk.org (localhost [127.0.0.1])
	by mails.dpdk.org (Postfix) with ESMTP id 2FBEA40A70;
	Wed, 28 Feb 2024 13:52:50 +0100 (CET)
Received: from mail-pl1-f225.google.com (mail-pl1-f225.google.com
 [209.85.214.225])
 by mails.dpdk.org (Postfix) with ESMTP id 8D8334003C
 for <test-report@dpdk.org>; Wed, 28 Feb 2024 13:52:48 +0100 (CET)
Received: by mail-pl1-f225.google.com with SMTP id
 d9443c01a7336-1dc29f1956cso37921925ad.0
 for <test-report@dpdk.org>; Wed, 28 Feb 2024 04:52:48 -0800 (PST)
DKIM-Signature: v=1; a=rsa-sha256; c=relaxed/relaxed;
 d=iol.unh.edu; s=unh-iol; t=1709124768; x=1709729568; darn=dpdk.org;
 h=references:in-reply-to:cc:to:from:subject:message-id:date:from:to
 :cc:subject:date:message-id:reply-to;
 bh=6iEG0Yu1zrvKtGpUlgjs0gIJu3G/+HvzZnpFqUFUaR0=;
 b=SyqeB/VFhMG49Pv3XbzGHzXGUPpg4MkHAgg1Rv1OmPqOpK5HXTHnvxhalL8RXcD8va
 T+LVDuRY9dJks2re+LgTIf7b1Wg3+DIey0gu3/Vb6IO47NbW/YbFPeJJjO0vytcbxrWL
 hAuHdt0nGU5gghOmWBCdEfXZmXBu68SesYNl8=
X-Google-DKIM-Signature: v=1; a=rsa-sha256; c=relaxed/relaxed;
 d=1e100.net; s=20230601; t=1709124768; x=1709729568;
 h=references:in-reply-to:cc:to:from:subject:message-id:date
 :x-gm-message-state:from:to:cc:subject:date:message-id:reply-to;
 bh=6iEG0Yu1zrvKtGpUlgjs0gIJu3G/+HvzZnpFqUFUaR0=;
 b=lVlmJac/5PShV3j6PQucwGvIAZ/AFjBWTHzx+TJ6xWsCoeotiwZMnGQR92RaqG9tMV
 nZ6YzmGMrUC+KnjVOiIiKkgtalz5k1tdJ98H1kWNlDt5c9I9SksnaXeOesMrRCbIvNXo
 RJxIrmrwHRcOxZOl8uAVZbA9mrwshYHScgXdLzLXPa7baEvS0RV7r+5simYF6+6h/mGP
 RT9TVibk1ke/JqmsyyLko29GbMrs5ED/8t6VNtHmJU7U00D5TEhn4iBvn8gZ9zxO7CnO
 uWlKxVNzU/Z6I2CLTpTrjJPnIcwJdWKy9HsuZNUisF/FxTMwqcTMzVHlMSb019R9Mao/
 yQSg==
X-Gm-Message-State: AOJu0YyZb1NlW8YbKMW9Q6LGEUdBGHxul8nP27WM8EYBct528Cq+AWS2
 vClCxBlAhKm3q2sL8cIBvHzxo29JMMNhlL9FdX62l9nbYA5v0XPwpr6sU2kWXLB4LUIBHREJWxK
 pyVeZNzyUhrkHEoK6DlbzjE4Jelw8Bv4Ru0t9wn5w
X-Google-Smtp-Source: AGHT+IFnxcLE8D6HAJCQaA1oq9IGs36hzDi1ziQ5Dg8USni7GMkxBovnYid9PlBMx5WnsgIfOOlM9+h+0hFd
X-Received: by 2002:a17:902:d2c5:b0:1dc:524:6da4 with SMTP id
 n5-20020a170902d2c500b001dc05246da4mr15637756plc.8.1709124767877; 
 Wed, 28 Feb 2024 04:52:47 -0800 (PST)
Received: from postal.iol.unh.edu (postal.iol.unh.edu. [132.177.123.84])
 by smtp-relay.gmail.com with ESMTPS id
 ky8-20020a170902f98800b001dcc47213absm66138plb.144.2024.02.28.04.52.47
 (version=TLS1_2 cipher=ECDHE-ECDSA-AES128-GCM-SHA256 bits=128/128);
 Wed, 28 Feb 2024 04:52:47 -0800 (PST)
X-Relaying-Domain: iol.unh.edu
Date: Wed, 28 Feb 2024 04:52:47 -0800 (PST)
Message-ID: <65df2c9f.170a0220.1f987.4f6fSMTPIN_ADDED_MISSING@mx.google.com>
Received: from [172.17.0.8] (unknown [172.18.0.217])
 by postal.iol.unh.edu (Postfix) with ESMTP id 9BCD56052510;
 Wed, 28 Feb 2024 07:52:46 -0500 (EST)
Subject: |SUCCESS| pw137415-137419 [PATCH] [RFC,v5,6/6] eal: keep per-lcore p
From: dpdklab@iol.unh.edu
To: Test Report <test-report@dpdk.org>
Cc: dpdk-test-reports@iol.unh.edu
In-Reply-To: <20240228100928.524277-7-mattias.ronnblom@ericsson.com>
References: <20240228100928.524277-7-mattias.ronnblom@ericsson.com>
Content-Type: text/plain
X-BeenThere: test-report@dpdk.org
X-Mailman-Version: 2.1.29
Precedence: list
List-Id: automatic DPDK test reports <test-report.dpdk.org>
List-Unsubscribe: <https://mails.dpdk.org/options/test-report>,
 <mailto:test-report-request@dpdk.org?subject=unsubscribe>
List-Archive: <http://mails.dpdk.org/archives/test-report/>
List-Post: <mailto:test-report@dpdk.org>
List-Help: <mailto:test-report-request@dpdk.org?subject=help>
List-Subscribe: <https://mails.dpdk.org/listinfo/test-report>,
 <mailto:test-report-request@dpdk.org?subject=subscribe>
Errors-To: test-report-bounces@dpdk.org

Test-Label: iol-unit-amd64-testing
Test-Status: SUCCESS
http://dpdk.org/patch/137419

_Testing PASS_

Submitter: Mattias Ronnblom <mattias.ronnblom@ericsson.com>
Date: Wednesday, February 28 2024 10:09:28 
DPDK git baseline: Repo:dpdk
  Branch: master
  CommitID:92c0ad70caf3ed6f4b93de6ddaf7bc369737c049

137415-137419 --> testing pass

Test environment and result as below:

+------------------+----------------+
|   Environment    | dpdk_unit_test |
+==================+================+
| CentOS Stream 9  | PASS           |
+------------------+----------------+
| CentOS Stream 8  | PASS           |
+------------------+----------------+
| Fedora 37        | PASS           |
+------------------+----------------+
| Debian Bullseye  | PASS           |
+------------------+----------------+
| Fedora 38        | PASS           |
+------------------+----------------+
| Debian 12 (arm)  | PASS           |
+------------------+----------------+
| RHEL8            | PASS           |
+------------------+----------------+
| openSUSE Leap 15 | PASS           |
+------------------+----------------+
| Ubuntu 20.04     | PASS           |
+------------------+----------------+
| Ubuntu 22.04     | PASS           |
+------------------+----------------+


CentOS Stream 9
	Kernel: 4.18.0-240.10.1.el8_3.x86_64
	Compiler: gcc 11.3.1 20220421

CentOS Stream 8
	Kernel: 4.18.0-240.10.1.el8_3.x86_64
	Compiler: gcc 8.4.1 20200928

Fedora 37
	Kernel: Depends on container host system
	Compiler: gcc 12.3.1

Debian Bullseye
	Kernel: 5.4.0-122-generic
	Compiler: gcc 10.2.1-6

Fedora 38
	Kernel: Depends on container host
	Compiler: gcc 13.1.1

Debian 12 (arm)
	Kernel: Container Host Kernel
	Compiler: gcc 11

RHEL8
	Kernel: 4.18.0-240.10.1.el8_3.x86_64
	Compiler: gcc 8.3.1 20191121 (Red Hat 8.3.1-5)

openSUSE Leap 15
	Kernel: 4.18.0-240.10.1.el8_3.x86_64
	Compiler: gcc 7.5.0

Ubuntu 20.04
	Kernel: 5.4.0-153-generic
	Compiler: gcc 9.4.0-1ubuntu1~20.04.1

Ubuntu 22.04
	Kernel: 4.18.0-240.10.1.el8_3.x86_64
	Compiler: gcc 11.3.0

To view detailed results, visit:
https://lab.dpdk.org/results/dashboard/patchsets/29312/

UNH-IOL DPDK Community Lab

To manage your email subscriptions, visit: 
https://lab.dpdk.org/results/dashboard/preferences/subscriptions/