From mboxrd@z Thu Jan 1 00:00:00 1970 Return-Path: Received: from mails.dpdk.org (mails.dpdk.org [217.70.189.124]) by inbox.dpdk.org (Postfix) with ESMTP id 9E68543C20 for ; Wed, 28 Feb 2024 15:10:25 +0100 (CET) Received: from mails.dpdk.org (localhost [127.0.0.1]) by mails.dpdk.org (Postfix) with ESMTP id 8B7A743376; Wed, 28 Feb 2024 15:10:25 +0100 (CET) Received: from mail-pl1-f228.google.com (mail-pl1-f228.google.com [209.85.214.228]) by mails.dpdk.org (Postfix) with ESMTP id C675C40DCD for ; Wed, 28 Feb 2024 15:09:52 +0100 (CET) Received: by mail-pl1-f228.google.com with SMTP id d9443c01a7336-1dcce5e84bcso3501055ad.1 for ; Wed, 28 Feb 2024 06:09:52 -0800 (PST) DKIM-Signature: v=1; a=rsa-sha256; c=relaxed/relaxed; d=iol.unh.edu; s=unh-iol; t=1709129392; x=1709734192; darn=dpdk.org; h=references:in-reply-to:cc:to:from:subject:message-id:date:from:to :cc:subject:date:message-id:reply-to; bh=yiMg9tu8DxrLKiiTJIeLm7LaCO8IoWLI/KbwTWb9qNA=; b=XhJYsC1nsfP19G1KSil5nIRCdMVK3cidUqk4338LsZ6/HaIOYS87Lp/2fMUrsby8m1 ebpN2vWjfREj8XvM7Rnj4HFQsYO102zH01si+o82eiQX8ZMHZ2SqqofJa3f2xo2mitim dUX+GCgy9lKZmGFxV8cljAYeU3w8CgOvCg/Bs= X-Google-DKIM-Signature: v=1; a=rsa-sha256; c=relaxed/relaxed; d=1e100.net; s=20230601; t=1709129392; x=1709734192; h=references:in-reply-to:cc:to:from:subject:message-id:date :x-gm-message-state:from:to:cc:subject:date:message-id:reply-to; bh=yiMg9tu8DxrLKiiTJIeLm7LaCO8IoWLI/KbwTWb9qNA=; b=Yr8e2VntnwnE4CWeO3VmiMNgDot8Z5JaVD0xijRNXn/LYYvLS2kkvWGbRw/68PgIvI C5bxgrAesaHRlThAWvUAz0rhB5twFpxgg8qYlSPwthrrVa4lWywy9rrhoumMBv4bMkkm aJDwKtncjrCG+xSM4ExXRhbvN4O3Era5We1Pk4c6d4sygyCqtNSyxDn45u0ASVupgJrb QacwsK6WsdSw8edeywlPL1dXkVk/0hltNvLhlpNSArgqm7HmMxZ4AYu0DgcfY09PKD8W idqTVBqnct8jGuooQpnQ8q5VZW/W+xoejywBldaTcyxFRvbxKPNMH7cHW9xNWb9ndYWp Sd4Q== X-Gm-Message-State: AOJu0YzB6LVWsXVD2mQ+AcfmyhtlEnx1bLLRLZaz7vlOwIL+o+wiudVg MSgUZ4S9EVNPME+aNr9mudJQCTlY3qrULHXB4Q2tfpb7vgUwHqNL5j1mu+CxmSZ7f1NIT4UhX6x /ESMvzfr8QenKik/zJ7RbAGVpbhnX3XaSLphqiI9W/H9lcx7PMWH3xwbW X-Google-Smtp-Source: AGHT+IGFG35V8GfyqKAwzBh8k57FEzakCy+ALO2bMtb3vf6snaQHa2py5AWhHXrm3DX+qAJouiJnA9R9Uozj X-Received: by 2002:a17:90a:d913:b0:299:f750:9670 with SMTP id c19-20020a17090ad91300b00299f7509670mr9832479pjv.7.1709129391803; Wed, 28 Feb 2024 06:09:51 -0800 (PST) Received: from postal.iol.unh.edu (postal.iol.unh.edu. [2606:4100:3880:1234::84]) by smtp-relay.gmail.com with ESMTPS id w3-20020a17090aaf8300b0029af701b57esm61579pjq.13.2024.02.28.06.09.51 (version=TLS1_2 cipher=ECDHE-ECDSA-AES128-GCM-SHA256 bits=128/128); Wed, 28 Feb 2024 06:09:51 -0800 (PST) X-Relaying-Domain: iol.unh.edu Date: Wed, 28 Feb 2024 06:09:51 -0800 (PST) Message-ID: <65df3eaf.170a0220.d1306.4532SMTPIN_ADDED_MISSING@mx.google.com> Received: from [172.17.0.9] (unknown [172.18.0.217]) by postal.iol.unh.edu (Postfix) with ESMTP id AC9BE6052512; Wed, 28 Feb 2024 09:09:50 -0500 (EST) Subject: |SUCCESS| pw137413 [PATCH] net/mlx5: add HWS support for matching in From: dpdklab@iol.unh.edu To: Test Report Cc: dpdk-test-reports@iol.unh.edu In-Reply-To: <20240228094056.3107676-1-michaelba@nvidia.com> References: <20240228094056.3107676-1-michaelba@nvidia.com> Content-Type: text/plain X-BeenThere: test-report@dpdk.org X-Mailman-Version: 2.1.29 Precedence: list List-Id: automatic DPDK test reports List-Unsubscribe: , List-Archive: List-Post: List-Help: List-Subscribe: , Errors-To: test-report-bounces@dpdk.org Test-Label: iol-unit-arm64-testing Test-Status: SUCCESS http://dpdk.org/patch/137413 _Testing PASS_ Submitter: Michael Baum Date: Wednesday, February 28 2024 09:40:56 DPDK git baseline: Repo:dpdk Branch: master CommitID:fba0d7ac2d84dbe0e12b4989198640e14216762b 137413 --> testing pass Test environment and result as below: +--------------------------+----------------+---------------------------+------------------------------+--------------+ | Environment | dpdk_unit_test | cryptodev_sw_zuc_autotest | cryptodev_sw_snow3g_autotest | lpm_autotest | +==========================+================+===========================+==============================+==============+ | Debian 11 (Buster) (ARM) | PASS | SKIPPED | SKIPPED | SKIPPED | +--------------------------+----------------+---------------------------+------------------------------+--------------+ | Debian 12 (arm) | PASS | PASS | PASS | SKIPPED | +--------------------------+----------------+---------------------------+------------------------------+--------------+ | CentOS Stream 9 (ARM) | PASS | SKIPPED | SKIPPED | SKIPPED | +--------------------------+----------------+---------------------------+------------------------------+--------------+ | Fedora 37 (ARM) | PASS | SKIPPED | SKIPPED | SKIPPED | +--------------------------+----------------+---------------------------+------------------------------+--------------+ | Fedora 38 (ARM) | PASS | SKIPPED | SKIPPED | SKIPPED | +--------------------------+----------------+---------------------------+------------------------------+--------------+ | Ubuntu 20.04 (ARM) | PASS | SKIPPED | SKIPPED | SKIPPED | +--------------------------+----------------+---------------------------+------------------------------+--------------+ | Fedora 38 (ARM Clang) | PASS | SKIPPED | SKIPPED | SKIPPED | +--------------------------+----------------+---------------------------+------------------------------+--------------+ | Ubuntu 20.04 ARM SVE | SKIPPED | SKIPPED | SKIPPED | PASS | +--------------------------+----------------+---------------------------+------------------------------+--------------+ Debian 11 (Buster) (ARM) Kernel: Container Host Kernel Compiler: gcc 10.2.1 Debian 12 (arm) Kernel: Container Host Kernel Compiler: gcc 11 CentOS Stream 9 (ARM) Kernel: Container Host Kernel Compiler: gcc 11.3.1 Fedora 37 (ARM) Kernel: Depends on container host Compiler: gcc 12.3.1 Fedora 38 (ARM) Kernel: Depends on container host Compiler: gcc 13.1.1 Ubuntu 20.04 (ARM) Kernel: Container Host Kernel Compiler: gcc 9.4.0 Fedora 38 (ARM Clang) Kernel: Depends on container host Compiler: clang 16.0.3 Ubuntu 20.04 ARM SVE Kernel: 5.4.0-80-generic Compiler: gcc 10.3.0 (Ubuntu 10.3.0-1ubuntu1~20.04) To view detailed results, visit: https://lab.dpdk.org/results/dashboard/patchsets/29310/ UNH-IOL DPDK Community Lab To manage your email subscriptions, visit: https://lab.dpdk.org/results/dashboard/preferences/subscriptions/