From mboxrd@z Thu Jan  1 00:00:00 1970
Return-Path: <test-report-bounces@dpdk.org>
Received: from mails.dpdk.org (mails.dpdk.org [217.70.189.124])
	by inbox.dpdk.org (Postfix) with ESMTP id E687243C2C
	for <public@inbox.dpdk.org>; Wed, 28 Feb 2024 16:12:14 +0100 (CET)
Received: from mails.dpdk.org (localhost [127.0.0.1])
	by mails.dpdk.org (Postfix) with ESMTP id E31DB43401;
	Wed, 28 Feb 2024 16:12:14 +0100 (CET)
Received: from mail-io1-f99.google.com (mail-io1-f99.google.com
 [209.85.166.99]) by mails.dpdk.org (Postfix) with ESMTP id AC11B433F0
 for <test-report@dpdk.org>; Wed, 28 Feb 2024 16:12:13 +0100 (CET)
Received: by mail-io1-f99.google.com with SMTP id
 ca18e2360f4ac-7beda6a274bso247227139f.2
 for <test-report@dpdk.org>; Wed, 28 Feb 2024 07:12:13 -0800 (PST)
DKIM-Signature: v=1; a=rsa-sha256; c=relaxed/relaxed;
 d=iol.unh.edu; s=unh-iol; t=1709133133; x=1709737933; darn=dpdk.org;
 h=references:in-reply-to:cc:to:from:subject:message-id:date:from:to
 :cc:subject:date:message-id:reply-to;
 bh=ZsOzFtntU3gjrzZ4bjegj235AeQN74lI/zhTxiOS4uM=;
 b=RE3wQA7tbhsvjS555+uL4M20GfXFgrNAvnzVbs83P5M/FAixxES3KXO3pWW61azP0D
 i1UDxWo/WGZS5sLnztmwMRsYnpdl35KPQr/v/G+mO4GQMqEWQmUVVQu/p2XNtgOoQVoS
 REDF53jigsSOWCKsJo+Os0qvlPVUbo/TvyLag=
X-Google-DKIM-Signature: v=1; a=rsa-sha256; c=relaxed/relaxed;
 d=1e100.net; s=20230601; t=1709133133; x=1709737933;
 h=references:in-reply-to:cc:to:from:subject:message-id:date
 :x-gm-message-state:from:to:cc:subject:date:message-id:reply-to;
 bh=ZsOzFtntU3gjrzZ4bjegj235AeQN74lI/zhTxiOS4uM=;
 b=AxbtiITtgNY+YOuAS6SCwQ2P+6pPtBKoyzEJhJUIkjnZoyHaEcJGJEBcWNdxefFVDp
 kQssCkYA1RX2j5O6L49njcPPGE8tXA+IY8VZhVWs2hQcCmJ9QwgWzUCKBAO8EB2iiuOE
 9v9gUm9nsGqV5KpUxM70/b0/ekaQBL0xpQz/MhhXLm3aIhCSv5T8WGhuvtG9vYYkIOU2
 3lj1hEB2b3tn9dD5xAz4GxkXmbB0nm/BtqtqfiumsA8zYUf6uJVUqWEVtOMQrtnAfaxt
 V6UROH+kRBvjjeqHv6my/F8rRH83gXRE0s3xrK2hfQgPxUzur0TvS41pp5ImxyuOgYzu
 ibLw==
X-Gm-Message-State: AOJu0YyryyNe8HLdpfNPo/vNNSQ7STyFmA6fLDi257DZRZc8Jr7rtaQ0
 Weo1QMww9okFm2D4PVRw4hiYVi6kUyY53xw8vXBfPZukdA+2+jZV9XFWdSwXaHFHCTh/MkCr7xn
 uWPeahWgnEtNWhR7JVuYhMeC/502/N+SINDJLnM6t
X-Google-Smtp-Source: AGHT+IG2MJ4SHdXWsen0xFaz1BN+AVjEIADhvFKmZWOMANKLSFYAs3UcwUsQSkzUeSxCyx7nuoOZgYsLxdmY
X-Received: by 2002:a92:130d:0:b0:365:c0b:9662 with SMTP id
 13-20020a92130d000000b003650c0b9662mr13199951ilt.32.1709133133008; 
 Wed, 28 Feb 2024 07:12:13 -0800 (PST)
Received: from postal.iol.unh.edu (postal.iol.unh.edu. [132.177.123.84])
 by smtp-relay.gmail.com with ESMTPS id
 g2-20020a92cda2000000b003654e4578a6sm409993ild.44.2024.02.28.07.12.12
 (version=TLS1_2 cipher=ECDHE-ECDSA-AES128-GCM-SHA256 bits=128/128);
 Wed, 28 Feb 2024 07:12:12 -0800 (PST)
X-Relaying-Domain: iol.unh.edu
Date: Wed, 28 Feb 2024 07:12:12 -0800 (PST)
Message-ID: <65df4d4c.920a0220.cbb77.e366SMTPIN_ADDED_MISSING@mx.google.com>
Received: from [172.21.0.6] (unknown [172.18.0.240])
 by postal.iol.unh.edu (Postfix) with ESMTP id 83BBA605250F;
 Wed, 28 Feb 2024 10:12:12 -0500 (EST)
Subject: |SUCCESS| pw137427-137430 [PATCH] [v3,4/4] net/mlx5: add support for
From: dpdklab@iol.unh.edu
To: Test Report <test-report@dpdk.org>
Cc: dpdk-test-reports@iol.unh.edu
In-Reply-To: <20240228133312.474474-5-getelson@nvidia.com>
References: <20240228133312.474474-5-getelson@nvidia.com>
Content-Type: text/plain
X-BeenThere: test-report@dpdk.org
X-Mailman-Version: 2.1.29
Precedence: list
List-Id: automatic DPDK test reports <test-report.dpdk.org>
List-Unsubscribe: <https://mails.dpdk.org/options/test-report>,
 <mailto:test-report-request@dpdk.org?subject=unsubscribe>
List-Archive: <http://mails.dpdk.org/archives/test-report/>
List-Post: <mailto:test-report@dpdk.org>
List-Help: <mailto:test-report-request@dpdk.org?subject=help>
List-Subscribe: <https://mails.dpdk.org/listinfo/test-report>,
 <mailto:test-report-request@dpdk.org?subject=subscribe>
Errors-To: test-report-bounces@dpdk.org

Test-Label: iol-compile-amd64-testing
Test-Status: SUCCESS
http://dpdk.org/patch/137430

_Testing PASS_

Submitter: Gregory Etelson <getelson@nvidia.com>
Date: Wednesday, February 28 2024 13:33:12 
DPDK git baseline: Repo:dpdk
  Branch: master
  CommitID:f0cd4465b336362425eaae17fbaf7ac8f392da91

137427-137430 --> testing pass

Test environment and result as below:

+---------------------+--------------------+----------------------+
|     Environment     | dpdk_meson_compile | dpdk_mingw64_compile |
+=====================+====================+======================+
| Windows Server 2022 | PASS               | SKIPPED              |
+---------------------+--------------------+----------------------+
| Debian 12 (arm)     | PASS               | SKIPPED              |
+---------------------+--------------------+----------------------+
| FreeBSD 13.2        | PASS               | SKIPPED              |
+---------------------+--------------------+----------------------+
| Fedora 37           | PASS               | SKIPPED              |
+---------------------+--------------------+----------------------+
| CentOS Stream 9     | PASS               | SKIPPED              |
+---------------------+--------------------+----------------------+
| Debian Bullseye     | PASS               | SKIPPED              |
+---------------------+--------------------+----------------------+
| Windows Server 2019 | PASS               | PASS                 |
+---------------------+--------------------+----------------------+
| openSUSE Leap 15    | PASS               | SKIPPED              |
+---------------------+--------------------+----------------------+
| Fedora 38           | PASS               | SKIPPED              |
+---------------------+--------------------+----------------------+
| CentOS Stream 8     | PASS               | SKIPPED              |
+---------------------+--------------------+----------------------+
| Ubuntu 22.04        | PASS               | SKIPPED              |
+---------------------+--------------------+----------------------+
| RHEL8               | PASS               | SKIPPED              |
+---------------------+--------------------+----------------------+
| Ubuntu 20.04        | PASS               | SKIPPED              |
+---------------------+--------------------+----------------------+


Windows Server 2022
	Kernel: OS Build 20348.2031
	Compiler: MSVC VS-Preview

Debian 12 (arm)
	Kernel: Container Host Kernel
	Compiler: gcc 11

FreeBSD 13.2
	Kernel: 13.2
	Compiler: clang 11.3.0

Fedora 37
	Kernel: Depends on container host system
	Compiler: gcc 12.3.1

CentOS Stream 9
	Kernel: 4.18.0-240.10.1.el8_3.x86_64
	Compiler: gcc 11.3.1 20220421

Debian Bullseye
	Kernel: 5.4.0-122-generic
	Compiler: gcc 10.2.1-6

Windows Server 2019
	Kernel: 10.0
	Compiler: clang 14.0 and gcc 8.1.0 (MinGW)

openSUSE Leap 15
	Kernel: 4.18.0-240.10.1.el8_3.x86_64
	Compiler: gcc 7.5.0

Fedora 38
	Kernel: Depends on container host
	Compiler: gcc 13.1.1

CentOS Stream 8
	Kernel: 4.18.0-240.10.1.el8_3.x86_64
	Compiler: gcc 8.4.1 20200928

Ubuntu 22.04
	Kernel: 4.18.0-240.10.1.el8_3.x86_64
	Compiler: gcc 11.3.0

RHEL8
	Kernel: 4.18.0-240.10.1.el8_3.x86_64
	Compiler: gcc 8.3.1 20191121 (Red Hat 8.3.1-5)

Ubuntu 20.04
	Kernel: 5.4.0-153-generic
	Compiler: gcc 9.4.0-1ubuntu1~20.04.1

To view detailed results, visit:
https://lab.dpdk.org/results/dashboard/patchsets/29316/

UNH-IOL DPDK Community Lab

To manage your email subscriptions, visit: 
https://lab.dpdk.org/results/dashboard/preferences/subscriptions/