From mboxrd@z Thu Jan  1 00:00:00 1970
Return-Path: <test-report-bounces@dpdk.org>
Received: from mails.dpdk.org (mails.dpdk.org [217.70.189.124])
	by inbox.dpdk.org (Postfix) with ESMTP id 80DF443C2C
	for <public@inbox.dpdk.org>; Wed, 28 Feb 2024 16:22:02 +0100 (CET)
Received: from mails.dpdk.org (localhost [127.0.0.1])
	by mails.dpdk.org (Postfix) with ESMTP id 7CEE74339A;
	Wed, 28 Feb 2024 16:22:02 +0100 (CET)
Received: from mail-qt1-f228.google.com (mail-qt1-f228.google.com
 [209.85.160.228])
 by mails.dpdk.org (Postfix) with ESMTP id 00D1C40DF6
 for <test-report@dpdk.org>; Wed, 28 Feb 2024 16:22:00 +0100 (CET)
Received: by mail-qt1-f228.google.com with SMTP id
 d75a77b69052e-42e5e1643adso41727341cf.3
 for <test-report@dpdk.org>; Wed, 28 Feb 2024 07:22:00 -0800 (PST)
DKIM-Signature: v=1; a=rsa-sha256; c=relaxed/relaxed;
 d=iol.unh.edu; s=unh-iol; t=1709133720; x=1709738520; darn=dpdk.org;
 h=references:in-reply-to:cc:to:from:subject:message-id:date:from:to
 :cc:subject:date:message-id:reply-to;
 bh=CTeiN72mDKUko/oBKZm6CxIVBqy95ktzggbKUkIayn4=;
 b=fQWiq4BrYXHxdNUrsZy69RMClrQaw9YWV4Zf1pnRTbhmcd3VZKnTMPN5HHkmVr5j+6
 5qLVPbBFBggZsrzl43Wr+smCv6F06lqccPrx799rJayunvTlPXCKRswKKZcaUCN30ean
 /+AxVlbRQzY0GH8v8Z0TzlxWHc2um1Juz9DgY=
X-Google-DKIM-Signature: v=1; a=rsa-sha256; c=relaxed/relaxed;
 d=1e100.net; s=20230601; t=1709133720; x=1709738520;
 h=references:in-reply-to:cc:to:from:subject:message-id:date
 :x-gm-message-state:from:to:cc:subject:date:message-id:reply-to;
 bh=CTeiN72mDKUko/oBKZm6CxIVBqy95ktzggbKUkIayn4=;
 b=Ts+ncmQz0gXr42nR5ANz8R9ULQVCdNNMI2golhkDOl9dOswHcEc+dM1jsegJ4gUEfG
 sl/oT14qV98WzD/aelhWMJ6dJseL2n+zlPehYQ+FE3uNpFmmwhoErJGK0W5IdH6rxA2N
 U2mLx6yHAxy4L6RVdcKfD/hKdMtdr7fz+SHFG1AKnViSvj4dbWTxEEwm3MZ74SfVSElC
 r6zIxhMeMYN8PT4cXCuk9JELQSpzBnrQzWKZuFFRhZKqDISOtIKz6ewDlYCdihunQgM0
 YBdTfR28teX4TyZ3mSbdXO8BJ1W8PJlNsPBBNa2sv0PDtv2zMqvKHXL0e7Lodv/H0y4Z
 rKgw==
X-Gm-Message-State: AOJu0YwFklcg7k6Md8p8lMgdlXLb2TdbFQ7zBNFkScraxL+fqSyNhXmo
 4PB2yYe5oE2ws8+SLKUOGCd9wl9Q0A09UVHWXw+aR4cvxjRanclGVrTwDXHYvbt/czHyb/GYUbO
 Da91yl6ERP10QPnwBxRIW6ZW2wTDOSo2tvL27o5DYz6EDQogJbeFn5u0T
X-Google-Smtp-Source: AGHT+IGcHY6NIjdrQxb8+WmGln2Pcphmch/Vhm2SWv6ZgdYMm30iHInRqazObEt1MUKDjLgiGL+mGcFz8dh6
X-Received: by 2002:ac8:710d:0:b0:42e:7e99:ba4c with SMTP id
 z13-20020ac8710d000000b0042e7e99ba4cmr9723156qto.49.1709133720398; 
 Wed, 28 Feb 2024 07:22:00 -0800 (PST)
Received: from postal.iol.unh.edu (postal.iol.unh.edu.
 [2606:4100:3880:1234::84]) by smtp-relay.gmail.com with ESMTPS id
 s13-20020ac8528d000000b0042e6892180csm244985qtn.12.2024.02.28.07.22.00
 (version=TLS1_2 cipher=ECDHE-ECDSA-AES128-GCM-SHA256 bits=128/128);
 Wed, 28 Feb 2024 07:22:00 -0800 (PST)
X-Relaying-Domain: iol.unh.edu
Date: Wed, 28 Feb 2024 07:22:00 -0800 (PST)
Message-ID: <65df4f98.c80a0220.8e0bf.e8a0SMTPIN_ADDED_MISSING@mx.google.com>
Received: from [172.17.0.6] (unknown [172.18.0.217])
 by postal.iol.unh.edu (Postfix) with ESMTP id 1BF46605250F;
 Wed, 28 Feb 2024 10:22:00 -0500 (EST)
Subject: |SUCCESS| pw137427-137430 [PATCH] [v3,4/4] net/mlx5: add support for
From: dpdklab@iol.unh.edu
To: Test Report <test-report@dpdk.org>
Cc: dpdk-test-reports@iol.unh.edu
In-Reply-To: <20240228133312.474474-5-getelson@nvidia.com>
References: <20240228133312.474474-5-getelson@nvidia.com>
Content-Type: text/plain
X-BeenThere: test-report@dpdk.org
X-Mailman-Version: 2.1.29
Precedence: list
List-Id: automatic DPDK test reports <test-report.dpdk.org>
List-Unsubscribe: <https://mails.dpdk.org/options/test-report>,
 <mailto:test-report-request@dpdk.org?subject=unsubscribe>
List-Archive: <http://mails.dpdk.org/archives/test-report/>
List-Post: <mailto:test-report@dpdk.org>
List-Help: <mailto:test-report-request@dpdk.org?subject=help>
List-Subscribe: <https://mails.dpdk.org/listinfo/test-report>,
 <mailto:test-report-request@dpdk.org?subject=subscribe>
Errors-To: test-report-bounces@dpdk.org

Test-Label: iol-unit-arm64-testing
Test-Status: SUCCESS
http://dpdk.org/patch/137430

_Testing PASS_

Submitter: Gregory Etelson <getelson@nvidia.com>
Date: Wednesday, February 28 2024 13:33:12 
DPDK git baseline: Repo:dpdk
  Branch: master
  CommitID:f0cd4465b336362425eaae17fbaf7ac8f392da91

137427-137430 --> testing pass

Test environment and result as below:

+--------------------------+---------------------------+------------------------------+----------------+--------------+
|       Environment        | cryptodev_sw_zuc_autotest | cryptodev_sw_snow3g_autotest | dpdk_unit_test | lpm_autotest |
+==========================+===========================+==============================+================+==============+
| Debian 12 (arm)          | PASS                      | PASS                         | SKIPPED        | SKIPPED      |
+--------------------------+---------------------------+------------------------------+----------------+--------------+
| Debian 11 (Buster) (ARM) | SKIPPED                   | SKIPPED                      | PASS           | SKIPPED      |
+--------------------------+---------------------------+------------------------------+----------------+--------------+
| CentOS Stream 9 (ARM)    | SKIPPED                   | SKIPPED                      | PASS           | SKIPPED      |
+--------------------------+---------------------------+------------------------------+----------------+--------------+
| Fedora 37 (ARM)          | SKIPPED                   | SKIPPED                      | PASS           | SKIPPED      |
+--------------------------+---------------------------+------------------------------+----------------+--------------+
| Ubuntu 20.04 ARM SVE     | SKIPPED                   | SKIPPED                      | SKIPPED        | PASS         |
+--------------------------+---------------------------+------------------------------+----------------+--------------+


Debian 12 (arm)
	Kernel: Container Host Kernel
	Compiler: gcc 11

Debian 11 (Buster) (ARM)
	Kernel: Container Host Kernel
	Compiler: gcc 10.2.1

CentOS Stream 9 (ARM)
	Kernel: Container Host Kernel
	Compiler: gcc 11.3.1

Fedora 37 (ARM)
	Kernel: Depends on container host
	Compiler: gcc 12.3.1

Ubuntu 20.04 ARM SVE
	Kernel: 5.4.0-80-generic
	Compiler: gcc 10.3.0 (Ubuntu 10.3.0-1ubuntu1~20.04)

To view detailed results, visit:
https://lab.dpdk.org/results/dashboard/patchsets/29316/

UNH-IOL DPDK Community Lab

To manage your email subscriptions, visit: 
https://lab.dpdk.org/results/dashboard/preferences/subscriptions/