From mboxrd@z Thu Jan  1 00:00:00 1970
Return-Path: <test-report-bounces@dpdk.org>
Received: from mails.dpdk.org (mails.dpdk.org [217.70.189.124])
	by inbox.dpdk.org (Postfix) with ESMTP id E13E743C20
	for <public@inbox.dpdk.org>; Wed, 28 Feb 2024 16:59:15 +0100 (CET)
Received: from mails.dpdk.org (localhost [127.0.0.1])
	by mails.dpdk.org (Postfix) with ESMTP id DC6B241132;
	Wed, 28 Feb 2024 16:59:15 +0100 (CET)
Received: from mail-pl1-f225.google.com (mail-pl1-f225.google.com
 [209.85.214.225])
 by mails.dpdk.org (Postfix) with ESMTP id D81BA402AE
 for <test-report@dpdk.org>; Wed, 28 Feb 2024 16:59:13 +0100 (CET)
Received: by mail-pl1-f225.google.com with SMTP id
 d9443c01a7336-1d944e8f367so41540755ad.0
 for <test-report@dpdk.org>; Wed, 28 Feb 2024 07:59:13 -0800 (PST)
DKIM-Signature: v=1; a=rsa-sha256; c=relaxed/relaxed;
 d=iol.unh.edu; s=unh-iol; t=1709135953; x=1709740753; darn=dpdk.org;
 h=references:in-reply-to:cc:to:from:subject:message-id:date:from:to
 :cc:subject:date:message-id:reply-to;
 bh=LWo8Upmr2w8g9F90DokiSC/8KPpb/crdFchpZAR/Iz8=;
 b=iEjJ+EtBV2FNvalRUCX0vea/RR+CgNZS6hE3DbmVxXpcViy9vRX7KdjNdZl3UEyZ8d
 vY+J7twsUswNUIt+bGPq/xJCwJtGTl5g9XFpkhUtOC+Kp3uShBJeQqj6MwjHQevaJMoJ
 Hbxm85Q8rY2pg+rsONBB3URN/8akyuvhLglAs=
X-Google-DKIM-Signature: v=1; a=rsa-sha256; c=relaxed/relaxed;
 d=1e100.net; s=20230601; t=1709135953; x=1709740753;
 h=references:in-reply-to:cc:to:from:subject:message-id:date
 :x-gm-message-state:from:to:cc:subject:date:message-id:reply-to;
 bh=LWo8Upmr2w8g9F90DokiSC/8KPpb/crdFchpZAR/Iz8=;
 b=GRJ0cT99jNYxOdpA//I53S4E7gzNSGkqh6SX3kqutc5b/EkHo/p4yD3xN+aFAfGF9W
 SBiK9RRzZTPFZjZKe5QvZT76DtuNdNhyp3YAlfU0fKnjPH2jmkfOydzdLc0rZmcTtqpD
 Rnpo3xq7iiLXu+BwLsPHeKaEU9PFqxec1+jVwDA1cYzMRxs9/myfGAEU4tPt1/kwZOew
 MDyZZQ6UpqbM/j7ySE/JTkWXz6soZ0071ORbw89QY0O8XjD8jHxEAkr6hulTTnMX4S6z
 LkcbSRcIl+nizWEK+cBLsCdm5aaFkwKS3+eBjVxRE0n5ce4X62UN602rgzWo4dGNNgDa
 uxbA==
X-Gm-Message-State: AOJu0YwS/jCpvASEBtxv1KXrkpuaE3O/IwaAvNZJJZd8k6wfSXBHhwPw
 GsTGFIMJ3K38zEtPvXwjus/tYjIIMFRUG+DHItrlyZLZ0LPm/lZ9Sf05cnk0p0/AFjmkWwYHKfW
 cCUdk4TdXK/MXJyxs5ASxuwrU3Wv4kqRMpbMTRLpLvl6wHQZJ3TPu43m4
X-Google-Smtp-Source: AGHT+IFbeKK6WA0Aga8q6Ij2xYmXlcIvKa7sBq7TtReuLn5hfaaihBO5vm3KEe1HdUJbm/R5yd0u+LkSrw2g
X-Received: by 2002:a17:902:cf0d:b0:1dc:affd:6510 with SMTP id
 i13-20020a170902cf0d00b001dcaffd6510mr8979329plg.49.1709135953048; 
 Wed, 28 Feb 2024 07:59:13 -0800 (PST)
Received: from postal.iol.unh.edu (postal.iol.unh.edu.
 [2606:4100:3880:1234::84]) by smtp-relay.gmail.com with ESMTPS id
 s9-20020a170903320900b001db55d2e1dbsm142643plh.123.2024.02.28.07.59.12
 (version=TLS1_2 cipher=ECDHE-ECDSA-AES128-GCM-SHA256 bits=128/128);
 Wed, 28 Feb 2024 07:59:13 -0800 (PST)
X-Relaying-Domain: iol.unh.edu
Date: Wed, 28 Feb 2024 07:59:13 -0800 (PST)
Message-ID: <65df5851.170a0220.56b1c.97ffSMTPIN_ADDED_MISSING@mx.google.com>
Received: from [172.17.0.6] (unknown [172.18.0.217])
 by postal.iol.unh.edu (Postfix) with ESMTP id 852846052712;
 Wed, 28 Feb 2024 10:59:12 -0500 (EST)
Subject: |SUCCESS| pw137407-137409 [PATCH] [v3,6/6] table: replace zero lengt
From: dpdklab@iol.unh.edu
To: Test Report <test-report@dpdk.org>
Cc: dpdk-test-reports@iol.unh.edu
In-Reply-To: <1709078215-20292-7-git-send-email-roretzla@linux.microsoft.com>
References: <1709078215-20292-7-git-send-email-roretzla@linux.microsoft.com>
Content-Type: text/plain
X-BeenThere: test-report@dpdk.org
X-Mailman-Version: 2.1.29
Precedence: list
List-Id: automatic DPDK test reports <test-report.dpdk.org>
List-Unsubscribe: <https://mails.dpdk.org/options/test-report>,
 <mailto:test-report-request@dpdk.org?subject=unsubscribe>
List-Archive: <http://mails.dpdk.org/archives/test-report/>
List-Post: <mailto:test-report@dpdk.org>
List-Help: <mailto:test-report-request@dpdk.org?subject=help>
List-Subscribe: <https://mails.dpdk.org/listinfo/test-report>,
 <mailto:test-report-request@dpdk.org?subject=subscribe>
Errors-To: test-report-bounces@dpdk.org

Test-Label: iol-unit-amd64-testing
Test-Status: SUCCESS
http://dpdk.org/patch/137409

_Testing PASS_

Submitter: Tyler Retzlaff <roretzla@linux.microsoft.com>
Date: Tuesday, February 27 2024 23:56:55 
DPDK git baseline: Repo:dpdk
  Branch: master
  CommitID:92c0ad70caf3ed6f4b93de6ddaf7bc369737c049

137407-137409 --> testing pass

Test environment and result as below:

+---------------------+----------------+
|     Environment     | dpdk_unit_test |
+=====================+================+
| CentOS Stream 9     | PASS           |
+---------------------+----------------+
| Debian Bullseye     | PASS           |
+---------------------+----------------+
| CentOS Stream 8     | PASS           |
+---------------------+----------------+
| Fedora 37           | PASS           |
+---------------------+----------------+
| Debian 12 (arm)     | PASS           |
+---------------------+----------------+
| Ubuntu 20.04        | PASS           |
+---------------------+----------------+
| Fedora 38           | PASS           |
+---------------------+----------------+
| RHEL8               | PASS           |
+---------------------+----------------+
| Ubuntu 22.04        | PASS           |
+---------------------+----------------+
| openSUSE Leap 15    | PASS           |
+---------------------+----------------+
| Windows Server 2019 | PASS           |
+---------------------+----------------+


CentOS Stream 9
	Kernel: 4.18.0-240.10.1.el8_3.x86_64
	Compiler: gcc 11.3.1 20220421

Debian Bullseye
	Kernel: 5.4.0-122-generic
	Compiler: gcc 10.2.1-6

CentOS Stream 8
	Kernel: 4.18.0-240.10.1.el8_3.x86_64
	Compiler: gcc 8.4.1 20200928

Fedora 37
	Kernel: Depends on container host system
	Compiler: gcc 12.3.1

Debian 12 (arm)
	Kernel: Container Host Kernel
	Compiler: gcc 11

Ubuntu 20.04
	Kernel: 5.4.0-153-generic
	Compiler: gcc 9.4.0-1ubuntu1~20.04.1

Fedora 38
	Kernel: Depends on container host
	Compiler: gcc 13.1.1

RHEL8
	Kernel: 4.18.0-240.10.1.el8_3.x86_64
	Compiler: gcc 8.3.1 20191121 (Red Hat 8.3.1-5)

Ubuntu 22.04
	Kernel: 4.18.0-240.10.1.el8_3.x86_64
	Compiler: gcc 11.3.0

openSUSE Leap 15
	Kernel: 4.18.0-240.10.1.el8_3.x86_64
	Compiler: gcc 7.5.0

Windows Server 2019
	Kernel: 10.0
	Compiler: clang 14.0 and gcc 8.1.0 (MinGW)

To view detailed results, visit:
https://lab.dpdk.org/results/dashboard/patchsets/29306/

UNH-IOL DPDK Community Lab

To manage your email subscriptions, visit: 
https://lab.dpdk.org/results/dashboard/preferences/subscriptions/