From mboxrd@z Thu Jan  1 00:00:00 1970
Return-Path: <test-report-bounces@dpdk.org>
Received: from mails.dpdk.org (mails.dpdk.org [217.70.189.124])
	by inbox.dpdk.org (Postfix) with ESMTP id 1CF5B43C20
	for <public@inbox.dpdk.org>; Wed, 28 Feb 2024 16:59:51 +0100 (CET)
Received: from mails.dpdk.org (localhost [127.0.0.1])
	by mails.dpdk.org (Postfix) with ESMTP id 167D141132;
	Wed, 28 Feb 2024 16:59:51 +0100 (CET)
Received: from mail-yb1-f225.google.com (mail-yb1-f225.google.com
 [209.85.219.225])
 by mails.dpdk.org (Postfix) with ESMTP id 658A7402AE
 for <test-report@dpdk.org>; Wed, 28 Feb 2024 16:59:40 +0100 (CET)
Received: by mail-yb1-f225.google.com with SMTP id
 3f1490d57ef6-dcc71031680so5448086276.2
 for <test-report@dpdk.org>; Wed, 28 Feb 2024 07:59:40 -0800 (PST)
DKIM-Signature: v=1; a=rsa-sha256; c=relaxed/relaxed;
 d=iol.unh.edu; s=unh-iol; t=1709135980; x=1709740780; darn=dpdk.org;
 h=references:in-reply-to:cc:to:from:subject:message-id:date:from:to
 :cc:subject:date:message-id:reply-to;
 bh=0/XCFj6XYm6o5+XowrRCcL/wTZ1eXXyyCCThqBw7pL4=;
 b=KPVWZKLdM+RWD+pNpnKD5e8I/Gat7UDLtUXyC60nSZeesliPbJHIu/MQcZ6aWlBE7B
 uySbSiF7+Y8FzDBAROGQesDeXzQfQtFdafskERYDMv13Ky1Pq8MS9HKshi3B7+2o8JLF
 tYWmKGd/LKaprXBdFfUFe3IBvr9WovbE6cqxk=
X-Google-DKIM-Signature: v=1; a=rsa-sha256; c=relaxed/relaxed;
 d=1e100.net; s=20230601; t=1709135980; x=1709740780;
 h=references:in-reply-to:cc:to:from:subject:message-id:date
 :x-gm-message-state:from:to:cc:subject:date:message-id:reply-to;
 bh=0/XCFj6XYm6o5+XowrRCcL/wTZ1eXXyyCCThqBw7pL4=;
 b=pcMLAJFvXygwb9d/cTaD4fAhPPz4fE+K3qE8owIVQeeJjUMdv48xCpImiNl/1KhjBD
 bd7PxGZryYcVfPVq2Rb6ioDGr06yhLUm2iuh0slOz17LjII29+JUT/KZUsql1kdKN5KL
 FYzJhlO74DTzUgPjKBmbk+m0x43Q8mFZWRo62qm6Hdmow0+Bbjbk9rK3xW766Ha2wX+J
 pZZtcCWI2QWVFffNauhlGUnUEkXtfd2AlszBcsv6Vipfqdvtz0j7cgSxOv93eNozKIGP
 kwLnR72KSOXUBWW65LxO5hoIHSFKz+0V/kc3Otp2XjEK1okDItAh0ClDUjzn7C7GyFlf
 G2Ow==
X-Gm-Message-State: AOJu0YxAM66Mh+z4cNzJ6WHZZvvFRge/qFcHA/IpsXtAFF6ak/2T8Prn
 CLu3WOFFhYwWBHzb3McvX4aUkP0d/PmMaU3nOx69P79hYRdboXgWdPCn2fO2DtWTmjx5ktw6zJx
 ll8yRPd6W+FDkQLKhxApyL/9a4TTfG6ztE2U4+mcG
X-Google-Smtp-Source: AGHT+IHGvA4GMMvLBthgvGj9tpdO3mUvfwvGlmr2BDGfrRQHpGRc4bWvyNqjkWS+0uWUePO5zNiNUZ/sJthQ
X-Received: by 2002:a25:e805:0:b0:dcc:8aaa:3ed3 with SMTP id
 k5-20020a25e805000000b00dcc8aaa3ed3mr2923880ybd.16.1709135979798; 
 Wed, 28 Feb 2024 07:59:39 -0800 (PST)
Received: from postal.iol.unh.edu (postal.iol.unh.edu. [132.177.123.84])
 by smtp-relay.gmail.com with ESMTPS id
 u126-20020a25dd84000000b00dcc2e5ea19fsm418290ybg.22.2024.02.28.07.59.39
 (version=TLS1_2 cipher=ECDHE-ECDSA-AES128-GCM-SHA256 bits=128/128);
 Wed, 28 Feb 2024 07:59:39 -0800 (PST)
X-Relaying-Domain: iol.unh.edu
Date: Wed, 28 Feb 2024 07:59:39 -0800 (PST)
Message-ID: <65df586b.250a0220.62dd2.0a27SMTPIN_ADDED_MISSING@mx.google.com>
Received: from [172.21.0.6] (unknown [172.18.0.240])
 by postal.iol.unh.edu (Postfix) with ESMTP id 6CD0D6052712;
 Wed, 28 Feb 2024 10:59:39 -0500 (EST)
Subject: |SUCCESS| pw137435-137439 [PATCH] [v4,5/5] net/mlx5: validate the ac
From: dpdklab@iol.unh.edu
To: Test Report <test-report@dpdk.org>
Cc: dpdk-test-reports@iol.unh.edu
In-Reply-To: <20240228150913.32603-6-bingz@nvidia.com>
References: <20240228150913.32603-6-bingz@nvidia.com>
Content-Type: text/plain
X-BeenThere: test-report@dpdk.org
X-Mailman-Version: 2.1.29
Precedence: list
List-Id: automatic DPDK test reports <test-report.dpdk.org>
List-Unsubscribe: <https://mails.dpdk.org/options/test-report>,
 <mailto:test-report-request@dpdk.org?subject=unsubscribe>
List-Archive: <http://mails.dpdk.org/archives/test-report/>
List-Post: <mailto:test-report@dpdk.org>
List-Help: <mailto:test-report-request@dpdk.org?subject=help>
List-Subscribe: <https://mails.dpdk.org/listinfo/test-report>,
 <mailto:test-report-request@dpdk.org?subject=subscribe>
Errors-To: test-report-bounces@dpdk.org

Test-Label: iol-abi-testing
Test-Status: SUCCESS
http://dpdk.org/patch/137439

_Testing PASS_

Submitter: Bing Zhao <bingz@nvidia.com>
Date: Wednesday, February 28 2024 15:09:13 
DPDK git baseline: Repo:dpdk
  Branch: master
  CommitID:f0cd4465b336362425eaae17fbaf7ac8f392da91

137435-137439 --> testing pass

Test environment and result as below:

+-----------------+----------+
|   Environment   | abi_test |
+=================+==========+
| Debian Bullseye | PASS     |
+-----------------+----------+
| CentOS Stream 8 | PASS     |
+-----------------+----------+
| RHEL8           | PASS     |
+-----------------+----------+


Debian Bullseye
	Kernel: 5.4.0-122-generic
	Compiler: gcc 10.2.1-6

CentOS Stream 8
	Kernel: 4.18.0-240.10.1.el8_3.x86_64
	Compiler: gcc 8.4.1 20200928

RHEL8
	Kernel: 4.18.0-240.10.1.el8_3.x86_64
	Compiler: gcc 8.3.1 20191121 (Red Hat 8.3.1-5)

To view detailed results, visit:
https://lab.dpdk.org/results/dashboard/patchsets/29318/

UNH-IOL DPDK Community Lab

To manage your email subscriptions, visit: 
https://lab.dpdk.org/results/dashboard/preferences/subscriptions/