From mboxrd@z Thu Jan  1 00:00:00 1970
Return-Path: <test-report-bounces@dpdk.org>
Received: from mails.dpdk.org (mails.dpdk.org [217.70.189.124])
	by inbox.dpdk.org (Postfix) with ESMTP id BD5F343C20
	for <public@inbox.dpdk.org>; Wed, 28 Feb 2024 17:08:30 +0100 (CET)
Received: from mails.dpdk.org (localhost [127.0.0.1])
	by mails.dpdk.org (Postfix) with ESMTP id B891841132;
	Wed, 28 Feb 2024 17:08:30 +0100 (CET)
Received: from mail-io1-f98.google.com (mail-io1-f98.google.com
 [209.85.166.98]) by mails.dpdk.org (Postfix) with ESMTP id 937EF402AE
 for <test-report@dpdk.org>; Wed, 28 Feb 2024 17:08:29 +0100 (CET)
Received: by mail-io1-f98.google.com with SMTP id
 ca18e2360f4ac-7bade847536so311523139f.0
 for <test-report@dpdk.org>; Wed, 28 Feb 2024 08:08:29 -0800 (PST)
DKIM-Signature: v=1; a=rsa-sha256; c=relaxed/relaxed;
 d=iol.unh.edu; s=unh-iol; t=1709136509; x=1709741309; darn=dpdk.org;
 h=references:in-reply-to:cc:to:from:subject:message-id:date:from:to
 :cc:subject:date:message-id:reply-to;
 bh=091CBF/ltvZCg2Fv/vS37xbMrFODhWQLLczDw7e92MQ=;
 b=S1RQht9Ns+5UYGBZQFgtG27r0xPrzHR4le6Aka60K8jh0N6E47qijjdOXWYKI0RON3
 tjq5+vASFabeH/0Z6qWi1wAgwsAuJ9nFL0Re0QdrZiT8LTaSdk0s13tKbIUSAkQc6IN8
 ETSX5SAJKHylM/H+3Mr6oNGpIDL8s6021gCMk=
X-Google-DKIM-Signature: v=1; a=rsa-sha256; c=relaxed/relaxed;
 d=1e100.net; s=20230601; t=1709136509; x=1709741309;
 h=references:in-reply-to:cc:to:from:subject:message-id:date
 :x-gm-message-state:from:to:cc:subject:date:message-id:reply-to;
 bh=091CBF/ltvZCg2Fv/vS37xbMrFODhWQLLczDw7e92MQ=;
 b=lXkRKgSQYjx8jEhN+Gu/oSbDL9PEiB25efaIUWupyMtCf+aUvbuO+MeB/s9xMMe5eG
 OvV1ByZ3/0XFh+UgmMud3dIIZ8eQH68XPywDlyBH93niTD6J5uGdbsWK+tOr8yuDJaKc
 YoEV601Uznv2mTGXO9V7HUyUh3Dbliz5LLNc5spwDYJzBrabD5m4VJhAFrf+ZlgDnJCN
 faYHKO7VXh1vqvQ+d3iwPolWM8VKceTXS4AJBM85yby2crs17bOu3LuFf6bUTEbVMChz
 MosEBfFvuwponyke1FqvzYVekBDow0AnrS4UyPFgvLfSvbPIA5W5yAZIJcmiD/EuDgRa
 dJdg==
X-Gm-Message-State: AOJu0Yy7haVU5Zh6LwrRuy1TcUpVdwxwTUKb6PZt4DvWXhRUZ5aY2PgI
 AsqeA4dOuBhDEy33ISn5/hGQopr4OJuMYLT/kv+pPrHC3XS/+cWvpi5G1i/+QFU+6Kfg8YnRGy3
 hadFpuOKiymYDJOiQVlilQrptzgHjxJKwNXtke9yvpqxsX7gJUbPUbwaF
X-Google-Smtp-Source: AGHT+IGtxGEjqXDng9uRIr0yPRSViqGwp4xha+DjxkHFIiHmL7V7VyjIWvpm6uGe6VExTmMJiwHIU1h0PvU3
X-Received: by 2002:a92:c08b:0:b0:365:4004:83bc with SMTP id
 h11-20020a92c08b000000b00365400483bcmr15070335ile.14.1709136508928; 
 Wed, 28 Feb 2024 08:08:28 -0800 (PST)
Received: from postal.iol.unh.edu (postal.iol.unh.edu.
 [2606:4100:3880:1234::84]) by smtp-relay.gmail.com with ESMTPS id
 v184-20020a6261c1000000b006e469e8b63fsm576690pfb.16.2024.02.28.08.08.28
 (version=TLS1_2 cipher=ECDHE-ECDSA-AES128-GCM-SHA256 bits=128/128);
 Wed, 28 Feb 2024 08:08:28 -0800 (PST)
X-Relaying-Domain: iol.unh.edu
Date: Wed, 28 Feb 2024 08:08:28 -0800 (PST)
Message-ID: <65df5a7c.620a0220.1fb74.9277SMTPIN_ADDED_MISSING@mx.google.com>
Received: from [172.17.0.8] (unknown [172.18.0.217])
 by postal.iol.unh.edu (Postfix) with ESMTP id 26CEC6052712;
 Wed, 28 Feb 2024 11:08:28 -0500 (EST)
Subject: |SUCCESS| pw137435-137439 [PATCH] [v4,5/5] net/mlx5: validate the ac
From: dpdklab@iol.unh.edu
To: Test Report <test-report@dpdk.org>
Cc: dpdk-test-reports@iol.unh.edu
In-Reply-To: <20240228150913.32603-6-bingz@nvidia.com>
References: <20240228150913.32603-6-bingz@nvidia.com>
Content-Type: text/plain
X-BeenThere: test-report@dpdk.org
X-Mailman-Version: 2.1.29
Precedence: list
List-Id: automatic DPDK test reports <test-report.dpdk.org>
List-Unsubscribe: <https://mails.dpdk.org/options/test-report>,
 <mailto:test-report-request@dpdk.org?subject=unsubscribe>
List-Archive: <http://mails.dpdk.org/archives/test-report/>
List-Post: <mailto:test-report@dpdk.org>
List-Help: <mailto:test-report-request@dpdk.org?subject=help>
List-Subscribe: <https://mails.dpdk.org/listinfo/test-report>,
 <mailto:test-report-request@dpdk.org?subject=subscribe>
Errors-To: test-report-bounces@dpdk.org

Test-Label: iol-abi-testing
Test-Status: SUCCESS
http://dpdk.org/patch/137439

_Testing PASS_

Submitter: Bing Zhao <bingz@nvidia.com>
Date: Wednesday, February 28 2024 15:09:13 
DPDK git baseline: Repo:dpdk
  Branch: master
  CommitID:f0cd4465b336362425eaae17fbaf7ac8f392da91

137435-137439 --> testing pass

Test environment and result as below:

+------------------+----------+
|   Environment    | abi_test |
+==================+==========+
| Debian Bullseye  | PASS     |
+------------------+----------+
| CentOS Stream 8  | PASS     |
+------------------+----------+
| RHEL8            | PASS     |
+------------------+----------+
| Fedora 38        | PASS     |
+------------------+----------+
| openSUSE Leap 15 | PASS     |
+------------------+----------+
| Ubuntu 22.04     | PASS     |
+------------------+----------+


Debian Bullseye
	Kernel: 5.4.0-122-generic
	Compiler: gcc 10.2.1-6

CentOS Stream 8
	Kernel: 4.18.0-240.10.1.el8_3.x86_64
	Compiler: gcc 8.4.1 20200928

RHEL8
	Kernel: 4.18.0-240.10.1.el8_3.x86_64
	Compiler: gcc 8.3.1 20191121 (Red Hat 8.3.1-5)

Fedora 38
	Kernel: Depends on container host
	Compiler: clang 16.0.3

openSUSE Leap 15
	Kernel: 4.18.0-240.10.1.el8_3.x86_64
	Compiler: gcc 7.5.0

Ubuntu 22.04
	Kernel: 4.18.0-240.10.1.el8_3.x86_64
	Compiler: gcc 11.3.0

To view detailed results, visit:
https://lab.dpdk.org/results/dashboard/patchsets/29318/

UNH-IOL DPDK Community Lab

To manage your email subscriptions, visit: 
https://lab.dpdk.org/results/dashboard/preferences/subscriptions/