From mboxrd@z Thu Jan  1 00:00:00 1970
Return-Path: <test-report-bounces@dpdk.org>
Received: from mails.dpdk.org (mails.dpdk.org [217.70.189.124])
	by inbox.dpdk.org (Postfix) with ESMTP id 1CEC443C20
	for <public@inbox.dpdk.org>; Wed, 28 Feb 2024 17:09:22 +0100 (CET)
Received: from mails.dpdk.org (localhost [127.0.0.1])
	by mails.dpdk.org (Postfix) with ESMTP id 1875A41132;
	Wed, 28 Feb 2024 17:09:22 +0100 (CET)
Received: from mail-ot1-f100.google.com (mail-ot1-f100.google.com
 [209.85.210.100])
 by mails.dpdk.org (Postfix) with ESMTP id D3095402AE
 for <test-report@dpdk.org>; Wed, 28 Feb 2024 17:09:17 +0100 (CET)
Received: by mail-ot1-f100.google.com with SMTP id
 46e09a7af769-6e47a9f4b70so2688325a34.1
 for <test-report@dpdk.org>; Wed, 28 Feb 2024 08:09:17 -0800 (PST)
DKIM-Signature: v=1; a=rsa-sha256; c=relaxed/relaxed;
 d=iol.unh.edu; s=unh-iol; t=1709136557; x=1709741357; darn=dpdk.org;
 h=references:in-reply-to:cc:to:from:subject:message-id:date:from:to
 :cc:subject:date:message-id:reply-to;
 bh=23t3Bnp9ZcyLt0yvnPX3Qo1GkKW5BNyaXPgyaJeXmqQ=;
 b=alcure8f/JZecHIl3qTwzuokXSyupqdE6G6nj2sIgk8nPfcESs4/fS5wV4/jmGXfpG
 W1189Qr8TR0eWUR2tlX3NS8D1p6nICs5FMapzcp/OWKcA1Sirx01+wo4ygiYSonbYFV7
 Pg2MOKRmxka81M6izSjzz+yEAUZwN668kDh30=
X-Google-DKIM-Signature: v=1; a=rsa-sha256; c=relaxed/relaxed;
 d=1e100.net; s=20230601; t=1709136557; x=1709741357;
 h=references:in-reply-to:cc:to:from:subject:message-id:date
 :x-gm-message-state:from:to:cc:subject:date:message-id:reply-to;
 bh=23t3Bnp9ZcyLt0yvnPX3Qo1GkKW5BNyaXPgyaJeXmqQ=;
 b=tKTvjL8wb7xljaPDJDXbjGDDBugB6ATpHEf24qyEpZtaqOL3qbqEQb2gpedTwL+BeT
 ItUJ6yzGHRkyK/owMo2ZNQaUZIckM7SaQBV7mM3i0z4srypKv0y/g+n4+JfoS5NJfhKc
 RXnxFO7zFB1yyCqJk5eFwq4rtbLsaXsSADBuuSCuI0TJzxYK7DY6yUGvgHUNRc/FOonq
 apG2bqVaD/v2AlJlx9q4mqryK1HTtJYrKU3wqr3Ay4E3MGhxQCO6BGzRwEih8efrcRFM
 HQclVcllxLqm5yOXzlX2zaWAXJ1E/12sLfatrTkG6t7/nYZZCBeviR4SakaSxWFGhpOt
 Ehuw==
X-Gm-Message-State: AOJu0Yw6B5H01UlPjsj2/VECH1GMSYCzMzrqL+iBZU+IdZJ/9yGdsySo
 TGmE2n7TOAiDO5+m61Q5kwMCEV3LphkxpyTUDzNYChtOK2h2djpXlu4wweP4PVzV5FRJsgwSAan
 3nRb+P3/GGSZZvf3udDWdnfE7yVpWzRnjxE1gL79u
X-Google-Smtp-Source: AGHT+IFx9ccEuZy04qzS8x6APwRZtBm/wJPkcNMAWLDDaZVLqvYU8Sp995F7D6YJLrzBSCcg0MX/rApmAqCJ
X-Received: by 2002:a9d:4b03:0:b0:6e4:b706:9d73 with SMTP id
 q3-20020a9d4b03000000b006e4b7069d73mr36721otf.7.1709136557125; 
 Wed, 28 Feb 2024 08:09:17 -0800 (PST)
Received: from postal.iol.unh.edu (postal.iol.unh.edu. [132.177.123.84])
 by smtp-relay.gmail.com with ESMTPS id
 y186-20020a0dd6c3000000b006041915be45sm678519ywd.68.2024.02.28.08.09.17
 (version=TLS1_2 cipher=ECDHE-ECDSA-AES128-GCM-SHA256 bits=128/128);
 Wed, 28 Feb 2024 08:09:17 -0800 (PST)
X-Relaying-Domain: iol.unh.edu
Date: Wed, 28 Feb 2024 08:09:17 -0800 (PST)
Message-ID: <65df5aad.0d0a0220.38700.8dedSMTPIN_ADDED_MISSING@mx.google.com>
Received: from [172.17.0.6] (unknown [172.18.0.217])
 by postal.iol.unh.edu (Postfix) with ESMTP id C044C6052712;
 Wed, 28 Feb 2024 11:09:16 -0500 (EST)
Subject: |SUCCESS| pw137435-137439 [PATCH] [v4,5/5] net/mlx5: validate the ac
From: dpdklab@iol.unh.edu
To: Test Report <test-report@dpdk.org>
Cc: dpdk-test-reports@iol.unh.edu
In-Reply-To: <20240228150913.32603-6-bingz@nvidia.com>
References: <20240228150913.32603-6-bingz@nvidia.com>
Content-Type: text/plain
X-BeenThere: test-report@dpdk.org
X-Mailman-Version: 2.1.29
Precedence: list
List-Id: automatic DPDK test reports <test-report.dpdk.org>
List-Unsubscribe: <https://mails.dpdk.org/options/test-report>,
 <mailto:test-report-request@dpdk.org?subject=unsubscribe>
List-Archive: <http://mails.dpdk.org/archives/test-report/>
List-Post: <mailto:test-report@dpdk.org>
List-Help: <mailto:test-report-request@dpdk.org?subject=help>
List-Subscribe: <https://mails.dpdk.org/listinfo/test-report>,
 <mailto:test-report-request@dpdk.org?subject=subscribe>
Errors-To: test-report-bounces@dpdk.org

Test-Label: iol-compile-arm64-testing
Test-Status: SUCCESS
http://dpdk.org/patch/137439

_Testing PASS_

Submitter: Bing Zhao <bingz@nvidia.com>
Date: Wednesday, February 28 2024 15:09:13 
DPDK git baseline: Repo:dpdk
  Branch: master
  CommitID:f0cd4465b336362425eaae17fbaf7ac8f392da91

137435-137439 --> testing pass

Test environment and result as below:

+----------------------------------------+--------------------+
|              Environment               | dpdk_meson_compile |
+========================================+====================+
| Ubuntu 20.04 ARM SVE                   | PASS               |
+----------------------------------------+--------------------+
| Ubuntu 20.04 ARM GCC Cross Compile     | PASS               |
+----------------------------------------+--------------------+
| Debian 11 (Buster) (ARM)               | PASS               |
+----------------------------------------+--------------------+
| Fedora 38 (ARM)                        | PASS               |
+----------------------------------------+--------------------+
| Fedora 37 (ARM)                        | PASS               |
+----------------------------------------+--------------------+
| Ubuntu 20.04 ARM Clang Cross Compile   | PASS               |
+----------------------------------------+--------------------+
| Ubuntu 20.04 aarch32 GCC Cross Compile | PASS               |
+----------------------------------------+--------------------+
| CentOS Stream 9 (ARM)                  | PASS               |
+----------------------------------------+--------------------+
| Debian 12 (arm)                        | PASS               |
+----------------------------------------+--------------------+
| Ubuntu 20.04 (ARM)                     | PASS               |
+----------------------------------------+--------------------+


Ubuntu 20.04 ARM SVE
	Kernel: 5.4.0-80-generic
	Compiler: gcc 10.3.0 (Ubuntu 10.3.0-1ubuntu1~20.04)

Ubuntu 20.04 ARM GCC Cross Compile
	Kernel: 5.4.0-72-generic
	Compiler: aarch64-linux-gnu-gcc (Ubuntu 9.3.0-17ubuntu1~20.04) 9.3.0

Debian 11 (Buster) (ARM)
	Kernel: Container Host Kernel
	Compiler: gcc 10.2.1

Fedora 38 (ARM)
	Kernel: Depends on container host
	Compiler: gcc 13.1.1

Fedora 37 (ARM)
	Kernel: Depends on container host
	Compiler: gcc 12.3.1

Ubuntu 20.04 ARM Clang Cross Compile
	Kernel: 5.4.0-72-generic
	Compiler: clang version 10.0.0-4ubuntu1

Ubuntu 20.04 aarch32 GCC Cross Compile
	Kernel: 5.4.0-72-generic
	Compiler: gcc 9.3.0

CentOS Stream 9 (ARM)
	Kernel: Container Host Kernel
	Compiler: gcc 11.3.1

Debian 12 (arm)
	Kernel: Container Host Kernel
	Compiler: gcc 11

Ubuntu 20.04 (ARM)
	Kernel: Container Host Kernel
	Compiler: gcc 9.4.0

To view detailed results, visit:
https://lab.dpdk.org/results/dashboard/patchsets/29318/

UNH-IOL DPDK Community Lab

To manage your email subscriptions, visit: 
https://lab.dpdk.org/results/dashboard/preferences/subscriptions/