From mboxrd@z Thu Jan  1 00:00:00 1970
Return-Path: <test-report-bounces@dpdk.org>
Received: from mails.dpdk.org (mails.dpdk.org [217.70.189.124])
	by inbox.dpdk.org (Postfix) with ESMTP id 6C84943C20
	for <public@inbox.dpdk.org>; Wed, 28 Feb 2024 17:12:43 +0100 (CET)
Received: from mails.dpdk.org (localhost [127.0.0.1])
	by mails.dpdk.org (Postfix) with ESMTP id 6452A402E3;
	Wed, 28 Feb 2024 17:12:43 +0100 (CET)
Received: from mail-oi1-f226.google.com (mail-oi1-f226.google.com
 [209.85.167.226])
 by mails.dpdk.org (Postfix) with ESMTP id 6B339402AE
 for <test-report@dpdk.org>; Wed, 28 Feb 2024 17:12:36 +0100 (CET)
Received: by mail-oi1-f226.google.com with SMTP id
 5614622812f47-3bbbc6bcc78so4098608b6e.1
 for <test-report@dpdk.org>; Wed, 28 Feb 2024 08:12:36 -0800 (PST)
DKIM-Signature: v=1; a=rsa-sha256; c=relaxed/relaxed;
 d=iol.unh.edu; s=unh-iol; t=1709136755; x=1709741555; darn=dpdk.org;
 h=references:in-reply-to:cc:to:from:subject:message-id:date:from:to
 :cc:subject:date:message-id:reply-to;
 bh=CMuGzBeVC6QDqPe0P9iT4BU0Ybx6COQuy3wkzV1k6iE=;
 b=I99l487Hfd5DR08XogPvnJcOY8yzDhX8CqUSj6/gZP8rwrDei5xKdWlbW0PWps8X3a
 7dgcDctC6yl34PDTPInTEwLvaGa4iybYBPzn3zvqhg6GYJBzmLXZxlMm6gXoMoWhQ8q0
 azgggnyIyugosb8y1UVP9HGb2df0xx0J+VcVU=
X-Google-DKIM-Signature: v=1; a=rsa-sha256; c=relaxed/relaxed;
 d=1e100.net; s=20230601; t=1709136755; x=1709741555;
 h=references:in-reply-to:cc:to:from:subject:message-id:date
 :x-gm-message-state:from:to:cc:subject:date:message-id:reply-to;
 bh=CMuGzBeVC6QDqPe0P9iT4BU0Ybx6COQuy3wkzV1k6iE=;
 b=FfYKEN3j8TRKn0SE6IHzXG9St6Hz9J/xAXjOTR6XMQ3zvuYaFCHc8uerpUSkRiE+in
 LJPStlMiLWKNCkZMG/0buW2T9Zvc1paFcTx8/01/b+ZcKhtyrmeKSO3rw4woo/hHKhMh
 rNAMhALZjJmZwGFlB49xDCUVMOVI09xguBalzEscP/gyrvtXW0pQZ/qhXqsgx3jecy5s
 tonYbsAOkN679/SyMq1nXNVtKkN9GCmxwSxANTfPcQVwpOhZf0r2zlVfGbM0Y/Cded/p
 dtK4yq2dIVHrYTZrepCdqmRhwtMMCJyBVI4WQDASpmGFs2i5+dinj+AxMa30TaPw3Aw5
 aCig==
X-Gm-Message-State: AOJu0YyZjtcRcdcns+5JbS46HvPLlg0/ECa0Uw0vG7WnzhL0pOgGx53m
 G407zeWSMTmuDOj5T3I/gonmqtTHV5U8sZLEqlZpqu6rrdr7SC2ZP5YirwXtSVZIRnalDf0yE9Q
 u/AgYo+ghNgNcI1ngG2ItC9OLHgY9CRSQX9RVWQtU
X-Google-Smtp-Source: AGHT+IGA3HTM6fhbXmwLZfGoKmI5Hy04PdKkwEmY9AcEv4SD+UZ/V01e8niGwCdYg6xLl4zMEGmaar57E/uQ
X-Received: by 2002:a05:6871:e711:b0:21e:8dc7:342e with SMTP id
 qa17-20020a056871e71100b0021e8dc7342emr191364oac.25.1709136755660; 
 Wed, 28 Feb 2024 08:12:35 -0800 (PST)
Received: from postal.iol.unh.edu (postal.iol.unh.edu. [132.177.123.84])
 by smtp-relay.gmail.com with ESMTPS id
 x6-20020ac87306000000b0042c65189af1sm245428qto.24.2024.02.28.08.12.35
 (version=TLS1_2 cipher=ECDHE-ECDSA-AES128-GCM-SHA256 bits=128/128);
 Wed, 28 Feb 2024 08:12:35 -0800 (PST)
X-Relaying-Domain: iol.unh.edu
Date: Wed, 28 Feb 2024 08:12:35 -0800 (PST)
Message-ID: <65df5b73.c80a0220.e7ea.ed20SMTPIN_ADDED_MISSING@mx.google.com>
Received: from [172.17.0.8] (unknown [172.18.0.217])
 by postal.iol.unh.edu (Postfix) with ESMTP id 4CEBC6052712;
 Wed, 28 Feb 2024 11:12:35 -0500 (EST)
Subject: |SUCCESS| pw137435-137439 [PATCH] [v4,5/5] net/mlx5: validate the ac
From: dpdklab@iol.unh.edu
To: Test Report <test-report@dpdk.org>
Cc: dpdk-test-reports@iol.unh.edu
In-Reply-To: <20240228150913.32603-6-bingz@nvidia.com>
References: <20240228150913.32603-6-bingz@nvidia.com>
Content-Type: text/plain
X-BeenThere: test-report@dpdk.org
X-Mailman-Version: 2.1.29
Precedence: list
List-Id: automatic DPDK test reports <test-report.dpdk.org>
List-Unsubscribe: <https://mails.dpdk.org/options/test-report>,
 <mailto:test-report-request@dpdk.org?subject=unsubscribe>
List-Archive: <http://mails.dpdk.org/archives/test-report/>
List-Post: <mailto:test-report@dpdk.org>
List-Help: <mailto:test-report-request@dpdk.org?subject=help>
List-Subscribe: <https://mails.dpdk.org/listinfo/test-report>,
 <mailto:test-report-request@dpdk.org?subject=subscribe>
Errors-To: test-report-bounces@dpdk.org

Test-Label: iol-unit-amd64-testing
Test-Status: SUCCESS
http://dpdk.org/patch/137439

_Testing PASS_

Submitter: Bing Zhao <bingz@nvidia.com>
Date: Wednesday, February 28 2024 15:09:13 
DPDK git baseline: Repo:dpdk
  Branch: master
  CommitID:f0cd4465b336362425eaae17fbaf7ac8f392da91

137435-137439 --> testing pass

Test environment and result as below:

+------------------+----------------+
|   Environment    | dpdk_unit_test |
+==================+================+
| Debian Bullseye  | PASS           |
+------------------+----------------+
| CentOS Stream 9  | PASS           |
+------------------+----------------+
| CentOS Stream 8  | PASS           |
+------------------+----------------+
| Fedora 37        | PASS           |
+------------------+----------------+
| Fedora 38        | PASS           |
+------------------+----------------+
| Debian 12 (arm)  | PASS           |
+------------------+----------------+
| RHEL8            | PASS           |
+------------------+----------------+
| Ubuntu 22.04     | PASS           |
+------------------+----------------+
| Ubuntu 20.04     | PASS           |
+------------------+----------------+
| openSUSE Leap 15 | PASS           |
+------------------+----------------+


Debian Bullseye
	Kernel: 5.4.0-122-generic
	Compiler: gcc 10.2.1-6

CentOS Stream 9
	Kernel: 4.18.0-240.10.1.el8_3.x86_64
	Compiler: gcc 11.3.1 20220421

CentOS Stream 8
	Kernel: 4.18.0-240.10.1.el8_3.x86_64
	Compiler: gcc 8.4.1 20200928

Fedora 37
	Kernel: Depends on container host system
	Compiler: gcc 12.3.1

Fedora 38
	Kernel: Depends on container host
	Compiler: gcc 13.1.1

Debian 12 (arm)
	Kernel: Container Host Kernel
	Compiler: gcc 11

RHEL8
	Kernel: 4.18.0-240.10.1.el8_3.x86_64
	Compiler: gcc 8.3.1 20191121 (Red Hat 8.3.1-5)

Ubuntu 22.04
	Kernel: 4.18.0-240.10.1.el8_3.x86_64
	Compiler: gcc 11.3.0

Ubuntu 20.04
	Kernel: 5.4.0-153-generic
	Compiler: gcc 9.4.0-1ubuntu1~20.04.1

openSUSE Leap 15
	Kernel: 4.18.0-240.10.1.el8_3.x86_64
	Compiler: gcc 7.5.0

To view detailed results, visit:
https://lab.dpdk.org/results/dashboard/patchsets/29318/

UNH-IOL DPDK Community Lab

To manage your email subscriptions, visit: 
https://lab.dpdk.org/results/dashboard/preferences/subscriptions/