From mboxrd@z Thu Jan  1 00:00:00 1970
Return-Path: <test-report-bounces@dpdk.org>
Received: from mails.dpdk.org (mails.dpdk.org [217.70.189.124])
	by inbox.dpdk.org (Postfix) with ESMTP id B5A7443C20
	for <public@inbox.dpdk.org>; Wed, 28 Feb 2024 17:15:46 +0100 (CET)
Received: from mails.dpdk.org (localhost [127.0.0.1])
	by mails.dpdk.org (Postfix) with ESMTP id B056942F87;
	Wed, 28 Feb 2024 17:15:46 +0100 (CET)
Received: from mail-pl1-f226.google.com (mail-pl1-f226.google.com
 [209.85.214.226])
 by mails.dpdk.org (Postfix) with ESMTP id 7C0F3402AE
 for <test-report@dpdk.org>; Wed, 28 Feb 2024 17:15:42 +0100 (CET)
Received: by mail-pl1-f226.google.com with SMTP id
 d9443c01a7336-1dc09556599so49588935ad.1
 for <test-report@dpdk.org>; Wed, 28 Feb 2024 08:15:42 -0800 (PST)
DKIM-Signature: v=1; a=rsa-sha256; c=relaxed/relaxed;
 d=iol.unh.edu; s=unh-iol; t=1709136942; x=1709741742; darn=dpdk.org;
 h=references:in-reply-to:cc:to:from:subject:message-id:date:from:to
 :cc:subject:date:message-id:reply-to;
 bh=577Ax69drzaH2Om0D183YNKtBwGW31k3XWeOwj+e29w=;
 b=FCN0qEj7XBKpLtKkWlmfK+nbVBaozAdqdv8ONy/mFhmXHcOFQp4IT+iQjwxJP+lv55
 cMRY2gc1kfNCi1P6AySSyFXyeGbMnIxoBkDdFayezbqX3HUbkg3uVkP+QMwbTusOSjTw
 dzslZS3/1+ssnB5HuN5JrtCgoPo5XLUymOqxE=
X-Google-DKIM-Signature: v=1; a=rsa-sha256; c=relaxed/relaxed;
 d=1e100.net; s=20230601; t=1709136942; x=1709741742;
 h=references:in-reply-to:cc:to:from:subject:message-id:date
 :x-gm-message-state:from:to:cc:subject:date:message-id:reply-to;
 bh=577Ax69drzaH2Om0D183YNKtBwGW31k3XWeOwj+e29w=;
 b=qC9ixWWf0yzhFqtgBAwcNQPR2pyPx7srZdxrDueR1Te/yX+Ri6QM7WkNbxtWUxtRsI
 yTXwE8hUiSBVn61DrwoQjyFex9i1Ie6DFm2a+t+gABKMvvunC/fhs4oj09DJf2L9Pq6V
 hrbsejFK95XSCrIVez0AeWLw5c8MWiuR4WVsJzV3/Ks1dNbAnd0XH8dhLO1zwB++EB9L
 KdUhxOlB7mFTEe06JD+jjGrwg32aXw0+kbTGz2gozCgGM97yohkUufRy1RihsEXaHTti
 4DIHWQ6OmnYMBhitifIa0BF15a8S8dQp0u9/FlYhp7LoiD6ccwTiOHrQbudgW+5ZpDxP
 9XLg==
X-Gm-Message-State: AOJu0Yy7+5Rl00PZkq7ENzp0riiF6SzU4Dc7cuB25H2jA8o/3cr3OPTx
 hppkE9gjjh5iRIeV8K7zd7YWUadO71XaVG2WZlB7f/pP8pGe/ymkAsQYt+8Xi0YVJdHMBVzhtGw
 FL+HTY9pNIuCOXRNQJ00CgjBOykKVUySC40IgzgYms1w/gVewaFsuQidG
X-Google-Smtp-Source: AGHT+IGq75Z2MTTsWj5WHvs9v0svso93vz4n91YcXsErMBj5i9dwf424cxxkZLggZFf/8jx0SJKikRepnre/
X-Received: by 2002:a17:902:8494:b0:1db:ea23:9ee6 with SMTP id
 c20-20020a170902849400b001dbea239ee6mr13527365plo.12.1709136941748; 
 Wed, 28 Feb 2024 08:15:41 -0800 (PST)
Received: from postal.iol.unh.edu (postal.iol.unh.edu.
 [2606:4100:3880:1234::84]) by smtp-relay.gmail.com with ESMTPS id
 kh11-20020a170903064b00b001dbb0670259sm142262plb.108.2024.02.28.08.15.41
 (version=TLS1_2 cipher=ECDHE-ECDSA-AES128-GCM-SHA256 bits=128/128);
 Wed, 28 Feb 2024 08:15:41 -0800 (PST)
X-Relaying-Domain: iol.unh.edu
Date: Wed, 28 Feb 2024 08:15:41 -0800 (PST)
Message-ID: <65df5c2d.170a0220.ecaad.9411SMTPIN_ADDED_MISSING@mx.google.com>
Received: from [172.17.0.6] (unknown [172.18.0.217])
 by postal.iol.unh.edu (Postfix) with ESMTP id E3D506052712;
 Wed, 28 Feb 2024 11:15:40 -0500 (EST)
Subject: |SUCCESS| pw137435-137439 [PATCH] [v4,5/5] net/mlx5: validate the ac
From: dpdklab@iol.unh.edu
To: Test Report <test-report@dpdk.org>
Cc: dpdk-test-reports@iol.unh.edu
In-Reply-To: <20240228150913.32603-6-bingz@nvidia.com>
References: <20240228150913.32603-6-bingz@nvidia.com>
Content-Type: text/plain
X-BeenThere: test-report@dpdk.org
X-Mailman-Version: 2.1.29
Precedence: list
List-Id: automatic DPDK test reports <test-report.dpdk.org>
List-Unsubscribe: <https://mails.dpdk.org/options/test-report>,
 <mailto:test-report-request@dpdk.org?subject=unsubscribe>
List-Archive: <http://mails.dpdk.org/archives/test-report/>
List-Post: <mailto:test-report@dpdk.org>
List-Help: <mailto:test-report-request@dpdk.org?subject=help>
List-Subscribe: <https://mails.dpdk.org/listinfo/test-report>,
 <mailto:test-report-request@dpdk.org?subject=subscribe>
Errors-To: test-report-bounces@dpdk.org

Test-Label: iol-unit-arm64-testing
Test-Status: SUCCESS
http://dpdk.org/patch/137439

_Testing PASS_

Submitter: Bing Zhao <bingz@nvidia.com>
Date: Wednesday, February 28 2024 15:09:13 
DPDK git baseline: Repo:dpdk
  Branch: master
  CommitID:f0cd4465b336362425eaae17fbaf7ac8f392da91

137435-137439 --> testing pass

Test environment and result as below:

+--------------------------+---------------------------+------------------------------+--------------+----------------+
|       Environment        | cryptodev_sw_zuc_autotest | cryptodev_sw_snow3g_autotest | lpm_autotest | dpdk_unit_test |
+==========================+===========================+==============================+==============+================+
| Debian 12 (arm)          | PASS                      | PASS                         | SKIPPED      | PASS           |
+--------------------------+---------------------------+------------------------------+--------------+----------------+
| Ubuntu 20.04 ARM SVE     | SKIPPED                   | SKIPPED                      | PASS         | SKIPPED        |
+--------------------------+---------------------------+------------------------------+--------------+----------------+
| Debian 11 (Buster) (ARM) | SKIPPED                   | SKIPPED                      | SKIPPED      | PASS           |
+--------------------------+---------------------------+------------------------------+--------------+----------------+
| Fedora 37 (ARM)          | SKIPPED                   | SKIPPED                      | SKIPPED      | PASS           |
+--------------------------+---------------------------+------------------------------+--------------+----------------+
| CentOS Stream 9 (ARM)    | SKIPPED                   | SKIPPED                      | SKIPPED      | PASS           |
+--------------------------+---------------------------+------------------------------+--------------+----------------+
| Fedora 38 (ARM)          | SKIPPED                   | SKIPPED                      | SKIPPED      | PASS           |
+--------------------------+---------------------------+------------------------------+--------------+----------------+


Debian 12 (arm)
	Kernel: Container Host Kernel
	Compiler: gcc 11

Ubuntu 20.04 ARM SVE
	Kernel: 5.4.0-80-generic
	Compiler: gcc 10.3.0 (Ubuntu 10.3.0-1ubuntu1~20.04)

Debian 11 (Buster) (ARM)
	Kernel: Container Host Kernel
	Compiler: gcc 10.2.1

Fedora 37 (ARM)
	Kernel: Depends on container host
	Compiler: gcc 12.3.1

CentOS Stream 9 (ARM)
	Kernel: Container Host Kernel
	Compiler: gcc 11.3.1

Fedora 38 (ARM)
	Kernel: Depends on container host
	Compiler: gcc 13.1.1

To view detailed results, visit:
https://lab.dpdk.org/results/dashboard/patchsets/29318/

UNH-IOL DPDK Community Lab

To manage your email subscriptions, visit: 
https://lab.dpdk.org/results/dashboard/preferences/subscriptions/