From mboxrd@z Thu Jan  1 00:00:00 1970
Return-Path: <test-report-bounces@dpdk.org>
Received: from mails.dpdk.org (mails.dpdk.org [217.70.189.124])
	by inbox.dpdk.org (Postfix) with ESMTP id DAEDE43C26
	for <public@inbox.dpdk.org>; Wed, 28 Feb 2024 17:16:39 +0100 (CET)
Received: from mails.dpdk.org (localhost [127.0.0.1])
	by mails.dpdk.org (Postfix) with ESMTP id D6D7B4114B;
	Wed, 28 Feb 2024 17:16:39 +0100 (CET)
Received: from mail-pl1-f227.google.com (mail-pl1-f227.google.com
 [209.85.214.227])
 by mails.dpdk.org (Postfix) with ESMTP id E9109402AE
 for <test-report@dpdk.org>; Wed, 28 Feb 2024 17:16:18 +0100 (CET)
Received: by mail-pl1-f227.google.com with SMTP id
 d9443c01a7336-1dcb3e6ff3fso22281495ad.2
 for <test-report@dpdk.org>; Wed, 28 Feb 2024 08:16:18 -0800 (PST)
DKIM-Signature: v=1; a=rsa-sha256; c=relaxed/relaxed;
 d=iol.unh.edu; s=unh-iol; t=1709136978; x=1709741778; darn=dpdk.org;
 h=references:in-reply-to:cc:to:from:subject:message-id:date:from:to
 :cc:subject:date:message-id:reply-to;
 bh=bmCSfBS3EYix/xXiFl26hhW2Tyie2dA2dhpBTS62o10=;
 b=MOpovOcwtRUxaYg1Tl7eg0rB5C8QNJ4xRxSrK4/RAC5oTLHm6+wjDCvhuMVnOwjEHw
 nw3MIddmY53BumISVtGdYuQcZcndH7Hs8ZJBu6g0/AEM7UZTOeJOnO67STtKe4pRFpTN
 b2S4+n/Dcgg7uTnu51CcUf5DUys0dwt85SF/0=
X-Google-DKIM-Signature: v=1; a=rsa-sha256; c=relaxed/relaxed;
 d=1e100.net; s=20230601; t=1709136978; x=1709741778;
 h=references:in-reply-to:cc:to:from:subject:message-id:date
 :x-gm-message-state:from:to:cc:subject:date:message-id:reply-to;
 bh=bmCSfBS3EYix/xXiFl26hhW2Tyie2dA2dhpBTS62o10=;
 b=QKAIs/cQM1harFJc846GWx+ZE6LPOoo4/Q9giuwUe/f7AWqIbZ4X4wb+kFtH+EL046
 JmSnn7Ru1CwrZFNSXX5LZDoQAKrW6SH+mmriZ68fpX9X6e0YiecfnLkoKvzSYbhWU9f6
 EN1A0oxhaAq+tn05K2JQC7i7Pi9sWoQGBovbEbr0reuq8C5i3ivS6dZ73sdXdBemw4tz
 HcUfUYVhBXGZzf5vh7t6t0cuNb+4gSj5yYGIhSnXUrnp6elocoTlG/kY4ZcTV+k7W3qa
 EXa40gOQmEgJkex77JBZpS47dTR0bMFeDA3BlfzkoBZae0o2RA7yTj8TE0WGTPvSCVx4
 lrxg==
X-Gm-Message-State: AOJu0YxIFECtDXLMcFKP0XxkBTYwqKK+LCPNN7OKl3W8QKd/W8BsEI7s
 YE7V6fRidGuLmyvyuT+p+rdj5OV/cd8ZN/yV2Ru9zFFKQ/9ooSJj49zqNGUdXYVvF8OdDZ0mmHA
 HSisOe8FtAdhuz+YparZrTsVyGHl6hky3B1SycxUYxGd6rq+9EVYit06c
X-Google-Smtp-Source: AGHT+IFFtGZUx5+m0/i0iU2+/P2Fmjm1LEczDzSJS+Aem7woJMPwDU+HFY4aAlDd+V514Ie3wRnXS4qmWyGR
X-Received: by 2002:a17:902:d2c4:b0:1db:5213:222 with SMTP id
 n4-20020a170902d2c400b001db52130222mr17232152plc.5.1709136978241; 
 Wed, 28 Feb 2024 08:16:18 -0800 (PST)
Received: from postal.iol.unh.edu (postal.iol.unh.edu.
 [2606:4100:3880:1234::84]) by smtp-relay.gmail.com with ESMTPS id
 k8-20020a17090a9d8800b0029b01dc28b3sm20745pjp.8.2024.02.28.08.16.18
 (version=TLS1_2 cipher=ECDHE-ECDSA-AES128-GCM-SHA256 bits=128/128);
 Wed, 28 Feb 2024 08:16:18 -0800 (PST)
X-Relaying-Domain: iol.unh.edu
Date: Wed, 28 Feb 2024 08:16:18 -0800 (PST)
Message-ID: <65df5c52.170a0220.3c67d.19fcSMTPIN_ADDED_MISSING@mx.google.com>
Received: from [172.17.0.6] (unknown [172.18.0.217])
 by postal.iol.unh.edu (Postfix) with ESMTP id 713B86052712;
 Wed, 28 Feb 2024 11:16:17 -0500 (EST)
Subject: |SUCCESS| pw137435-137439 [PATCH] [v4,5/5] net/mlx5: validate the ac
From: dpdklab@iol.unh.edu
To: Test Report <test-report@dpdk.org>
Cc: dpdk-test-reports@iol.unh.edu
In-Reply-To: <20240228150913.32603-6-bingz@nvidia.com>
References: <20240228150913.32603-6-bingz@nvidia.com>
Content-Type: text/plain
X-BeenThere: test-report@dpdk.org
X-Mailman-Version: 2.1.29
Precedence: list
List-Id: automatic DPDK test reports <test-report.dpdk.org>
List-Unsubscribe: <https://mails.dpdk.org/options/test-report>,
 <mailto:test-report-request@dpdk.org?subject=unsubscribe>
List-Archive: <http://mails.dpdk.org/archives/test-report/>
List-Post: <mailto:test-report@dpdk.org>
List-Help: <mailto:test-report-request@dpdk.org?subject=help>
List-Subscribe: <https://mails.dpdk.org/listinfo/test-report>,
 <mailto:test-report-request@dpdk.org?subject=subscribe>
Errors-To: test-report-bounces@dpdk.org

Test-Label: iol-abi-testing
Test-Status: SUCCESS
http://dpdk.org/patch/137439

_Testing PASS_

Submitter: Bing Zhao <bingz@nvidia.com>
Date: Wednesday, February 28 2024 15:09:13 
DPDK git baseline: Repo:dpdk
  Branch: master
  CommitID:f0cd4465b336362425eaae17fbaf7ac8f392da91

137435-137439 --> testing pass

Test environment and result as below:

+------------------+----------+
|   Environment    | abi_test |
+==================+==========+
| Debian Bullseye  | PASS     |
+------------------+----------+
| CentOS Stream 8  | PASS     |
+------------------+----------+
| RHEL8            | PASS     |
+------------------+----------+
| Fedora 38        | PASS     |
+------------------+----------+
| openSUSE Leap 15 | PASS     |
+------------------+----------+
| Ubuntu 22.04     | PASS     |
+------------------+----------+
| CentOS Stream 9  | PASS     |
+------------------+----------+
| Debian 12 (arm)  | PASS     |
+------------------+----------+
| Fedora 37        | PASS     |
+------------------+----------+


Debian Bullseye
	Kernel: 5.4.0-122-generic
	Compiler: gcc 10.2.1-6

CentOS Stream 8
	Kernel: 4.18.0-240.10.1.el8_3.x86_64
	Compiler: gcc 8.4.1 20200928

RHEL8
	Kernel: 4.18.0-240.10.1.el8_3.x86_64
	Compiler: gcc 8.3.1 20191121 (Red Hat 8.3.1-5)

Fedora 38
	Kernel: Depends on container host
	Compiler: clang 16.0.3

openSUSE Leap 15
	Kernel: 4.18.0-240.10.1.el8_3.x86_64
	Compiler: gcc 7.5.0

Ubuntu 22.04
	Kernel: 4.18.0-240.10.1.el8_3.x86_64
	Compiler: gcc 11.3.0

CentOS Stream 9
	Kernel: 4.18.0-240.10.1.el8_3.x86_64
	Compiler: gcc 11.3.1 20220421

Debian 12 (arm)
	Kernel: Container Host Kernel
	Compiler: gcc 11

Fedora 37
	Kernel: Depends on container host system
	Compiler: gcc 12.3.1

To view detailed results, visit:
https://lab.dpdk.org/results/dashboard/patchsets/29318/

UNH-IOL DPDK Community Lab

To manage your email subscriptions, visit: 
https://lab.dpdk.org/results/dashboard/preferences/subscriptions/