From mboxrd@z Thu Jan  1 00:00:00 1970
Return-Path: <test-report-bounces@dpdk.org>
Received: from mails.dpdk.org (mails.dpdk.org [217.70.189.124])
	by inbox.dpdk.org (Postfix) with ESMTP id 3331943C2C
	for <public@inbox.dpdk.org>; Wed, 28 Feb 2024 17:35:35 +0100 (CET)
Received: from mails.dpdk.org (localhost [127.0.0.1])
	by mails.dpdk.org (Postfix) with ESMTP id 2EDAD40DF6;
	Wed, 28 Feb 2024 17:35:35 +0100 (CET)
Received: from mail-ot1-f99.google.com (mail-ot1-f99.google.com
 [209.85.210.99]) by mails.dpdk.org (Postfix) with ESMTP id A991D402E3
 for <test-report@dpdk.org>; Wed, 28 Feb 2024 17:35:33 +0100 (CET)
Received: by mail-ot1-f99.google.com with SMTP id
 46e09a7af769-6e4a5ee63f4so1441488a34.3
 for <test-report@dpdk.org>; Wed, 28 Feb 2024 08:35:33 -0800 (PST)
DKIM-Signature: v=1; a=rsa-sha256; c=relaxed/relaxed;
 d=iol.unh.edu; s=unh-iol; t=1709138133; x=1709742933; darn=dpdk.org;
 h=references:in-reply-to:cc:to:from:subject:message-id:date:from:to
 :cc:subject:date:message-id:reply-to;
 bh=zecPSd0SzBLyW1v08JAW5DLqq5ZjnInPmHTCK2Lc4SM=;
 b=QzKhfifWs+9iRHV78UnVT0nbbxZ1n4Dp358B26iVNZ7to6Ut0Sp3CR9frRwsJ/Js7M
 lP1mV2h8wNn8UABbur0RO/cU06VikYYhIjn4nA0rofA8yQd0XS7Z6dkVT9LV6C6cLwW3
 2mj+7xJEhfphJFjXv3P+0lRz5mJZ5/NcElhCs=
X-Google-DKIM-Signature: v=1; a=rsa-sha256; c=relaxed/relaxed;
 d=1e100.net; s=20230601; t=1709138133; x=1709742933;
 h=references:in-reply-to:cc:to:from:subject:message-id:date
 :x-gm-message-state:from:to:cc:subject:date:message-id:reply-to;
 bh=zecPSd0SzBLyW1v08JAW5DLqq5ZjnInPmHTCK2Lc4SM=;
 b=IxHhQSXTEr9fXB2lsXfmBPf7MhlOXfF+DNghsKZJ1LoRlI9N4FhNq8TScIsJ6h1sP+
 t2pYzP4Czq2/8MCk2GwBQOHSlrBxWrIV/nubfmBWj/8J6GGuLVGf2SXYiagvV5bu6sr9
 pDwSiaikxV6oblcb7DyAHak3LF+fGp2madwdLmBlBODhWbaiyGY8dbEEihj0Q6aazJIU
 m81WREazg0oon9fnn27/V20V7qs79O84Act77MHnYTnBjCYD4fcMKhTSFYS3NAhBNGYz
 x0WmVh0UvschKAc0LiuPYF9Ed2lF4dyLwv1mlQqXjYzNC2NajshWhoBogwtJ4SHzEshW
 d9WA==
X-Gm-Message-State: AOJu0Yy2MoM8YaMrRv5wnBs7jVZlwOBd6EJ+WghEuFwFC6FHCQrx7BxJ
 zd9j/JbrlL8oV0/JWw4m3O6Bcy4O/sjCMJ5Yp8dJLk3xDE2g5LUTLIktZIxKDBRJXKeQbqfjl5a
 1H6clMMiSMt8t8KrdE7rC/MlpyU/N6ELwvx9Rsz3B
X-Google-Smtp-Source: AGHT+IG8RPnSyCkU4MPNTbCWgR757zMRsWe2Y4de3v+TdP/R1PYFS/igGyLlZO16yx6hwNESDNamX52HXuaW
X-Received: by 2002:a9d:4d0a:0:b0:6e4:6305:367b with SMTP id
 n10-20020a9d4d0a000000b006e46305367bmr69375otf.30.1709138133042; 
 Wed, 28 Feb 2024 08:35:33 -0800 (PST)
Received: from postal.iol.unh.edu (postal.iol.unh.edu. [132.177.123.84])
 by smtp-relay.gmail.com with ESMTPS id
 k9-20020aa79989000000b006e55486f2ffsm80681pfh.14.2024.02.28.08.35.32
 (version=TLS1_2 cipher=ECDHE-ECDSA-AES128-GCM-SHA256 bits=128/128);
 Wed, 28 Feb 2024 08:35:33 -0800 (PST)
X-Relaying-Domain: iol.unh.edu
Date: Wed, 28 Feb 2024 08:35:33 -0800 (PST)
Message-ID: <65df60d5.a70a0220.2a213.50bbSMTPIN_ADDED_MISSING@mx.google.com>
Received: from [172.17.0.9] (unknown [172.18.0.217])
 by postal.iol.unh.edu (Postfix) with ESMTP id 350396052712;
 Wed, 28 Feb 2024 11:35:32 -0500 (EST)
Subject: |SUCCESS| pw137432-137434 [PATCH] [v6,4/4] test/cryptodev: add tests
From: dpdklab@iol.unh.edu
To: Test Report <test-report@dpdk.org>
Cc: dpdk-test-reports@iol.unh.edu
In-Reply-To: <20240228140036.1996629-5-nishikanta.nayak@intel.com>
References: <20240228140036.1996629-5-nishikanta.nayak@intel.com>
Content-Type: text/plain
X-BeenThere: test-report@dpdk.org
X-Mailman-Version: 2.1.29
Precedence: list
List-Id: automatic DPDK test reports <test-report.dpdk.org>
List-Unsubscribe: <https://mails.dpdk.org/options/test-report>,
 <mailto:test-report-request@dpdk.org?subject=unsubscribe>
List-Archive: <http://mails.dpdk.org/archives/test-report/>
List-Post: <mailto:test-report@dpdk.org>
List-Help: <mailto:test-report-request@dpdk.org?subject=help>
List-Subscribe: <https://mails.dpdk.org/listinfo/test-report>,
 <mailto:test-report-request@dpdk.org?subject=subscribe>
Errors-To: test-report-bounces@dpdk.org

Test-Label: iol-compile-amd64-testing
Test-Status: SUCCESS
http://dpdk.org/patch/137434

_Testing PASS_

Submitter: Nishikant Nayak <nishikanta.nayak@intel.com>
Date: Wednesday, February 28 2024 14:00:36 
DPDK git baseline: Repo:dpdk
  Branch: master
  CommitID:92c0ad70caf3ed6f4b93de6ddaf7bc369737c049

137432-137434 --> testing pass

Test environment and result as below:

+---------------------+--------------------+----------------------+
|     Environment     | dpdk_meson_compile | dpdk_mingw64_compile |
+=====================+====================+======================+
| Windows Server 2022 | PASS               | SKIPPED              |
+---------------------+--------------------+----------------------+
| Debian 12 (arm)     | PASS               | SKIPPED              |
+---------------------+--------------------+----------------------+
| CentOS Stream 9     | PASS               | SKIPPED              |
+---------------------+--------------------+----------------------+
| Fedora 37           | PASS               | SKIPPED              |
+---------------------+--------------------+----------------------+
| CentOS Stream 8     | PASS               | SKIPPED              |
+---------------------+--------------------+----------------------+
| FreeBSD 13.2        | PASS               | SKIPPED              |
+---------------------+--------------------+----------------------+
| Debian Bullseye     | PASS               | SKIPPED              |
+---------------------+--------------------+----------------------+
| RHEL8               | PASS               | SKIPPED              |
+---------------------+--------------------+----------------------+
| Fedora 38           | PASS               | SKIPPED              |
+---------------------+--------------------+----------------------+
| Ubuntu 22.04        | PASS               | SKIPPED              |
+---------------------+--------------------+----------------------+
| openSUSE Leap 15    | PASS               | SKIPPED              |
+---------------------+--------------------+----------------------+
| Windows Server 2019 | PASS               | PASS                 |
+---------------------+--------------------+----------------------+
| Ubuntu 20.04        | PASS               | SKIPPED              |
+---------------------+--------------------+----------------------+
| Alpine              | PASS               | SKIPPED              |
+---------------------+--------------------+----------------------+


Windows Server 2022
	Kernel: OS Build 20348.2031
	Compiler: MSVC VS-Preview

Debian 12 (arm)
	Kernel: Container Host Kernel
	Compiler: gcc 11

CentOS Stream 9
	Kernel: 4.18.0-240.10.1.el8_3.x86_64
	Compiler: gcc 11.3.1 20220421

Fedora 37
	Kernel: Depends on container host system
	Compiler: gcc 12.3.1

CentOS Stream 8
	Kernel: 4.18.0-240.10.1.el8_3.x86_64
	Compiler: gcc 8.4.1 20200928

FreeBSD 13.2
	Kernel: 13.2
	Compiler: clang 11.3.0

Debian Bullseye
	Kernel: 5.4.0-122-generic
	Compiler: gcc 10.2.1-6

RHEL8
	Kernel: 4.18.0-240.10.1.el8_3.x86_64
	Compiler: gcc 8.3.1 20191121 (Red Hat 8.3.1-5)

Fedora 38
	Kernel: Depends on container host
	Compiler: gcc 13.1.1

Ubuntu 22.04
	Kernel: 4.18.0-240.10.1.el8_3.x86_64
	Compiler: gcc 11.3.0

openSUSE Leap 15
	Kernel: 4.18.0-240.10.1.el8_3.x86_64
	Compiler: gcc 7.5.0

Windows Server 2019
	Kernel: 10.0
	Compiler: clang 14.0 and gcc 8.1.0 (MinGW)

Ubuntu 20.04
	Kernel: 5.4.0-153-generic
	Compiler: gcc 9.4.0-1ubuntu1~20.04.1

Alpine
	Kernel: 5.4.0-73-generic
	Compiler: gcc (Alpine 10.3.1_git20210424) 10.3.1 20210424

To view detailed results, visit:
https://lab.dpdk.org/results/dashboard/patchsets/29317/

UNH-IOL DPDK Community Lab

To manage your email subscriptions, visit: 
https://lab.dpdk.org/results/dashboard/preferences/subscriptions/