From mboxrd@z Thu Jan  1 00:00:00 1970
Return-Path: <test-report-bounces@dpdk.org>
Received: from mails.dpdk.org (mails.dpdk.org [217.70.189.124])
	by inbox.dpdk.org (Postfix) with ESMTP id B7FC043C2C
	for <public@inbox.dpdk.org>; Wed, 28 Feb 2024 17:36:55 +0100 (CET)
Received: from mails.dpdk.org (localhost [127.0.0.1])
	by mails.dpdk.org (Postfix) with ESMTP id B384740DF6;
	Wed, 28 Feb 2024 17:36:55 +0100 (CET)
Received: from mail-oo1-f100.google.com (mail-oo1-f100.google.com
 [209.85.161.100])
 by mails.dpdk.org (Postfix) with ESMTP id C7E05402E3
 for <test-report@dpdk.org>; Wed, 28 Feb 2024 17:36:48 +0100 (CET)
Received: by mail-oo1-f100.google.com with SMTP id
 006d021491bc7-5a04dd6721dso1569094eaf.0
 for <test-report@dpdk.org>; Wed, 28 Feb 2024 08:36:48 -0800 (PST)
DKIM-Signature: v=1; a=rsa-sha256; c=relaxed/relaxed;
 d=iol.unh.edu; s=unh-iol; t=1709138208; x=1709743008; darn=dpdk.org;
 h=references:in-reply-to:cc:to:from:subject:message-id:date:from:to
 :cc:subject:date:message-id:reply-to;
 bh=zecPSd0SzBLyW1v08JAW5DLqq5ZjnInPmHTCK2Lc4SM=;
 b=bMYqK3E7ffalfjInVzsmlniG1sAZ3bBLvcbwfHrA8AMLPgLwWiN/kr+f6yb4QxHYnj
 LTApvdGsvjHK0KKEm2s1mUA7kA6ALUvxu26qsPFVAUG5UK1Ip7XLTpmGRuUhbQtXjClM
 9KGAxlMk4XC32HDzURtTLrRVo5Bhrr72hG+TU=
X-Google-DKIM-Signature: v=1; a=rsa-sha256; c=relaxed/relaxed;
 d=1e100.net; s=20230601; t=1709138208; x=1709743008;
 h=references:in-reply-to:cc:to:from:subject:message-id:date
 :x-gm-message-state:from:to:cc:subject:date:message-id:reply-to;
 bh=zecPSd0SzBLyW1v08JAW5DLqq5ZjnInPmHTCK2Lc4SM=;
 b=ZXzoBydzE2pMbL0uZEV+vckIdCvP8uP31Y+nlwDDQW4HNgBJyjwjpXlRqeM9ad2pa0
 xOtobLg27zreWcqs3vQq1PIM81rcZlKmlmTcIKoWcHaMCzcwlbv6EX9QcQMaIdc7RcK4
 rSdoJU+/u+4ue4OKWf7JFX3oeZce6o94n7/PikyHsbDf7bPQQhEQ1HsBZbuFYD6JVx7L
 Lw60XqcSeTfb7b/p+lGpQliaVxk2zbIb++yTrE7V7k1foYzc2CzVMPZTgcXmk8Gf+B57
 kgbfYxObXaLp6AIM5pUkZFkTAiON2nC6T6/ciVOGdt81sbH90iJhu2e91kaJ68Dkn03z
 pVaA==
X-Gm-Message-State: AOJu0YwzPyP7SFSsMQ38+m8tnAemT8bnwzMu4fsHb7+a9LsO1cOFY6Xw
 ck5rGMY1Rmi54BEDjt8b3P78DNUKpqfb/EnFuK59Z2ZDUILlZGvRAHu9KgUQ8yQ9X7X8WpE97ay
 J8tqI5HFhAxC0BVtbflZHLxxsh2ikftZ1IEHVMXdz
X-Google-Smtp-Source: AGHT+IFkFQo8XO9X7KGXb1wfA8mb/Nmlun2+tq7ah8MADGj2dN25SL9jg0eDVa2mDNLD/PuP2zZFJ0Sfl3aC
X-Received: by 2002:a4a:244f:0:b0:5a0:d409:35b9 with SMTP id
 v15-20020a4a244f000000b005a0d40935b9mr113562oov.1.1709138208152; 
 Wed, 28 Feb 2024 08:36:48 -0800 (PST)
Received: from postal.iol.unh.edu (postal.iol.unh.edu. [132.177.123.84])
 by smtp-relay.gmail.com with ESMTPS id
 u15-20020a4a8c0f000000b0059cfbbe5f5asm503285ooj.20.2024.02.28.08.36.48
 (version=TLS1_2 cipher=ECDHE-ECDSA-AES128-GCM-SHA256 bits=128/128);
 Wed, 28 Feb 2024 08:36:48 -0800 (PST)
X-Relaying-Domain: iol.unh.edu
Date: Wed, 28 Feb 2024 08:36:48 -0800 (PST)
Message-ID: <65df6120.4a0a0220.3252.2b96SMTPIN_ADDED_MISSING@mx.google.com>
Received: from [172.21.0.6] (unknown [172.18.0.240])
 by postal.iol.unh.edu (Postfix) with ESMTP id 9F6936052712;
 Wed, 28 Feb 2024 11:36:47 -0500 (EST)
Subject: |SUCCESS| pw137432-137434 [PATCH] [v6,4/4] test/cryptodev: add tests
From: dpdklab@iol.unh.edu
To: Test Report <test-report@dpdk.org>
Cc: dpdk-test-reports@iol.unh.edu
In-Reply-To: <20240228140036.1996629-5-nishikanta.nayak@intel.com>
References: <20240228140036.1996629-5-nishikanta.nayak@intel.com>
Content-Type: text/plain
X-BeenThere: test-report@dpdk.org
X-Mailman-Version: 2.1.29
Precedence: list
List-Id: automatic DPDK test reports <test-report.dpdk.org>
List-Unsubscribe: <https://mails.dpdk.org/options/test-report>,
 <mailto:test-report-request@dpdk.org?subject=unsubscribe>
List-Archive: <http://mails.dpdk.org/archives/test-report/>
List-Post: <mailto:test-report@dpdk.org>
List-Help: <mailto:test-report-request@dpdk.org?subject=help>
List-Subscribe: <https://mails.dpdk.org/listinfo/test-report>,
 <mailto:test-report-request@dpdk.org?subject=subscribe>
Errors-To: test-report-bounces@dpdk.org

Test-Label: iol-compile-amd64-testing
Test-Status: SUCCESS
http://dpdk.org/patch/137434

_Testing PASS_

Submitter: Nishikant Nayak <nishikanta.nayak@intel.com>
Date: Wednesday, February 28 2024 14:00:36 
DPDK git baseline: Repo:dpdk
  Branch: master
  CommitID:92c0ad70caf3ed6f4b93de6ddaf7bc369737c049

137432-137434 --> testing pass

Test environment and result as below:

+---------------------+--------------------+----------------------+
|     Environment     | dpdk_meson_compile | dpdk_mingw64_compile |
+=====================+====================+======================+
| Windows Server 2022 | PASS               | SKIPPED              |
+---------------------+--------------------+----------------------+
| Debian 12 (arm)     | PASS               | SKIPPED              |
+---------------------+--------------------+----------------------+
| CentOS Stream 9     | PASS               | SKIPPED              |
+---------------------+--------------------+----------------------+
| Fedora 37           | PASS               | SKIPPED              |
+---------------------+--------------------+----------------------+
| CentOS Stream 8     | PASS               | SKIPPED              |
+---------------------+--------------------+----------------------+
| FreeBSD 13.2        | PASS               | SKIPPED              |
+---------------------+--------------------+----------------------+
| Debian Bullseye     | PASS               | SKIPPED              |
+---------------------+--------------------+----------------------+
| RHEL8               | PASS               | SKIPPED              |
+---------------------+--------------------+----------------------+
| Fedora 38           | PASS               | SKIPPED              |
+---------------------+--------------------+----------------------+
| Ubuntu 22.04        | PASS               | SKIPPED              |
+---------------------+--------------------+----------------------+
| openSUSE Leap 15    | PASS               | SKIPPED              |
+---------------------+--------------------+----------------------+
| Windows Server 2019 | PASS               | PASS                 |
+---------------------+--------------------+----------------------+
| Ubuntu 20.04        | PASS               | SKIPPED              |
+---------------------+--------------------+----------------------+
| Alpine              | PASS               | SKIPPED              |
+---------------------+--------------------+----------------------+


Windows Server 2022
	Kernel: OS Build 20348.2031
	Compiler: MSVC VS-Preview

Debian 12 (arm)
	Kernel: Container Host Kernel
	Compiler: gcc 11

CentOS Stream 9
	Kernel: 4.18.0-240.10.1.el8_3.x86_64
	Compiler: gcc 11.3.1 20220421

Fedora 37
	Kernel: Depends on container host system
	Compiler: gcc 12.3.1

CentOS Stream 8
	Kernel: 4.18.0-240.10.1.el8_3.x86_64
	Compiler: gcc 8.4.1 20200928

FreeBSD 13.2
	Kernel: 13.2
	Compiler: clang 11.3.0

Debian Bullseye
	Kernel: 5.4.0-122-generic
	Compiler: gcc 10.2.1-6

RHEL8
	Kernel: 4.18.0-240.10.1.el8_3.x86_64
	Compiler: gcc 8.3.1 20191121 (Red Hat 8.3.1-5)

Fedora 38
	Kernel: Depends on container host
	Compiler: gcc 13.1.1

Ubuntu 22.04
	Kernel: 4.18.0-240.10.1.el8_3.x86_64
	Compiler: gcc 11.3.0

openSUSE Leap 15
	Kernel: 4.18.0-240.10.1.el8_3.x86_64
	Compiler: gcc 7.5.0

Windows Server 2019
	Kernel: 10.0
	Compiler: clang 14.0 and gcc 8.1.0 (MinGW)

Ubuntu 20.04
	Kernel: 5.4.0-153-generic
	Compiler: gcc 9.4.0-1ubuntu1~20.04.1

Alpine
	Kernel: 5.4.0-73-generic
	Compiler: gcc (Alpine 10.3.1_git20210424) 10.3.1 20210424

To view detailed results, visit:
https://lab.dpdk.org/results/dashboard/patchsets/29317/

UNH-IOL DPDK Community Lab

To manage your email subscriptions, visit: 
https://lab.dpdk.org/results/dashboard/preferences/subscriptions/