From mboxrd@z Thu Jan  1 00:00:00 1970
Return-Path: <test-report-bounces@dpdk.org>
Received: from mails.dpdk.org (mails.dpdk.org [217.70.189.124])
	by inbox.dpdk.org (Postfix) with ESMTP id E8ED343C2C
	for <public@inbox.dpdk.org>; Wed, 28 Feb 2024 17:42:00 +0100 (CET)
Received: from mails.dpdk.org (localhost [127.0.0.1])
	by mails.dpdk.org (Postfix) with ESMTP id E4814410EA;
	Wed, 28 Feb 2024 17:42:00 +0100 (CET)
Received: from mail-io1-f97.google.com (mail-io1-f97.google.com
 [209.85.166.97]) by mails.dpdk.org (Postfix) with ESMTP id DD7F6410E3
 for <test-report@dpdk.org>; Wed, 28 Feb 2024 17:41:58 +0100 (CET)
Received: by mail-io1-f97.google.com with SMTP id
 ca18e2360f4ac-7bade847536so313888139f.0
 for <test-report@dpdk.org>; Wed, 28 Feb 2024 08:41:58 -0800 (PST)
DKIM-Signature: v=1; a=rsa-sha256; c=relaxed/relaxed;
 d=iol.unh.edu; s=unh-iol; t=1709138518; x=1709743318; darn=dpdk.org;
 h=references:in-reply-to:cc:to:from:subject:message-id:date:from:to
 :cc:subject:date:message-id:reply-to;
 bh=JXGX9bZCm07FL9LyM1WTNLSeUutT40o1pp9kAWkA45o=;
 b=XOkYlBDBk4WaqXCWhN7UGjEo54/+yQzTjJckGSmXNM4gGK7KTxRpkbA7dkPHbfqkLY
 BA2XJpdz/s+eMXS4YE60hmLc7Hv2orK2QmWH25byrf+9rdb7WDqo25sdc0fyHT82IcGt
 CndvVMLtxVC7riIJDNR44cUr01KttVpfQ/Gok=
X-Google-DKIM-Signature: v=1; a=rsa-sha256; c=relaxed/relaxed;
 d=1e100.net; s=20230601; t=1709138518; x=1709743318;
 h=references:in-reply-to:cc:to:from:subject:message-id:date
 :x-gm-message-state:from:to:cc:subject:date:message-id:reply-to;
 bh=JXGX9bZCm07FL9LyM1WTNLSeUutT40o1pp9kAWkA45o=;
 b=p3YvwmdCffkqTgKcHFVOo+5owJi7TgVUSWY72v3wtpnWQ7ivOfYQz3WpHvykrmfNYF
 W9jHRfkO7dkridonK1rZf+866eBMTT81FUl6NgfG9FUrd/gb3IzuGWbVxysJLkpuqw8p
 LCM9rMX45tMp4wekKyT30ti0ANeMPCcbOIk//8MCf+c+xFup7craX2lo+N4SpQgwS/nu
 EHCWxHW9BsbTNlM+bbbznB8sv5ay7Ldl3jNWPLsbus0YcBgxWAgTbKa/IrdjtgQZoqFJ
 N9s+IQXnUi1g2f3gGD2zCmbOIU10a5mnswPotpUhr19IpOSBv7vx8CRpmN9NS30ulQxl
 d4dQ==
X-Gm-Message-State: AOJu0YygaX6knMxXyf9UJ95wXWC+PKCQzHI4YIrfAvBldkXG/EUhfehe
 G27RR1O1JSm5g4Q27g9r4pDJsNGNQR7ykeWlZbf50k4dOuKEFYfIkyII4ItL4rH+4fDQv5pmh+d
 wxiFnp+0VrGpVvtAUa1zyYDxwaVM39x5qZBmuVau9pnJ5Jv8rHutb3g1K
X-Google-Smtp-Source: AGHT+IEkLmg3Uu3XbB+OjZjzGqAnlVNyoBGnk1a4TpZ0jV4CR0Xf04+orD0Nz9bH8awv4U2VNMde4XDisusb
X-Received: by 2002:a05:6e02:141:b0:365:b574:9618 with SMTP id
 j1-20020a056e02014100b00365b5749618mr3367392ilr.26.1709138518196; 
 Wed, 28 Feb 2024 08:41:58 -0800 (PST)
Received: from postal.iol.unh.edu (postal.iol.unh.edu.
 [2606:4100:3880:1234::84]) by smtp-relay.gmail.com with ESMTPS id
 h13-20020a92c26d000000b00363cd48b8c7sm397334ild.25.2024.02.28.08.41.58
 (version=TLS1_2 cipher=ECDHE-ECDSA-AES128-GCM-SHA256 bits=128/128);
 Wed, 28 Feb 2024 08:41:58 -0800 (PST)
X-Relaying-Domain: iol.unh.edu
Date: Wed, 28 Feb 2024 08:41:58 -0800 (PST)
Message-ID: <65df6256.920a0220.8fd5f.d720SMTPIN_ADDED_MISSING@mx.google.com>
Received: from [172.17.0.9] (unknown [172.18.0.217])
 by postal.iol.unh.edu (Postfix) with ESMTP id AFFAB6052712;
 Wed, 28 Feb 2024 11:41:57 -0500 (EST)
Subject: |SUCCESS| pw137432-137434 [PATCH] [v6,4/4] test/cryptodev: add tests
From: dpdklab@iol.unh.edu
To: Test Report <test-report@dpdk.org>
Cc: dpdk-test-reports@iol.unh.edu
In-Reply-To: <20240228140036.1996629-5-nishikanta.nayak@intel.com>
References: <20240228140036.1996629-5-nishikanta.nayak@intel.com>
Content-Type: text/plain
X-BeenThere: test-report@dpdk.org
X-Mailman-Version: 2.1.29
Precedence: list
List-Id: automatic DPDK test reports <test-report.dpdk.org>
List-Unsubscribe: <https://mails.dpdk.org/options/test-report>,
 <mailto:test-report-request@dpdk.org?subject=unsubscribe>
List-Archive: <http://mails.dpdk.org/archives/test-report/>
List-Post: <mailto:test-report@dpdk.org>
List-Help: <mailto:test-report-request@dpdk.org?subject=help>
List-Subscribe: <https://mails.dpdk.org/listinfo/test-report>,
 <mailto:test-report-request@dpdk.org?subject=subscribe>
Errors-To: test-report-bounces@dpdk.org

Test-Label: iol-compile-arm64-testing
Test-Status: SUCCESS
http://dpdk.org/patch/137434

_Testing PASS_

Submitter: Nishikant Nayak <nishikanta.nayak@intel.com>
Date: Wednesday, February 28 2024 14:00:36 
DPDK git baseline: Repo:dpdk
  Branch: master
  CommitID:92c0ad70caf3ed6f4b93de6ddaf7bc369737c049

137432-137434 --> testing pass

Test environment and result as below:

+----------------------------------------+--------------------+
|              Environment               | dpdk_meson_compile |
+========================================+====================+
| Ubuntu 20.04 ARM SVE                   | PASS               |
+----------------------------------------+--------------------+
| Ubuntu 20.04 ARM GCC Cross Compile     | PASS               |
+----------------------------------------+--------------------+
| CentOS Stream 9 (ARM)                  | PASS               |
+----------------------------------------+--------------------+
| Fedora 38 (ARM)                        | PASS               |
+----------------------------------------+--------------------+
| Fedora 37 (ARM)                        | PASS               |
+----------------------------------------+--------------------+
| Ubuntu 20.04 (ARM)                     | PASS               |
+----------------------------------------+--------------------+
| Debian 12 (arm)                        | PASS               |
+----------------------------------------+--------------------+
| Debian 11 (Buster) (ARM)               | PASS               |
+----------------------------------------+--------------------+
| Ubuntu 20.04 aarch32 GCC Cross Compile | PASS               |
+----------------------------------------+--------------------+


Ubuntu 20.04 ARM SVE
	Kernel: 5.4.0-80-generic
	Compiler: gcc 10.3.0 (Ubuntu 10.3.0-1ubuntu1~20.04)

Ubuntu 20.04 ARM GCC Cross Compile
	Kernel: 5.4.0-72-generic
	Compiler: aarch64-linux-gnu-gcc (Ubuntu 9.3.0-17ubuntu1~20.04) 9.3.0

CentOS Stream 9 (ARM)
	Kernel: Container Host Kernel
	Compiler: gcc 11.3.1

Fedora 38 (ARM)
	Kernel: Depends on container host
	Compiler: gcc 13.1.1

Fedora 37 (ARM)
	Kernel: Depends on container host
	Compiler: gcc 12.3.1

Ubuntu 20.04 (ARM)
	Kernel: Container Host Kernel
	Compiler: gcc 9.4.0

Debian 12 (arm)
	Kernel: Container Host Kernel
	Compiler: gcc 11

Debian 11 (Buster) (ARM)
	Kernel: Container Host Kernel
	Compiler: gcc 10.2.1

Ubuntu 20.04 aarch32 GCC Cross Compile
	Kernel: 5.4.0-72-generic
	Compiler: gcc 9.3.0

To view detailed results, visit:
https://lab.dpdk.org/results/dashboard/patchsets/29317/

UNH-IOL DPDK Community Lab

To manage your email subscriptions, visit: 
https://lab.dpdk.org/results/dashboard/preferences/subscriptions/