From mboxrd@z Thu Jan  1 00:00:00 1970
Return-Path: <test-report-bounces@dpdk.org>
Received: from mails.dpdk.org (mails.dpdk.org [217.70.189.124])
	by inbox.dpdk.org (Postfix) with ESMTP id BDA5443C2C
	for <public@inbox.dpdk.org>; Wed, 28 Feb 2024 17:44:01 +0100 (CET)
Received: from mails.dpdk.org (localhost [127.0.0.1])
	by mails.dpdk.org (Postfix) with ESMTP id B9707410EA;
	Wed, 28 Feb 2024 17:44:01 +0100 (CET)
Received: from mail-yw1-f226.google.com (mail-yw1-f226.google.com
 [209.85.128.226])
 by mails.dpdk.org (Postfix) with ESMTP id BD2BD410E3
 for <test-report@dpdk.org>; Wed, 28 Feb 2024 17:43:53 +0100 (CET)
Received: by mail-yw1-f226.google.com with SMTP id
 00721157ae682-608959cfcbfso61399767b3.3
 for <test-report@dpdk.org>; Wed, 28 Feb 2024 08:43:53 -0800 (PST)
DKIM-Signature: v=1; a=rsa-sha256; c=relaxed/relaxed;
 d=iol.unh.edu; s=unh-iol; t=1709138633; x=1709743433; darn=dpdk.org;
 h=references:in-reply-to:cc:to:from:subject:message-id:date:from:to
 :cc:subject:date:message-id:reply-to;
 bh=VZ6DAjqkSIYfX+IorIrL+GRpLXTDkSm23t2t4tl4NUo=;
 b=iES0XfMcg3YDSILOwqpG2I0P3f7HtV4LAwE1STpdX5E4EVhTibt5VRnUJo5gamdcyw
 nvPXSPhNt3rmFYFmcQIuuoduAiFKp3ihuBTxcpd6bwWFJhmUk7r4QIwANF7RkuMBeYpW
 afyA3tcvEpRcpSyz3tC0th5Klu62/34nQDZdE=
X-Google-DKIM-Signature: v=1; a=rsa-sha256; c=relaxed/relaxed;
 d=1e100.net; s=20230601; t=1709138633; x=1709743433;
 h=references:in-reply-to:cc:to:from:subject:message-id:date
 :x-gm-message-state:from:to:cc:subject:date:message-id:reply-to;
 bh=VZ6DAjqkSIYfX+IorIrL+GRpLXTDkSm23t2t4tl4NUo=;
 b=QDVHf/ktq5eleUe5NlN+3mq7gP1syhveIFbu7ucGvdo0AH6eaz4xxF367jerX/me9E
 4LKTv4D6u33ndectbjFNwM7AZPK0zduTygTHf/+say7/EbdLNL3fTc5Syw34zAOlhlxO
 rmXdh2Otkvngb9ie8sgNp+OXCxFnqF6TuU4JLO2G0OnP7JSREok80eHLJtCLs4NoqAYy
 FfsGSaqyHp5lUJNP7cWZhlQldF4QZIrj9VxBzkS2JcWC0YVTGcmBVMjIMxv2z/SipgIX
 L7QOHxkBBWoMvkLxq40qDpZYt45WYLWRxX1ljVkblb40+8vkMn0yP42+J+EdFohCXkyV
 XwwQ==
X-Gm-Message-State: AOJu0YxAe2izTYv4SHD2HGwb8Qr1wzbMaa6rFRV9Mi9Ldu9JsHCWTRhW
 m9Iw0O93ljc1VWbxY19vQpB7nzS5cC28HWqp3k8DPsETnju2n2estKkbk8cNbi6gM5BSg1ShhrS
 raPucSIJUWr7iyvuRh8rHKlRzX9URTTzJDuiyBAI/
X-Google-Smtp-Source: AGHT+IGh22Olz+qll3hSAacsAEhax8Dl+Qr+HEQKuanrpJl+rICP5v8Q2FCXkD7irojdH1QBNiU2arOp5tH0
X-Received: by 2002:a81:5296:0:b0:609:4c74:5cc0 with SMTP id
 g144-20020a815296000000b006094c745cc0mr1601193ywb.18.1709138633160; 
 Wed, 28 Feb 2024 08:43:53 -0800 (PST)
Received: from postal.iol.unh.edu (postal.iol.unh.edu. [132.177.123.84])
 by smtp-relay.gmail.com with ESMTPS id
 e188-20020a8169c5000000b00607f09a04f4sm668813ywc.70.2024.02.28.08.43.53
 (version=TLS1_2 cipher=ECDHE-ECDSA-AES128-GCM-SHA256 bits=128/128);
 Wed, 28 Feb 2024 08:43:53 -0800 (PST)
X-Relaying-Domain: iol.unh.edu
Date: Wed, 28 Feb 2024 08:43:53 -0800 (PST)
Message-ID: <65df62c9.810a0220.41c52.51e1SMTPIN_ADDED_MISSING@mx.google.com>
Received: from [172.17.0.8] (unknown [172.18.0.217])
 by postal.iol.unh.edu (Postfix) with ESMTP id BF93C6052712;
 Wed, 28 Feb 2024 11:43:52 -0500 (EST)
Subject: |SUCCESS| pw137432-137434 [PATCH] [v6,4/4] test/cryptodev: add tests
From: dpdklab@iol.unh.edu
To: Test Report <test-report@dpdk.org>
Cc: dpdk-test-reports@iol.unh.edu
In-Reply-To: <20240228140036.1996629-5-nishikanta.nayak@intel.com>
References: <20240228140036.1996629-5-nishikanta.nayak@intel.com>
Content-Type: text/plain
X-BeenThere: test-report@dpdk.org
X-Mailman-Version: 2.1.29
Precedence: list
List-Id: automatic DPDK test reports <test-report.dpdk.org>
List-Unsubscribe: <https://mails.dpdk.org/options/test-report>,
 <mailto:test-report-request@dpdk.org?subject=unsubscribe>
List-Archive: <http://mails.dpdk.org/archives/test-report/>
List-Post: <mailto:test-report@dpdk.org>
List-Help: <mailto:test-report-request@dpdk.org?subject=help>
List-Subscribe: <https://mails.dpdk.org/listinfo/test-report>,
 <mailto:test-report-request@dpdk.org?subject=subscribe>
Errors-To: test-report-bounces@dpdk.org

Test-Label: iol-unit-amd64-testing
Test-Status: SUCCESS
http://dpdk.org/patch/137434

_Testing PASS_

Submitter: Nishikant Nayak <nishikanta.nayak@intel.com>
Date: Wednesday, February 28 2024 14:00:36 
DPDK git baseline: Repo:dpdk
  Branch: master
  CommitID:92c0ad70caf3ed6f4b93de6ddaf7bc369737c049

137432-137434 --> testing pass

Test environment and result as below:

+-----------------+----------------+
|   Environment   | dpdk_unit_test |
+=================+================+
| CentOS Stream 8 | PASS           |
+-----------------+----------------+
| CentOS Stream 9 | PASS           |
+-----------------+----------------+
| Debian Bullseye | PASS           |
+-----------------+----------------+
| Debian 12 (arm) | PASS           |
+-----------------+----------------+
| Fedora 37       | PASS           |
+-----------------+----------------+
| Fedora 38       | PASS           |
+-----------------+----------------+
| Ubuntu 22.04    | PASS           |
+-----------------+----------------+
| RHEL8           | PASS           |
+-----------------+----------------+


CentOS Stream 8
	Kernel: 4.18.0-240.10.1.el8_3.x86_64
	Compiler: gcc 8.4.1 20200928

CentOS Stream 9
	Kernel: 4.18.0-240.10.1.el8_3.x86_64
	Compiler: gcc 11.3.1 20220421

Debian Bullseye
	Kernel: 5.4.0-122-generic
	Compiler: gcc 10.2.1-6

Debian 12 (arm)
	Kernel: Container Host Kernel
	Compiler: gcc 11

Fedora 37
	Kernel: Depends on container host system
	Compiler: gcc 12.3.1

Fedora 38
	Kernel: Depends on container host
	Compiler: gcc 13.1.1

Ubuntu 22.04
	Kernel: 4.18.0-240.10.1.el8_3.x86_64
	Compiler: gcc 11.3.0

RHEL8
	Kernel: 4.18.0-240.10.1.el8_3.x86_64
	Compiler: gcc 8.3.1 20191121 (Red Hat 8.3.1-5)

To view detailed results, visit:
https://lab.dpdk.org/results/dashboard/patchsets/29317/

UNH-IOL DPDK Community Lab

To manage your email subscriptions, visit: 
https://lab.dpdk.org/results/dashboard/preferences/subscriptions/