From mboxrd@z Thu Jan  1 00:00:00 1970
Return-Path: <test-report-bounces@dpdk.org>
Received: from mails.dpdk.org (mails.dpdk.org [217.70.189.124])
	by inbox.dpdk.org (Postfix) with ESMTP id D251343C2C
	for <public@inbox.dpdk.org>; Wed, 28 Feb 2024 17:44:13 +0100 (CET)
Received: from mails.dpdk.org (localhost [127.0.0.1])
	by mails.dpdk.org (Postfix) with ESMTP id CDAAB410EA;
	Wed, 28 Feb 2024 17:44:13 +0100 (CET)
Received: from mail-pl1-f227.google.com (mail-pl1-f227.google.com
 [209.85.214.227])
 by mails.dpdk.org (Postfix) with ESMTP id B61EF410E3
 for <test-report@dpdk.org>; Wed, 28 Feb 2024 17:44:04 +0100 (CET)
Received: by mail-pl1-f227.google.com with SMTP id
 d9443c01a7336-1dc75972f25so48896345ad.1
 for <test-report@dpdk.org>; Wed, 28 Feb 2024 08:44:04 -0800 (PST)
DKIM-Signature: v=1; a=rsa-sha256; c=relaxed/relaxed;
 d=iol.unh.edu; s=unh-iol; t=1709138644; x=1709743444; darn=dpdk.org;
 h=references:in-reply-to:cc:to:from:subject:message-id:date:from:to
 :cc:subject:date:message-id:reply-to;
 bh=dusL+dZGFZfE9nO/MVQVqd+CAXdAWW0dgyQZOrgErXk=;
 b=d7ReuoF1L8Jq80+Kbsz7TaNnG37TZ+b41idfVEFagJ2iwClvcj4mQ6ovTs2Awt0XMu
 NNyaG5gR+g7sJfEvUfTHATlmdssEnBMDrrTcHg6nnTDeilr35faxsjb689BAdiYwYwKY
 tHALZvN4q3aF9+mfQ2bSxfQvNWgkI7l8VWkCE=
X-Google-DKIM-Signature: v=1; a=rsa-sha256; c=relaxed/relaxed;
 d=1e100.net; s=20230601; t=1709138644; x=1709743444;
 h=references:in-reply-to:cc:to:from:subject:message-id:date
 :x-gm-message-state:from:to:cc:subject:date:message-id:reply-to;
 bh=dusL+dZGFZfE9nO/MVQVqd+CAXdAWW0dgyQZOrgErXk=;
 b=R9OQ13LLA03R3tHC/G8aB8bzjlHJcjFrtRv0AzmW8D8CzuR6qmFzpSC4n+LrS/nVqG
 Xo7b7ygpsisso+NQfEJoom04HcrH7Xft3BpppmFIvKXO3el6lFxCqB6eT6QWES0x9Ex+
 rd6S83AuHXaIN5mM1jsHaKKyADQh2Cg2TZUNGIICiMZZnYntoFBjL6pgz43/UAw+3eqj
 AITLNdQ0/ste1q+GXYeFdHgWvHuvLzdNIttK684wWHQt2HbcVjbJ/vDYjSPavqOC6yve
 7dYGbBe4hFTflTyvsDt9l52CNRuAaPENXH2HV9f1GwJbyDENwf9EXuJ1Nr4E85i6XO+V
 B3sg==
X-Gm-Message-State: AOJu0Yx0djsJxiThKHGOp00b/gq/lUqAA1F9VUUsxF7ez4ko4UKkkYNf
 DzJgDUVRzEpUnl5LLU5Sa+qkXpksWN2WD4w1xG27npWC8oyfUNYN+k7j8FTOKk3KyMUSZ/QNOBU
 ew09Iq+sVG73DP8ZCNAGHlFLyDoVvxHYykawCiOYdAqzCpbmKhdOI3/94
X-Google-Smtp-Source: AGHT+IHS56NfTxOgyomoVWBXik0g/qI8C7E3nS8/Wq139mqjVdcldDFTZdU8NRH5uy5kdD5lvKIixgV3RQ/t
X-Received: by 2002:a17:902:7686:b0:1dc:7fb4:20cb with SMTP id
 m6-20020a170902768600b001dc7fb420cbmr10442429pll.62.1709138643815; 
 Wed, 28 Feb 2024 08:44:03 -0800 (PST)
Received: from postal.iol.unh.edu (postal.iol.unh.edu.
 [2606:4100:3880:1234::84]) by smtp-relay.gmail.com with ESMTPS id
 kj11-20020a17090306cb00b001dbdfc34a12sm132239plb.42.2024.02.28.08.44.03
 (version=TLS1_2 cipher=ECDHE-ECDSA-AES128-GCM-SHA256 bits=128/128);
 Wed, 28 Feb 2024 08:44:03 -0800 (PST)
X-Relaying-Domain: iol.unh.edu
Date: Wed, 28 Feb 2024 08:44:03 -0800 (PST)
Message-ID: <65df62d3.170a0220.4f898.8d2cSMTPIN_ADDED_MISSING@mx.google.com>
Received: from [172.17.0.8] (unknown [172.18.0.217])
 by postal.iol.unh.edu (Postfix) with ESMTP id 438AC6052712;
 Wed, 28 Feb 2024 11:44:03 -0500 (EST)
Subject: |SUCCESS| pw137432-137434 [PATCH] [v6,4/4] test/cryptodev: add tests
From: dpdklab@iol.unh.edu
To: Test Report <test-report@dpdk.org>
Cc: dpdk-test-reports@iol.unh.edu
In-Reply-To: <20240228140036.1996629-5-nishikanta.nayak@intel.com>
References: <20240228140036.1996629-5-nishikanta.nayak@intel.com>
Content-Type: text/plain
X-BeenThere: test-report@dpdk.org
X-Mailman-Version: 2.1.29
Precedence: list
List-Id: automatic DPDK test reports <test-report.dpdk.org>
List-Unsubscribe: <https://mails.dpdk.org/options/test-report>,
 <mailto:test-report-request@dpdk.org?subject=unsubscribe>
List-Archive: <http://mails.dpdk.org/archives/test-report/>
List-Post: <mailto:test-report@dpdk.org>
List-Help: <mailto:test-report-request@dpdk.org?subject=help>
List-Subscribe: <https://mails.dpdk.org/listinfo/test-report>,
 <mailto:test-report-request@dpdk.org?subject=subscribe>
Errors-To: test-report-bounces@dpdk.org

Test-Label: iol-abi-testing
Test-Status: SUCCESS
http://dpdk.org/patch/137434

_Testing PASS_

Submitter: Nishikant Nayak <nishikanta.nayak@intel.com>
Date: Wednesday, February 28 2024 14:00:36 
DPDK git baseline: Repo:dpdk
  Branch: master
  CommitID:92c0ad70caf3ed6f4b93de6ddaf7bc369737c049

137432-137434 --> testing pass

Test environment and result as below:

+------------------+----------+
|   Environment    | abi_test |
+==================+==========+
| Debian 12 (arm)  | PASS     |
+------------------+----------+
| Debian Bullseye  | PASS     |
+------------------+----------+
| CentOS Stream 8  | PASS     |
+------------------+----------+
| Fedora 38        | PASS     |
+------------------+----------+
| openSUSE Leap 15 | PASS     |
+------------------+----------+
| CentOS Stream 9  | PASS     |
+------------------+----------+
| RHEL8            | PASS     |
+------------------+----------+
| Ubuntu 22.04     | PASS     |
+------------------+----------+


Debian 12 (arm)
	Kernel: Container Host Kernel
	Compiler: gcc 11

Debian Bullseye
	Kernel: 5.4.0-122-generic
	Compiler: gcc 10.2.1-6

CentOS Stream 8
	Kernel: 4.18.0-240.10.1.el8_3.x86_64
	Compiler: gcc 8.4.1 20200928

Fedora 38
	Kernel: Depends on container host
	Compiler: clang 16.0.3

openSUSE Leap 15
	Kernel: 4.18.0-240.10.1.el8_3.x86_64
	Compiler: gcc 7.5.0

CentOS Stream 9
	Kernel: 4.18.0-240.10.1.el8_3.x86_64
	Compiler: gcc 11.3.1 20220421

RHEL8
	Kernel: 4.18.0-240.10.1.el8_3.x86_64
	Compiler: gcc 8.3.1 20191121 (Red Hat 8.3.1-5)

Ubuntu 22.04
	Kernel: 4.18.0-240.10.1.el8_3.x86_64
	Compiler: gcc 11.3.0

To view detailed results, visit:
https://lab.dpdk.org/results/dashboard/patchsets/29317/

UNH-IOL DPDK Community Lab

To manage your email subscriptions, visit: 
https://lab.dpdk.org/results/dashboard/preferences/subscriptions/