From mboxrd@z Thu Jan  1 00:00:00 1970
Return-Path: <test-report-bounces@dpdk.org>
Received: from mails.dpdk.org (mails.dpdk.org [217.70.189.124])
	by inbox.dpdk.org (Postfix) with ESMTP id B055843C26
	for <public@inbox.dpdk.org>; Wed, 28 Feb 2024 18:49:58 +0100 (CET)
Received: from mails.dpdk.org (localhost [127.0.0.1])
	by mails.dpdk.org (Postfix) with ESMTP id AC640402E3;
	Wed, 28 Feb 2024 18:49:58 +0100 (CET)
Received: from mail-oo1-f100.google.com (mail-oo1-f100.google.com
 [209.85.161.100])
 by mails.dpdk.org (Postfix) with ESMTP id 966114003C
 for <test-report@dpdk.org>; Wed, 28 Feb 2024 18:49:56 +0100 (CET)
Received: by mail-oo1-f100.google.com with SMTP id
 006d021491bc7-5a04fb5e689so1379eaf.1
 for <test-report@dpdk.org>; Wed, 28 Feb 2024 09:49:56 -0800 (PST)
DKIM-Signature: v=1; a=rsa-sha256; c=relaxed/relaxed;
 d=iol.unh.edu; s=unh-iol; t=1709142596; x=1709747396; darn=dpdk.org;
 h=references:in-reply-to:cc:to:from:subject:message-id:date:from:to
 :cc:subject:date:message-id:reply-to;
 bh=wlBVxo3e0hcrNUnCl/Ag+s0fAdKgN1r/XKYq5pi2XGA=;
 b=TCpTAgH8MxEOX/iz3Q0/YjcZzSjsyPdf6j4Jhd7VKbWKUcECwV2tIyO263OU3rs1rT
 hVMTZJFBVuhw8+wm/O/UTWOyfzMsraEhzK/TOwenxAzCLyUrPsWnQOZ8Q1VmNrjMDrv+
 r2PeHA4kGmIt0uFOTRncnsPQR4731tUsOyHDA=
X-Google-DKIM-Signature: v=1; a=rsa-sha256; c=relaxed/relaxed;
 d=1e100.net; s=20230601; t=1709142596; x=1709747396;
 h=references:in-reply-to:cc:to:from:subject:message-id:date
 :x-gm-message-state:from:to:cc:subject:date:message-id:reply-to;
 bh=wlBVxo3e0hcrNUnCl/Ag+s0fAdKgN1r/XKYq5pi2XGA=;
 b=jsc9On9oxBiBaYQvTTOYugWpgxYcD7r47S0u9qFGRff6eQsGzI4nl39PMZKj/6klyH
 XMaCUieH1hna6eBGriVKbiN7rvxm1DLIdv98/tfs4hj7Xbj7DX7iEiX/POCJ7cUevfd3
 reUCTNZ0rBKrX2tasy5s8RdUvREB3soylnqQhXzGHsTKqOwzJ2yydQTscHQqHackC48+
 j2mOOfdRQ4WTENayA3p2XJlSAIvMQudTp2medpPShZxkVcda3LztpysqpiLMb+XvKKM4
 UXFFvrdl6IgfZNp9PGxbwO985gL2dQACSCJdgLhHPlckTsJYCl2efP13fN+kEacN7RIQ
 juDQ==
X-Gm-Message-State: AOJu0YwmPCk/+b4DAv9LcxKDRROXmI4FazaPHz8CTmYBfTRogM5ZHkVO
 vTq2f8zv8B0QbpDb+QgJ8DG+PxQ3+XAqr76vpH74kBZRCZkdWVwdb6Y/B4C41ZiRambhjTzgYJy
 amJ2TjT8lvLtFmESpJVWAOrBBDEilLA3kqmb4NjdQ
X-Google-Smtp-Source: AGHT+IH6mynWs15owdj3wbHZbzxdxLBG6CtV21CB5GvYwMHKXDwyKIRj6u7U16qCHjt6CgvrqyB9GvBi/16/
X-Received: by 2002:a4a:dfd5:0:b0:5a0:9915:222f with SMTP id
 p21-20020a4adfd5000000b005a09915222fmr339003ood.4.1709142595886; 
 Wed, 28 Feb 2024 09:49:55 -0800 (PST)
Received: from postal.iol.unh.edu (postal.iol.unh.edu. [132.177.123.84])
 by smtp-relay.gmail.com with ESMTPS id
 63-20020a4a0342000000b005a04453f387sm593ooi.14.2024.02.28.09.49.55
 (version=TLS1_2 cipher=ECDHE-ECDSA-AES128-GCM-SHA256 bits=128/128);
 Wed, 28 Feb 2024 09:49:55 -0800 (PST)
X-Relaying-Domain: iol.unh.edu
Date: Wed, 28 Feb 2024 09:49:55 -0800 (PST)
Message-ID: <65df7243.4a0a0220.41d3c.00adSMTPIN_ADDED_MISSING@mx.google.com>
Received: from [172.21.0.6] (unknown [172.18.0.240])
 by postal.iol.unh.edu (Postfix) with ESMTP id 66A8160527CD;
 Wed, 28 Feb 2024 12:49:55 -0500 (EST)
Subject: |SUCCESS| pw137441-137448 [PATCH] [11/11] net/mlx5: remove unneeded 
From: dpdklab@iol.unh.edu
To: Test Report <test-report@dpdk.org>
Cc: dpdk-test-reports@iol.unh.edu
In-Reply-To: <20240228170046.176600-12-dsosnowski@nvidia.com>
References: <20240228170046.176600-12-dsosnowski@nvidia.com>
Content-Type: text/plain
X-BeenThere: test-report@dpdk.org
X-Mailman-Version: 2.1.29
Precedence: list
List-Id: automatic DPDK test reports <test-report.dpdk.org>
List-Unsubscribe: <https://mails.dpdk.org/options/test-report>,
 <mailto:test-report-request@dpdk.org?subject=unsubscribe>
List-Archive: <http://mails.dpdk.org/archives/test-report/>
List-Post: <mailto:test-report@dpdk.org>
List-Help: <mailto:test-report-request@dpdk.org?subject=help>
List-Subscribe: <https://mails.dpdk.org/listinfo/test-report>,
 <mailto:test-report-request@dpdk.org?subject=subscribe>
Errors-To: test-report-bounces@dpdk.org

Test-Label: iol-compile-arm64-testing
Test-Status: SUCCESS
http://dpdk.org/patch/137448

_Testing PASS_

Submitter: Dariusz Sosnowski <dsosnowski@nvidia.com>
Date: Wednesday, February 28 2024 17:00:46 
DPDK git baseline: Repo:dpdk
  Branch: master
  CommitID:513a698fe1ddcb725d0ed6bca2cbc4b6fc7c8345

137441-137448 --> testing pass

Test environment and result as below:

+--------------------------+--------------------+
|       Environment        | dpdk_meson_compile |
+==========================+====================+
| Ubuntu 20.04 ARM SVE     | PASS               |
+--------------------------+--------------------+
| Fedora 38 (ARM)          | PASS               |
+--------------------------+--------------------+
| Debian 11 (Buster) (ARM) | PASS               |
+--------------------------+--------------------+
| Debian 12 (arm)          | PASS               |
+--------------------------+--------------------+


Ubuntu 20.04 ARM SVE
	Kernel: 5.4.0-80-generic
	Compiler: gcc 10.3.0 (Ubuntu 10.3.0-1ubuntu1~20.04)

Fedora 38 (ARM)
	Kernel: Depends on container host
	Compiler: gcc 13.1.1

Debian 11 (Buster) (ARM)
	Kernel: Container Host Kernel
	Compiler: gcc 10.2.1

Debian 12 (arm)
	Kernel: Container Host Kernel
	Compiler: gcc 11

To view detailed results, visit:
https://lab.dpdk.org/results/dashboard/patchsets/29319/

UNH-IOL DPDK Community Lab

To manage your email subscriptions, visit: 
https://lab.dpdk.org/results/dashboard/preferences/subscriptions/