From mboxrd@z Thu Jan  1 00:00:00 1970
Return-Path: <test-report-bounces@dpdk.org>
Received: from mails.dpdk.org (mails.dpdk.org [217.70.189.124])
	by inbox.dpdk.org (Postfix) with ESMTP id 4143443C26
	for <public@inbox.dpdk.org>; Wed, 28 Feb 2024 18:52:01 +0100 (CET)
Received: from mails.dpdk.org (localhost [127.0.0.1])
	by mails.dpdk.org (Postfix) with ESMTP id 3D3EA402E3;
	Wed, 28 Feb 2024 18:52:01 +0100 (CET)
Received: from mail-vk1-f228.google.com (mail-vk1-f228.google.com
 [209.85.221.228])
 by mails.dpdk.org (Postfix) with ESMTP id 25BDA4003C
 for <test-report@dpdk.org>; Wed, 28 Feb 2024 18:52:00 +0100 (CET)
Received: by mail-vk1-f228.google.com with SMTP id
 71dfb90a1353d-4d331ba6078so475156e0c.3
 for <test-report@dpdk.org>; Wed, 28 Feb 2024 09:52:00 -0800 (PST)
DKIM-Signature: v=1; a=rsa-sha256; c=relaxed/relaxed;
 d=iol.unh.edu; s=unh-iol; t=1709142719; x=1709747519; darn=dpdk.org;
 h=references:in-reply-to:cc:to:from:subject:message-id:date:from:to
 :cc:subject:date:message-id:reply-to;
 bh=nkHNE9rVG45SbBAPoTTODtBS/7kXjzwlkx8ktGjVxSE=;
 b=UYZWn7SqiFx/xtTmfPVfqy8fEG3lyP8dUBKxrr1mm9ldxEAVYUW94GG03kuAf0MrF7
 YcKyfDEv9VafYn2twSGNJooex/y2Lv1Mcdoo3BTF7rXTtZ3dv4IGeKs4z2fFvBNRINfm
 aksC+tOesCLm1SQ4pNFrMed7MTb9zLJUO0r14=
X-Google-DKIM-Signature: v=1; a=rsa-sha256; c=relaxed/relaxed;
 d=1e100.net; s=20230601; t=1709142719; x=1709747519;
 h=references:in-reply-to:cc:to:from:subject:message-id:date
 :x-gm-message-state:from:to:cc:subject:date:message-id:reply-to;
 bh=nkHNE9rVG45SbBAPoTTODtBS/7kXjzwlkx8ktGjVxSE=;
 b=lxh7jihDRA6J/0wNqXTOsXz+9mMI7chEvgp6azQWnr3kxenWT1H6zcq0oongQpbWGP
 38Fu+nsmlyN7FW83yFi2ZTJx9TIRqwKmkaOLjfx8bxuaPGHRgMc8KiwUb2uK0pJPGqyh
 OkJpgVxBVvCT43HvzCM1wA0akUe09zbNdqBzZax3XmspHHvSWHYVnMllSAtSSE2enMwv
 5MKaj08qfYkvEL7fPql0mmTuqHkNxRSXMZmIsg6es7THUpj7QDW8MBQM8kH/Xs7e+SG0
 wZgjPNdR/WBObiYIPjECz1UwXkDrjlFmjwC+WRb+O9+dWHxt0j92P7Kizs2UMWxs3X2Q
 Fujw==
X-Gm-Message-State: AOJu0YzPjdyrQsQouI4HEVaU4WwpEIyduL20qwB4kV86LkVxIE3cAUbj
 27LVUZql7xyR6OgLvyBqEvCR6Vqi/gIiSCrhzlRiXwu1Mnwz4VPX1RFFl6PKNdnlqf2UticzHKL
 4zOgSn57FbduY3GVO8jY3Opsmy9UWlV2tV+e4TgBx
X-Google-Smtp-Source: AGHT+IE2JaJH77ESFGNvqn5oDTNcsaGJhurEvQKmOYJEf+XGjZv6h17U24JuDZM16h0lT1jTVB7bufmiczz1
X-Received: by 2002:a05:6122:3196:b0:4d3:4aad:37f6 with SMTP id
 ch22-20020a056122319600b004d34aad37f6mr228405vkb.0.1709142719651; 
 Wed, 28 Feb 2024 09:51:59 -0800 (PST)
Received: from postal.iol.unh.edu (postal.iol.unh.edu. [132.177.123.84])
 by smtp-relay.gmail.com with ESMTPS id
 31-20020a056122169f00b004c038d0a671sm493506vkl.9.2024.02.28.09.51.59
 (version=TLS1_2 cipher=ECDHE-ECDSA-AES128-GCM-SHA256 bits=128/128);
 Wed, 28 Feb 2024 09:51:59 -0800 (PST)
X-Relaying-Domain: iol.unh.edu
Date: Wed, 28 Feb 2024 09:51:59 -0800 (PST)
Message-ID: <65df72bf.050a0220.2fca5.f07eSMTPIN_ADDED_MISSING@mx.google.com>
Received: from [172.21.0.7] (unknown [172.18.0.240])
 by postal.iol.unh.edu (Postfix) with ESMTP id 586B660527CD;
 Wed, 28 Feb 2024 12:51:59 -0500 (EST)
Subject: |SUCCESS| pw137441-137448 [PATCH] [11/11] net/mlx5: remove unneeded 
From: dpdklab@iol.unh.edu
To: Test Report <test-report@dpdk.org>
Cc: dpdk-test-reports@iol.unh.edu
In-Reply-To: <20240228170046.176600-12-dsosnowski@nvidia.com>
References: <20240228170046.176600-12-dsosnowski@nvidia.com>
Content-Type: text/plain
X-BeenThere: test-report@dpdk.org
X-Mailman-Version: 2.1.29
Precedence: list
List-Id: automatic DPDK test reports <test-report.dpdk.org>
List-Unsubscribe: <https://mails.dpdk.org/options/test-report>,
 <mailto:test-report-request@dpdk.org?subject=unsubscribe>
List-Archive: <http://mails.dpdk.org/archives/test-report/>
List-Post: <mailto:test-report@dpdk.org>
List-Help: <mailto:test-report-request@dpdk.org?subject=help>
List-Subscribe: <https://mails.dpdk.org/listinfo/test-report>,
 <mailto:test-report-request@dpdk.org?subject=subscribe>
Errors-To: test-report-bounces@dpdk.org

Test-Label: iol-abi-testing
Test-Status: SUCCESS
http://dpdk.org/patch/137448

_Testing PASS_

Submitter: Dariusz Sosnowski <dsosnowski@nvidia.com>
Date: Wednesday, February 28 2024 17:00:46 
DPDK git baseline: Repo:dpdk
  Branch: master
  CommitID:513a698fe1ddcb725d0ed6bca2cbc4b6fc7c8345

137441-137448 --> testing pass

Test environment and result as below:

+-----------------+----------+
|   Environment   | abi_test |
+=================+==========+
| RHEL8           | PASS     |
+-----------------+----------+
| Fedora 37       | PASS     |
+-----------------+----------+
| CentOS Stream 9 | PASS     |
+-----------------+----------+


RHEL8
	Kernel: 4.18.0-240.10.1.el8_3.x86_64
	Compiler: gcc 8.3.1 20191121 (Red Hat 8.3.1-5)

Fedora 37
	Kernel: Depends on container host system
	Compiler: gcc 12.3.1

CentOS Stream 9
	Kernel: 4.18.0-240.10.1.el8_3.x86_64
	Compiler: gcc 11.3.1 20220421

To view detailed results, visit:
https://lab.dpdk.org/results/dashboard/patchsets/29319/

UNH-IOL DPDK Community Lab

To manage your email subscriptions, visit: 
https://lab.dpdk.org/results/dashboard/preferences/subscriptions/