From mboxrd@z Thu Jan  1 00:00:00 1970
Return-Path: <test-report-bounces@dpdk.org>
Received: from mails.dpdk.org (mails.dpdk.org [217.70.189.124])
	by inbox.dpdk.org (Postfix) with ESMTP id A926543B6F
	for <public@inbox.dpdk.org>; Wed, 28 Feb 2024 19:01:41 +0100 (CET)
Received: from mails.dpdk.org (localhost [127.0.0.1])
	by mails.dpdk.org (Postfix) with ESMTP id A424340EE4;
	Wed, 28 Feb 2024 19:01:41 +0100 (CET)
Received: from mail-yw1-f225.google.com (mail-yw1-f225.google.com
 [209.85.128.225])
 by mails.dpdk.org (Postfix) with ESMTP id 1FC494003C
 for <test-report@dpdk.org>; Wed, 28 Feb 2024 19:01:36 +0100 (CET)
Received: by mail-yw1-f225.google.com with SMTP id
 00721157ae682-609241c2696so522627b3.0
 for <test-report@dpdk.org>; Wed, 28 Feb 2024 10:01:36 -0800 (PST)
DKIM-Signature: v=1; a=rsa-sha256; c=relaxed/relaxed;
 d=iol.unh.edu; s=unh-iol; t=1709143295; x=1709748095; darn=dpdk.org;
 h=references:in-reply-to:cc:to:from:subject:message-id:date:from:to
 :cc:subject:date:message-id:reply-to;
 bh=qJQbOrkomu0I0LnMuu8qGOVmvOXIj0jPTIeT9rzfuiU=;
 b=caUn2zOq9POWljJ2lUY/VcX5ObjEgFO+fT9ruWt1UMmmngQWr66Q3ep0n7nu8DG9SI
 ZEYaywYjKhPXszCCUxE7geDDd8MvlCAOnZoXFKs32hpcuP7dgVufg3RI5QZ4jAhBd3Sf
 KKCv1HC37MZK2zP68LAxTaZXe0E9wqcFc8d/E=
X-Google-DKIM-Signature: v=1; a=rsa-sha256; c=relaxed/relaxed;
 d=1e100.net; s=20230601; t=1709143295; x=1709748095;
 h=references:in-reply-to:cc:to:from:subject:message-id:date
 :x-gm-message-state:from:to:cc:subject:date:message-id:reply-to;
 bh=qJQbOrkomu0I0LnMuu8qGOVmvOXIj0jPTIeT9rzfuiU=;
 b=oSolGdh9j69aSMReiSjxLrU/u2MC5X+0XjMWs69kn5IoyyOUc7J49weAoi6EgoSI5+
 Mw51VZh6vlS+64Ok+5f9EvinbwVEmuXJF9+ETw83vSXCq71D7lVN0tvkDA+fiWexfWBZ
 /ABBmughDxKVkZZ7rXqMwGON+QPDkQ4KeFR7N44aeCfRHQmlG+h+3laM8Zi7+hQm9+ub
 FPyeKMtxz6AtTjJ0bif/QDeyjBxQi8kzKE0BEvGPrkcIC5J8oqbWjowMTyz5oTn5lsRS
 4cTe7xfxlxL3tPAKQ+IHRsY7/kRfgUOvuLtfC5+ZM7wuw7nJjYLXod5eJ8HRsYFTirhB
 Xakw==
X-Gm-Message-State: AOJu0Yw1tyVLi18I2/4L3rvca2JL/yGqQc9PSSdIIm4WMOUQMOagVt56
 lKuIUG/LngzTseeNTgfJFXK85NWrHjaJmAI9Laodc3m0YHBGEkndL3FFcyqe/5FU0oakVs8TOmf
 SUIAyIRB4eg5DeI2LBaMwqLBn98oThPcfHCXXoj5P
X-Google-Smtp-Source: AGHT+IFiNG+xim6W+tVU0dRoKFwy7x57kCvnScOvrneHlA24MnHv/ku5+B1vw9wqvX8lFxJeI/K4B2qOWNTA
X-Received: by 2002:a81:a988:0:b0:608:8f22:d6ad with SMTP id
 g130-20020a81a988000000b006088f22d6admr5434703ywh.47.1709143295373; 
 Wed, 28 Feb 2024 10:01:35 -0800 (PST)
Received: from postal.iol.unh.edu (postal.iol.unh.edu. [132.177.123.84])
 by smtp-relay.gmail.com with ESMTPS id
 a20-20020a81bb54000000b0060831eb110asm353392ywl.41.2024.02.28.10.01.35
 (version=TLS1_2 cipher=ECDHE-ECDSA-AES128-GCM-SHA256 bits=128/128);
 Wed, 28 Feb 2024 10:01:35 -0800 (PST)
X-Relaying-Domain: iol.unh.edu
Date: Wed, 28 Feb 2024 10:01:35 -0800 (PST)
Message-ID: <65df74ff.810a0220.52e3b.7dbbSMTPIN_ADDED_MISSING@mx.google.com>
Received: from [172.17.0.9] (unknown [172.18.0.217])
 by postal.iol.unh.edu (Postfix) with ESMTP id 1B28D60527CD;
 Wed, 28 Feb 2024 13:01:35 -0500 (EST)
Subject: |SUCCESS| pw137441-137448 [PATCH] [11/11] net/mlx5: remove unneeded 
From: dpdklab@iol.unh.edu
To: Test Report <test-report@dpdk.org>
Cc: dpdk-test-reports@iol.unh.edu
In-Reply-To: <20240228170046.176600-12-dsosnowski@nvidia.com>
References: <20240228170046.176600-12-dsosnowski@nvidia.com>
Content-Type: text/plain
X-BeenThere: test-report@dpdk.org
X-Mailman-Version: 2.1.29
Precedence: list
List-Id: automatic DPDK test reports <test-report.dpdk.org>
List-Unsubscribe: <https://mails.dpdk.org/options/test-report>,
 <mailto:test-report-request@dpdk.org?subject=unsubscribe>
List-Archive: <http://mails.dpdk.org/archives/test-report/>
List-Post: <mailto:test-report@dpdk.org>
List-Help: <mailto:test-report-request@dpdk.org?subject=help>
List-Subscribe: <https://mails.dpdk.org/listinfo/test-report>,
 <mailto:test-report-request@dpdk.org?subject=subscribe>
Errors-To: test-report-bounces@dpdk.org

Test-Label: iol-abi-testing
Test-Status: SUCCESS
http://dpdk.org/patch/137448

_Testing PASS_

Submitter: Dariusz Sosnowski <dsosnowski@nvidia.com>
Date: Wednesday, February 28 2024 17:00:46 
DPDK git baseline: Repo:dpdk
  Branch: master
  CommitID:513a698fe1ddcb725d0ed6bca2cbc4b6fc7c8345

137441-137448 --> testing pass

Test environment and result as below:

+------------------+----------+
|   Environment    | abi_test |
+==================+==========+
| RHEL8            | PASS     |
+------------------+----------+
| Fedora 37        | PASS     |
+------------------+----------+
| CentOS Stream 9  | PASS     |
+------------------+----------+
| openSUSE Leap 15 | PASS     |
+------------------+----------+
| Fedora 38        | PASS     |
+------------------+----------+
| Ubuntu 22.04     | PASS     |
+------------------+----------+
| Debian Bullseye  | PASS     |
+------------------+----------+
| CentOS Stream 8  | PASS     |
+------------------+----------+


RHEL8
	Kernel: 4.18.0-240.10.1.el8_3.x86_64
	Compiler: gcc 8.3.1 20191121 (Red Hat 8.3.1-5)

Fedora 37
	Kernel: Depends on container host system
	Compiler: gcc 12.3.1

CentOS Stream 9
	Kernel: 4.18.0-240.10.1.el8_3.x86_64
	Compiler: gcc 11.3.1 20220421

openSUSE Leap 15
	Kernel: 4.18.0-240.10.1.el8_3.x86_64
	Compiler: gcc 7.5.0

Fedora 38
	Kernel: Depends on container host
	Compiler: clang 16.0.3

Ubuntu 22.04
	Kernel: 4.18.0-240.10.1.el8_3.x86_64
	Compiler: gcc 11.3.0

Debian Bullseye
	Kernel: 5.4.0-122-generic
	Compiler: gcc 10.2.1-6

CentOS Stream 8
	Kernel: 4.18.0-240.10.1.el8_3.x86_64
	Compiler: gcc 8.4.1 20200928

To view detailed results, visit:
https://lab.dpdk.org/results/dashboard/patchsets/29319/

UNH-IOL DPDK Community Lab

To manage your email subscriptions, visit: 
https://lab.dpdk.org/results/dashboard/preferences/subscriptions/