From mboxrd@z Thu Jan  1 00:00:00 1970
Return-Path: <test-report-bounces@dpdk.org>
Received: from mails.dpdk.org (mails.dpdk.org [217.70.189.124])
	by inbox.dpdk.org (Postfix) with ESMTP id 13C4E43BBE
	for <public@inbox.dpdk.org>; Wed, 28 Feb 2024 19:08:42 +0100 (CET)
Received: from mails.dpdk.org (localhost [127.0.0.1])
	by mails.dpdk.org (Postfix) with ESMTP id 0F8F740EE4;
	Wed, 28 Feb 2024 19:08:42 +0100 (CET)
Received: from mail-oa1-f99.google.com (mail-oa1-f99.google.com
 [209.85.160.99]) by mails.dpdk.org (Postfix) with ESMTP id 358F64003C
 for <test-report@dpdk.org>; Wed, 28 Feb 2024 19:08:36 +0100 (CET)
Received: by mail-oa1-f99.google.com with SMTP id
 586e51a60fabf-21edca2a89dso3141681fac.3
 for <test-report@dpdk.org>; Wed, 28 Feb 2024 10:08:36 -0800 (PST)
DKIM-Signature: v=1; a=rsa-sha256; c=relaxed/relaxed;
 d=iol.unh.edu; s=unh-iol; t=1709143715; x=1709748515; darn=dpdk.org;
 h=references:in-reply-to:cc:to:from:subject:message-id:date:from:to
 :cc:subject:date:message-id:reply-to;
 bh=6VKmoNORUj19HwjySRHPRR4LCJuB64mat8vaIGtNiGM=;
 b=Qtia45INBXogudFGhVhFsrFRZjaGJ85mRqUvTzLbOldoduPVdFrZYwT6uB3N5QZFt4
 PwvmiFpFm6t/vJreSMQdKm+WJsi9Owaweme9M5LC6ntRKG3kt6HhuwHuQFV+pzq4cmAd
 pQ6+gIp1Rg7/IspMv+K0et168jaZg4eN6zlrA=
X-Google-DKIM-Signature: v=1; a=rsa-sha256; c=relaxed/relaxed;
 d=1e100.net; s=20230601; t=1709143715; x=1709748515;
 h=references:in-reply-to:cc:to:from:subject:message-id:date
 :x-gm-message-state:from:to:cc:subject:date:message-id:reply-to;
 bh=6VKmoNORUj19HwjySRHPRR4LCJuB64mat8vaIGtNiGM=;
 b=wyobDfQc4YjZcJHUBNeiq1+rCfjblIghx3PQu5R7fSlZ44ycYB80t9xBb6Tuzj86Za
 qdGm7HagOSJSxl3RBqHZ3NqA9FKkm6d/AFg0/cm9Umn7alkEqJrCYL7iJwx+2XMMzl5n
 LJdyPgxNfpmWZfkyH/Lx38JDEc5lbiP8o79Qyd4blOcz79c94Bc2x/m3HC6tyQS43JZM
 HQjdlHZezAMeIrkO5IVwpfvjIEcBpH5ALHeBopjzt3qW+w3Q/m4WX12e+GtgCBmpJQrV
 sOYuwW2AlK58RkZrHgIldxzKyWqIJnrI47Pb2NB6UCMGV+3zaZ1WBwPIFBBKz6tOmpm2
 VIYg==
X-Gm-Message-State: AOJu0YyFGRLepWE6DBwil4UAUEFaZBQK0T3c0ac5mEmxH/unDsNiaXoj
 Wd3k1rTT9IwFv37ic95uf01MA040BHHKPBwqJMZyQWd1q1aSoC4yRUkw+lHIV3hCVqMsLcQAM0n
 s0XNBihb/yoS+RdFoAbDnFaWbvqqPCoVclJhHAScD
X-Google-Smtp-Source: AGHT+IHDCnte1H+bsF4LYWiD1zYXjZ24tyc3Qo4r3wgoYeuZH5Sjh244kD5Gj3kwmy6wSG3hSXxyzs7EdrbF
X-Received: by 2002:a05:6870:972b:b0:21e:a1aa:ab6a with SMTP id
 n43-20020a056870972b00b0021ea1aaab6amr523195oaq.6.1709143714036; 
 Wed, 28 Feb 2024 10:08:34 -0800 (PST)
Received: from postal.iol.unh.edu (postal.iol.unh.edu. [132.177.123.84])
 by smtp-relay.gmail.com with ESMTPS id
 zq41-20020a0568718ea900b0021de29f59e6sm179101oab.12.2024.02.28.10.08.33
 (version=TLS1_2 cipher=ECDHE-ECDSA-AES128-GCM-SHA256 bits=128/128);
 Wed, 28 Feb 2024 10:08:34 -0800 (PST)
X-Relaying-Domain: iol.unh.edu
Date: Wed, 28 Feb 2024 10:08:34 -0800 (PST)
Message-ID: <65df76a2.050a0220.3f33d.a2efSMTPIN_ADDED_MISSING@mx.google.com>
Received: from [172.17.0.9] (unknown [172.18.0.217])
 by postal.iol.unh.edu (Postfix) with ESMTP id 7CF3460527CD;
 Wed, 28 Feb 2024 13:08:33 -0500 (EST)
Subject: |SUCCESS| pw137441-137448 [PATCH] [11/11] net/mlx5: remove unneeded 
From: dpdklab@iol.unh.edu
To: Test Report <test-report@dpdk.org>
Cc: dpdk-test-reports@iol.unh.edu
In-Reply-To: <20240228170046.176600-12-dsosnowski@nvidia.com>
References: <20240228170046.176600-12-dsosnowski@nvidia.com>
Content-Type: text/plain
X-BeenThere: test-report@dpdk.org
X-Mailman-Version: 2.1.29
Precedence: list
List-Id: automatic DPDK test reports <test-report.dpdk.org>
List-Unsubscribe: <https://mails.dpdk.org/options/test-report>,
 <mailto:test-report-request@dpdk.org?subject=unsubscribe>
List-Archive: <http://mails.dpdk.org/archives/test-report/>
List-Post: <mailto:test-report@dpdk.org>
List-Help: <mailto:test-report-request@dpdk.org?subject=help>
List-Subscribe: <https://mails.dpdk.org/listinfo/test-report>,
 <mailto:test-report-request@dpdk.org?subject=subscribe>
Errors-To: test-report-bounces@dpdk.org

Test-Label: iol-compile-amd64-testing
Test-Status: SUCCESS
http://dpdk.org/patch/137448

_Testing PASS_

Submitter: Dariusz Sosnowski <dsosnowski@nvidia.com>
Date: Wednesday, February 28 2024 17:00:46 
DPDK git baseline: Repo:dpdk
  Branch: master
  CommitID:513a698fe1ddcb725d0ed6bca2cbc4b6fc7c8345

137441-137448 --> testing pass

Test environment and result as below:

+---------------------+--------------------+----------------------+
|     Environment     | dpdk_meson_compile | dpdk_mingw64_compile |
+=====================+====================+======================+
| Windows Server 2022 | PASS               | SKIPPED              |
+---------------------+--------------------+----------------------+
| FreeBSD 13.2        | PASS               | SKIPPED              |
+---------------------+--------------------+----------------------+
| Windows Server 2019 | PASS               | PASS                 |
+---------------------+--------------------+----------------------+
| CentOS Stream 8     | PASS               | SKIPPED              |
+---------------------+--------------------+----------------------+
| Debian Bullseye     | PASS               | SKIPPED              |
+---------------------+--------------------+----------------------+
| CentOS Stream 9     | PASS               | SKIPPED              |
+---------------------+--------------------+----------------------+
| Debian 12 (arm)     | PASS               | SKIPPED              |
+---------------------+--------------------+----------------------+
| Fedora 37           | PASS               | SKIPPED              |
+---------------------+--------------------+----------------------+
| Fedora 38           | PASS               | SKIPPED              |
+---------------------+--------------------+----------------------+
| RHEL8               | PASS               | SKIPPED              |
+---------------------+--------------------+----------------------+
| Ubuntu 20.04        | PASS               | SKIPPED              |
+---------------------+--------------------+----------------------+
| openSUSE Leap 15    | PASS               | SKIPPED              |
+---------------------+--------------------+----------------------+
| Ubuntu 22.04        | PASS               | SKIPPED              |
+---------------------+--------------------+----------------------+
| Alpine              | PASS               | SKIPPED              |
+---------------------+--------------------+----------------------+


Windows Server 2022
	Kernel: OS Build 20348.2031
	Compiler: MSVC VS-Preview

FreeBSD 13.2
	Kernel: 13.2
	Compiler: clang 11.3.0

Windows Server 2019
	Kernel: 10.0
	Compiler: clang 14.0 and gcc 8.1.0 (MinGW)

CentOS Stream 8
	Kernel: 4.18.0-240.10.1.el8_3.x86_64
	Compiler: gcc 8.4.1 20200928

Debian Bullseye
	Kernel: 5.4.0-122-generic
	Compiler: gcc 10.2.1-6

CentOS Stream 9
	Kernel: 4.18.0-240.10.1.el8_3.x86_64
	Compiler: gcc 11.3.1 20220421

Debian 12 (arm)
	Kernel: Container Host Kernel
	Compiler: gcc 11

Fedora 37
	Kernel: Depends on container host system
	Compiler: gcc 12.3.1

Fedora 38
	Kernel: Depends on container host
	Compiler: gcc 13.1.1

RHEL8
	Kernel: 4.18.0-240.10.1.el8_3.x86_64
	Compiler: gcc 8.3.1 20191121 (Red Hat 8.3.1-5)

Ubuntu 20.04
	Kernel: 5.4.0-153-generic
	Compiler: gcc 9.4.0-1ubuntu1~20.04.1

openSUSE Leap 15
	Kernel: 4.18.0-240.10.1.el8_3.x86_64
	Compiler: gcc 7.5.0

Ubuntu 22.04
	Kernel: 4.18.0-240.10.1.el8_3.x86_64
	Compiler: gcc 11.3.0

Alpine
	Kernel: 5.4.0-73-generic
	Compiler: gcc (Alpine 10.3.1_git20210424) 10.3.1 20210424

To view detailed results, visit:
https://lab.dpdk.org/results/dashboard/patchsets/29319/

UNH-IOL DPDK Community Lab

To manage your email subscriptions, visit: 
https://lab.dpdk.org/results/dashboard/preferences/subscriptions/