From mboxrd@z Thu Jan  1 00:00:00 1970
Return-Path: <test-report-bounces@dpdk.org>
Received: from mails.dpdk.org (mails.dpdk.org [217.70.189.124])
	by inbox.dpdk.org (Postfix) with ESMTP id 7653A43C28
	for <public@inbox.dpdk.org>; Wed, 28 Feb 2024 20:38:07 +0100 (CET)
Received: from mails.dpdk.org (localhost [127.0.0.1])
	by mails.dpdk.org (Postfix) with ESMTP id 6F6BC402C7;
	Wed, 28 Feb 2024 20:38:07 +0100 (CET)
Received: from mail-oo1-f99.google.com (mail-oo1-f99.google.com
 [209.85.161.99]) by mails.dpdk.org (Postfix) with ESMTP id CA1D44029F
 for <test-report@dpdk.org>; Wed, 28 Feb 2024 20:38:06 +0100 (CET)
Received: by mail-oo1-f99.google.com with SMTP id
 006d021491bc7-5a0deaf21efso77356eaf.0
 for <test-report@dpdk.org>; Wed, 28 Feb 2024 11:38:06 -0800 (PST)
DKIM-Signature: v=1; a=rsa-sha256; c=relaxed/relaxed;
 d=iol.unh.edu; s=unh-iol; t=1709149086; x=1709753886; darn=dpdk.org;
 h=references:in-reply-to:cc:to:from:subject:message-id:date:from:to
 :cc:subject:date:message-id:reply-to;
 bh=eceu69454v9cl8x3xdodbOZIWKOXEvQh5gCz/gmloBs=;
 b=dj8DDOsnjQ6rAlPXL/vZcTalmvprzbq7QA/orkX+ggib86mFHy0SxfDHqFg3aoOFtt
 nNDXw2xQNjr92BeY4i1t5iZCwaL/ub9lZ5Ozuj0hyy5Z6/BNQSaUhRQriT2tJoZVbK3d
 ec2DV0LptyM9s5Ugah8iDSSV0pStmKDjAiuU4=
X-Google-DKIM-Signature: v=1; a=rsa-sha256; c=relaxed/relaxed;
 d=1e100.net; s=20230601; t=1709149086; x=1709753886;
 h=references:in-reply-to:cc:to:from:subject:message-id:date
 :x-gm-message-state:from:to:cc:subject:date:message-id:reply-to;
 bh=eceu69454v9cl8x3xdodbOZIWKOXEvQh5gCz/gmloBs=;
 b=w7DkpDVX3I/88SPHJTxdDV7xVsyh5u8ADoRh6JNnBKvb+Eq8RRK6PGcr8gLgZP6C2q
 1d1G/6gzA4BI0sj8YHcLV2kh2gp/n/pPBfwDkbMGr2oLAH3lGndiY28yOufnpW3YJF3r
 QLuFZ5Op/U3h5wJT+kW/m5iOCmkz8Bpt0jeBufy0kXL/JMGAnhHxF8nnEPRfqknzsCvm
 9JnsKHzqmkBCQ4S4T9GJoM4/WapDGn9tmSq1/jh7S8cT4qP1GGW4QHiMpZXRYFG7nupf
 fzst0swWzE5AUAyQ/6EK2DSp7UteN+hKOhm3UyEUjWruxLI2XtiMbURoT/tTQDsCA/hY
 3PUQ==
X-Gm-Message-State: AOJu0YzuyhKOYF7ZGTbWtas6ih/KySCSNq+wP3Jp0zcOgTnipFdPALvq
 iKIFRgWac/Xwtc2QdItYG9bbjZekujJ0uVIRD81MGY/FFHFN+FUVcPkfnSEMrs6jfAMc17wSS9H
 cNyUnYcPR0Co4JY3WSM58Ti7BDRluzIt3VW6bRiGm
X-Google-Smtp-Source: AGHT+IFSmFK3Zr8kM6jbzyznTv4KpYgpiTGbnvNWeL+08KCJ65C28yidIsq3Vjq0OEcU9rHlaDiJ0XcEa8HT
X-Received: by 2002:a4a:351d:0:b0:5a0:651d:4238 with SMTP id
 l29-20020a4a351d000000b005a0651d4238mr66216ooa.2.1709149086241; 
 Wed, 28 Feb 2024 11:38:06 -0800 (PST)
Received: from postal.iol.unh.edu (postal.iol.unh.edu. [132.177.123.84])
 by smtp-relay.gmail.com with ESMTPS id
 f193-20020a4a58ca000000b0059f856293e4sm14271oob.0.2024.02.28.11.38.06
 (version=TLS1_2 cipher=ECDHE-ECDSA-AES128-GCM-SHA256 bits=128/128);
 Wed, 28 Feb 2024 11:38:06 -0800 (PST)
X-Relaying-Domain: iol.unh.edu
Date: Wed, 28 Feb 2024 11:38:06 -0800 (PST)
Message-ID: <65df8b9e.4a0a0220.26ec4.10ccSMTPIN_ADDED_MISSING@mx.google.com>
Received: from [172.21.0.7] (unknown [172.18.0.240])
 by postal.iol.unh.edu (Postfix) with ESMTP id B464460527CD;
 Wed, 28 Feb 2024 14:38:05 -0500 (EST)
Subject: |SUCCESS| pw137455-137454 [PATCH] [v2,3/3] rcu: use rte macro instea
From: dpdklab@iol.unh.edu
To: Test Report <test-report@dpdk.org>
Cc: dpdk-test-reports@iol.unh.edu
In-Reply-To: <1709146076-22254-4-git-send-email-roretzla@linux.microsoft.com>
References: <1709146076-22254-4-git-send-email-roretzla@linux.microsoft.com>
Content-Type: text/plain
X-BeenThere: test-report@dpdk.org
X-Mailman-Version: 2.1.29
Precedence: list
List-Id: automatic DPDK test reports <test-report.dpdk.org>
List-Unsubscribe: <https://mails.dpdk.org/options/test-report>,
 <mailto:test-report-request@dpdk.org?subject=unsubscribe>
List-Archive: <http://mails.dpdk.org/archives/test-report/>
List-Post: <mailto:test-report@dpdk.org>
List-Help: <mailto:test-report-request@dpdk.org?subject=help>
List-Subscribe: <https://mails.dpdk.org/listinfo/test-report>,
 <mailto:test-report-request@dpdk.org?subject=subscribe>
Errors-To: test-report-bounces@dpdk.org

Test-Label: iol-compile-arm64-testing
Test-Status: SUCCESS
http://dpdk.org/patch/137454

_Testing PASS_

Submitter: Tyler Retzlaff <roretzla@linux.microsoft.com>
Date: Wednesday, February 28 2024 18:47:56 
DPDK git baseline: Repo:dpdk
  Branch: master
  CommitID:92c0ad70caf3ed6f4b93de6ddaf7bc369737c049

137455-137454 --> testing pass

Test environment and result as below:

+--------------------------+--------------------+
|       Environment        | dpdk_meson_compile |
+==========================+====================+
| Ubuntu 20.04 ARM SVE     | PASS               |
+--------------------------+--------------------+
| CentOS Stream 9 (ARM)    | PASS               |
+--------------------------+--------------------+
| Fedora 38 (ARM)          | PASS               |
+--------------------------+--------------------+
| Debian 11 (Buster) (ARM) | PASS               |
+--------------------------+--------------------+


Ubuntu 20.04 ARM SVE
	Kernel: 5.4.0-80-generic
	Compiler: gcc 10.3.0 (Ubuntu 10.3.0-1ubuntu1~20.04)

CentOS Stream 9 (ARM)
	Kernel: Container Host Kernel
	Compiler: gcc 11.3.1

Fedora 38 (ARM)
	Kernel: Depends on container host
	Compiler: gcc 13.1.1

Debian 11 (Buster) (ARM)
	Kernel: Container Host Kernel
	Compiler: gcc 10.2.1

To view detailed results, visit:
https://lab.dpdk.org/results/dashboard/patchsets/29321/

UNH-IOL DPDK Community Lab

To manage your email subscriptions, visit: 
https://lab.dpdk.org/results/dashboard/preferences/subscriptions/