From mboxrd@z Thu Jan  1 00:00:00 1970
Return-Path: <test-report-bounces@dpdk.org>
Received: from mails.dpdk.org (mails.dpdk.org [217.70.189.124])
	by inbox.dpdk.org (Postfix) with ESMTP id 3A9F043C2E
	for <public@inbox.dpdk.org>; Wed, 28 Feb 2024 20:57:56 +0100 (CET)
Received: from mails.dpdk.org (localhost [127.0.0.1])
	by mails.dpdk.org (Postfix) with ESMTP id 3621D402C7;
	Wed, 28 Feb 2024 20:57:56 +0100 (CET)
Received: from mail-il1-f227.google.com (mail-il1-f227.google.com
 [209.85.166.227])
 by mails.dpdk.org (Postfix) with ESMTP id 1EF794029F
 for <test-report@dpdk.org>; Wed, 28 Feb 2024 20:57:55 +0100 (CET)
Received: by mail-il1-f227.google.com with SMTP id
 e9e14a558f8ab-365253c52aaso664625ab.2
 for <test-report@dpdk.org>; Wed, 28 Feb 2024 11:57:55 -0800 (PST)
DKIM-Signature: v=1; a=rsa-sha256; c=relaxed/relaxed;
 d=iol.unh.edu; s=unh-iol; t=1709150274; x=1709755074; darn=dpdk.org;
 h=references:in-reply-to:cc:to:from:subject:message-id:date:from:to
 :cc:subject:date:message-id:reply-to;
 bh=1Vf4c7ayhqg39pO3yUugt31oIHTMMODf/JTkt9m/FWI=;
 b=ez77RGxpWnfAn7WK2ASmE/+Rts3vohtSDOOAk6t9am6Eq3urhj284s4gmr+KiapEjh
 ZVTt+jVRvqU/85josse0cfHlCtyQ39mf1gBewiB5bNmGtkjMA+YOUTz4/D62fCzkOyEO
 N6CFN7IKinqbkCNR4JpiT/ltFtzI9iBaAwX5A=
X-Google-DKIM-Signature: v=1; a=rsa-sha256; c=relaxed/relaxed;
 d=1e100.net; s=20230601; t=1709150274; x=1709755074;
 h=references:in-reply-to:cc:to:from:subject:message-id:date
 :x-gm-message-state:from:to:cc:subject:date:message-id:reply-to;
 bh=1Vf4c7ayhqg39pO3yUugt31oIHTMMODf/JTkt9m/FWI=;
 b=v7nJVYb2IBpzvVLUy2bktevQkQYs3gajMRjhvYRynIbXNPKYdCKnxTiYi4aBEc85ki
 4S2eVh9tY0ETvnsHg6VNdLveu6Kk6dPBNkiTF2WzX/DOCtSnj2QDiEeI2otWU1aOWdQV
 d0C9z1nTu0SVtfC6TgOTXcyB8nlfpwMsRacXa4/ZoYEQpyUu3RhRZyNv3tQ4XZ0+vEGa
 IQ9CxDjvIOTfRo7yiYRuBVPuYk6l9q5JpaivSM5e2qaDQopGqyE9yR0yUhoEibCy7tOm
 HBML1aQCGRPuFZVdjRfRnGQxurQEpK3YS/PW800k1rJN92g8bkWFiLoSNB/cXEjDtkdw
 igkQ==
X-Gm-Message-State: AOJu0YzqYnDOTZUgeJ6OQHzZ5spMX/h9hTYJYXM62K7tGNCdKLTg5SBw
 mXRSOBc8pL9tt5LjK94TXvhRNzUYWdn1xInMeyH847rkWcdqvseC636UHIbSX0wSUH1AxfsqLuQ
 juSCVDf/Vr+gGb+owWbjokMp4MuSIT+lBhF+SBl+m
X-Google-Smtp-Source: AGHT+IH35pTSM7sQRx8esgU1wn0rQubzx7VbJM5fEcE+wreqMQIVHeoF6qmmPycT1HRdcyH+x7Zsj5zDO96v
X-Received: by 2002:a92:911:0:b0:365:b574:9618 with SMTP id
 y17-20020a920911000000b00365b5749618mr289765ilg.26.1709150274520; 
 Wed, 28 Feb 2024 11:57:54 -0800 (PST)
Received: from postal.iol.unh.edu (postal.iol.unh.edu. [132.177.123.84])
 by smtp-relay.gmail.com with ESMTPS id
 cb3-20020a056e02318300b0036420029fb4sm5604ilb.6.2024.02.28.11.57.54
 (version=TLS1_2 cipher=ECDHE-ECDSA-AES128-GCM-SHA256 bits=128/128);
 Wed, 28 Feb 2024 11:57:54 -0800 (PST)
X-Relaying-Domain: iol.unh.edu
Date: Wed, 28 Feb 2024 11:57:54 -0800 (PST)
Message-ID: <65df9042.050a0220.e08b3.0618SMTPIN_ADDED_MISSING@mx.google.com>
Received: from [172.21.0.6] (unknown [172.18.0.240])
 by postal.iol.unh.edu (Postfix) with ESMTP id 0EDC560527CD;
 Wed, 28 Feb 2024 14:57:54 -0500 (EST)
Subject: |SUCCESS| pw137455-137454 [PATCH] [v2,3/3] rcu: use rte macro instea
From: dpdklab@iol.unh.edu
To: Test Report <test-report@dpdk.org>
Cc: dpdk-test-reports@iol.unh.edu
In-Reply-To: <1709146076-22254-4-git-send-email-roretzla@linux.microsoft.com>
References: <1709146076-22254-4-git-send-email-roretzla@linux.microsoft.com>
Content-Type: text/plain
X-BeenThere: test-report@dpdk.org
X-Mailman-Version: 2.1.29
Precedence: list
List-Id: automatic DPDK test reports <test-report.dpdk.org>
List-Unsubscribe: <https://mails.dpdk.org/options/test-report>,
 <mailto:test-report-request@dpdk.org?subject=unsubscribe>
List-Archive: <http://mails.dpdk.org/archives/test-report/>
List-Post: <mailto:test-report@dpdk.org>
List-Help: <mailto:test-report-request@dpdk.org?subject=help>
List-Subscribe: <https://mails.dpdk.org/listinfo/test-report>,
 <mailto:test-report-request@dpdk.org?subject=subscribe>
Errors-To: test-report-bounces@dpdk.org

Test-Label: iol-unit-amd64-testing
Test-Status: SUCCESS
http://dpdk.org/patch/137454

_Testing PASS_

Submitter: Tyler Retzlaff <roretzla@linux.microsoft.com>
Date: Wednesday, February 28 2024 18:47:56 
DPDK git baseline: Repo:dpdk
  Branch: master
  CommitID:92c0ad70caf3ed6f4b93de6ddaf7bc369737c049

137455-137454 --> testing pass

Test environment and result as below:

+---------------------+----------------+
|     Environment     | dpdk_unit_test |
+=====================+================+
| Windows Server 2019 | PASS           |
+---------------------+----------------+
| CentOS Stream 9     | PASS           |
+---------------------+----------------+
| CentOS Stream 8     | PASS           |
+---------------------+----------------+
| Debian Bullseye     | PASS           |
+---------------------+----------------+
| Fedora 38           | PASS           |
+---------------------+----------------+


Windows Server 2019
	Kernel: 10.0
	Compiler: clang 14.0 and gcc 8.1.0 (MinGW)

CentOS Stream 9
	Kernel: 4.18.0-240.10.1.el8_3.x86_64
	Compiler: gcc 11.3.1 20220421

CentOS Stream 8
	Kernel: 4.18.0-240.10.1.el8_3.x86_64
	Compiler: gcc 8.4.1 20200928

Debian Bullseye
	Kernel: 5.4.0-122-generic
	Compiler: gcc 10.2.1-6

Fedora 38
	Kernel: Depends on container host
	Compiler: clang 16.0.3

To view detailed results, visit:
https://lab.dpdk.org/results/dashboard/patchsets/29321/

UNH-IOL DPDK Community Lab

To manage your email subscriptions, visit: 
https://lab.dpdk.org/results/dashboard/preferences/subscriptions/