From mboxrd@z Thu Jan  1 00:00:00 1970
Return-Path: <test-report-bounces@dpdk.org>
Received: from mails.dpdk.org (mails.dpdk.org [217.70.189.124])
	by inbox.dpdk.org (Postfix) with ESMTP id C5BBB43C2E
	for <public@inbox.dpdk.org>; Wed, 28 Feb 2024 21:05:19 +0100 (CET)
Received: from mails.dpdk.org (localhost [127.0.0.1])
	by mails.dpdk.org (Postfix) with ESMTP id C1ACB4029F;
	Wed, 28 Feb 2024 21:05:19 +0100 (CET)
Received: from mail-yw1-f226.google.com (mail-yw1-f226.google.com
 [209.85.128.226])
 by mails.dpdk.org (Postfix) with ESMTP id 4BA934028A
 for <test-report@dpdk.org>; Wed, 28 Feb 2024 21:05:18 +0100 (CET)
Received: by mail-yw1-f226.google.com with SMTP id
 00721157ae682-6093b4f82ceso1739917b3.3
 for <test-report@dpdk.org>; Wed, 28 Feb 2024 12:05:18 -0800 (PST)
DKIM-Signature: v=1; a=rsa-sha256; c=relaxed/relaxed;
 d=iol.unh.edu; s=unh-iol; t=1709150717; x=1709755517; darn=dpdk.org;
 h=references:in-reply-to:cc:to:from:subject:message-id:date:from:to
 :cc:subject:date:message-id:reply-to;
 bh=psZMedSZsRnpPBqBxu6qv6eT1s1Nf8zDaB6SZCsfwLc=;
 b=jkbIHVbdd7rPAwgMzWY6ge+TEcY8mmbKigrPg6OZ5BFPa+m6ysZB4QoEUy24CmqLXF
 hmyjpvLA6uW0WXoOsoP3PqW23exSxn3yQ7HPShBIKSVwRi9mHez/GqRF9DvmUvcwACNL
 K7RGPBA/qcwIjoXa9wZ0oDyB7quL3z8ouRkYk=
X-Google-DKIM-Signature: v=1; a=rsa-sha256; c=relaxed/relaxed;
 d=1e100.net; s=20230601; t=1709150717; x=1709755517;
 h=references:in-reply-to:cc:to:from:subject:message-id:date
 :x-gm-message-state:from:to:cc:subject:date:message-id:reply-to;
 bh=psZMedSZsRnpPBqBxu6qv6eT1s1Nf8zDaB6SZCsfwLc=;
 b=EdwEB1bUBxy1FPbHDCLEke4WS+d4RwiryTkMZWai0c2XzAL5lg/WmuEE4IWmC+eoHa
 pf8Vkt3LvfVTT4EbufgN912qTzUGe6MsV75kDeC/7ImAnvymeAiqTmHa0f28kY59oIEZ
 2zml5k0SvsmVZHGYzLsz+OEqzc1ROBgAUBuHbe0F/0/etjRvXRXRiT7ZrSxR8poswezS
 9nraMSfYWl0m7iQ53KXqWS+ewsN45k62E31ckhfDqpfZbflRgF1qL02EG44+X48Zh/Z1
 fA3m8oApsTxQFbyW2QHLmXrWhjGgkO82/YCH2co9Estnha9H/NrvrnLWRsPOAmDMMi1G
 8c1Q==
X-Gm-Message-State: AOJu0YwHAdTIc294W7QgZNobHGxaDuh5F8/dYxTg9AEqo6gwj4g4+vrC
 ZzKjGGNGwg5iMQvwvoMALHTZ0fwTmLZ4Vdjp9vnn3aRBv6DnzvaYDa8CshMWf/6c0jQOFTQJCmc
 rf44gaRjw2wMTX5BsUt6SPWjV69JD/+p5CapMm1Ve
X-Google-Smtp-Source: AGHT+IHhd4WtB7Qva1vQTskX2Ri0YKKNYSm3mKVduzbtyf9Y0+xW1H0eQktmFsqRg1L0Oxf6zrDyus8UI6ZS
X-Received: by 2002:a0d:ebce:0:b0:608:e353:7975 with SMTP id
 u197-20020a0debce000000b00608e3537975mr127285ywe.21.1709150717679; 
 Wed, 28 Feb 2024 12:05:17 -0800 (PST)
Received: from postal.iol.unh.edu (postal.iol.unh.edu. [132.177.123.84])
 by smtp-relay.gmail.com with ESMTPS id
 h27-20020a81b65b000000b0060802e9053fsm5567ywk.30.2024.02.28.12.05.17
 (version=TLS1_2 cipher=ECDHE-ECDSA-AES128-GCM-SHA256 bits=128/128);
 Wed, 28 Feb 2024 12:05:17 -0800 (PST)
X-Relaying-Domain: iol.unh.edu
Date: Wed, 28 Feb 2024 12:05:17 -0800 (PST)
Message-ID: <65df91fd.810a0220.1a7af.0525SMTPIN_ADDED_MISSING@mx.google.com>
Received: from [172.21.0.6] (unknown [172.18.0.240])
 by postal.iol.unh.edu (Postfix) with ESMTP id 5D27360527CD;
 Wed, 28 Feb 2024 15:05:17 -0500 (EST)
Subject: |SUCCESS| pw137455-137454 [PATCH] [v2,3/3] rcu: use rte macro instea
From: dpdklab@iol.unh.edu
To: Test Report <test-report@dpdk.org>
Cc: dpdk-test-reports@iol.unh.edu
In-Reply-To: <1709146076-22254-4-git-send-email-roretzla@linux.microsoft.com>
References: <1709146076-22254-4-git-send-email-roretzla@linux.microsoft.com>
Content-Type: text/plain
X-BeenThere: test-report@dpdk.org
X-Mailman-Version: 2.1.29
Precedence: list
List-Id: automatic DPDK test reports <test-report.dpdk.org>
List-Unsubscribe: <https://mails.dpdk.org/options/test-report>,
 <mailto:test-report-request@dpdk.org?subject=unsubscribe>
List-Archive: <http://mails.dpdk.org/archives/test-report/>
List-Post: <mailto:test-report@dpdk.org>
List-Help: <mailto:test-report-request@dpdk.org?subject=help>
List-Subscribe: <https://mails.dpdk.org/listinfo/test-report>,
 <mailto:test-report-request@dpdk.org?subject=subscribe>
Errors-To: test-report-bounces@dpdk.org

Test-Label: iol-compile-arm64-testing
Test-Status: SUCCESS
http://dpdk.org/patch/137454

_Testing PASS_

Submitter: Tyler Retzlaff <roretzla@linux.microsoft.com>
Date: Wednesday, February 28 2024 18:47:56 
DPDK git baseline: Repo:dpdk
  Branch: master
  CommitID:92c0ad70caf3ed6f4b93de6ddaf7bc369737c049

137455-137454 --> testing pass

Test environment and result as below:

+----------------------------------------+--------------------+
|              Environment               | dpdk_meson_compile |
+========================================+====================+
| Ubuntu 20.04 ARM SVE                   | PASS               |
+----------------------------------------+--------------------+
| CentOS Stream 9 (ARM)                  | PASS               |
+----------------------------------------+--------------------+
| Fedora 38 (ARM)                        | PASS               |
+----------------------------------------+--------------------+
| Debian 11 (Buster) (ARM)               | PASS               |
+----------------------------------------+--------------------+
| Debian 12 (arm)                        | PASS               |
+----------------------------------------+--------------------+
| Ubuntu 20.04 aarch32 GCC Cross Compile | PASS               |
+----------------------------------------+--------------------+


Ubuntu 20.04 ARM SVE
	Kernel: 5.4.0-80-generic
	Compiler: gcc 10.3.0 (Ubuntu 10.3.0-1ubuntu1~20.04)

CentOS Stream 9 (ARM)
	Kernel: Container Host Kernel
	Compiler: gcc 11.3.1

Fedora 38 (ARM)
	Kernel: Depends on container host
	Compiler: gcc 13.1.1

Debian 11 (Buster) (ARM)
	Kernel: Container Host Kernel
	Compiler: gcc 10.2.1

Debian 12 (arm)
	Kernel: Container Host Kernel
	Compiler: gcc 11

Ubuntu 20.04 aarch32 GCC Cross Compile
	Kernel: 5.4.0-72-generic
	Compiler: gcc 9.3.0

To view detailed results, visit:
https://lab.dpdk.org/results/dashboard/patchsets/29321/

UNH-IOL DPDK Community Lab

To manage your email subscriptions, visit: 
https://lab.dpdk.org/results/dashboard/preferences/subscriptions/