From mboxrd@z Thu Jan  1 00:00:00 1970
Return-Path: <test-report-bounces@dpdk.org>
Received: from mails.dpdk.org (mails.dpdk.org [217.70.189.124])
	by inbox.dpdk.org (Postfix) with ESMTP id 010BE43C1D
	for <public@inbox.dpdk.org>; Thu, 29 Feb 2024 00:24:38 +0100 (CET)
Received: from mails.dpdk.org (localhost [127.0.0.1])
	by mails.dpdk.org (Postfix) with ESMTP id CCEF3402B4;
	Thu, 29 Feb 2024 00:24:38 +0100 (CET)
Received: from mail-qv1-f97.google.com (mail-qv1-f97.google.com
 [209.85.219.97]) by mails.dpdk.org (Postfix) with ESMTP id C30B4402AF
 for <test-report@dpdk.org>; Thu, 29 Feb 2024 00:24:37 +0100 (CET)
Received: by mail-qv1-f97.google.com with SMTP id
 6a1803df08f44-690452bee49so1268536d6.0
 for <test-report@dpdk.org>; Wed, 28 Feb 2024 15:24:37 -0800 (PST)
DKIM-Signature: v=1; a=rsa-sha256; c=relaxed/relaxed;
 d=iol.unh.edu; s=unh-iol; t=1709162677; x=1709767477; darn=dpdk.org;
 h=references:in-reply-to:cc:to:from:subject:message-id:date:from:to
 :cc:subject:date:message-id:reply-to;
 bh=/kDuCZ5YZz+SX8Tm5uInwWK9s2HbZqqbM3/qnlo5ttQ=;
 b=iK4RZRKaAxhzVKkz50P/lsrpgLLhLMisDgtYaW+lqiEnmjtzkXxtbgX/dCaFoIT+kt
 yXUGFtxiUTjHdY+BfM25/akERSgO/jkX7SX8F+kFpbubUGEQmQEnseRFJQCgAZHzDxqr
 e5APBeqsYL+N8YCk0GkmC5Glc8VdY/aYxqCs0=
X-Google-DKIM-Signature: v=1; a=rsa-sha256; c=relaxed/relaxed;
 d=1e100.net; s=20230601; t=1709162677; x=1709767477;
 h=references:in-reply-to:cc:to:from:subject:message-id:date
 :x-gm-message-state:from:to:cc:subject:date:message-id:reply-to;
 bh=/kDuCZ5YZz+SX8Tm5uInwWK9s2HbZqqbM3/qnlo5ttQ=;
 b=utydQ1Dhl9swEtTv+OXih1Nmg5GMjYMviZhrM0GIBc+mH9yNafJBJTQBiZy+uSuQoe
 ltaTcCu+WafzWbqWNh6DR7RhB/UPjNspsgVj2nbCicyEP0qmYN5whMR0XSvvbnflryAe
 6WOmE0oQVX2NWrbNXTuIy0a2eBgyE9JzuyLLG8xkOkNJMYIzl8jOcdQhpX12gIldKJ+P
 abrq/Y7qLV4hlhnZPmE38C8XyTZ4D5ZlpbpNAzdLSHZ0s+tbwgKq18Vosr33gURc2jKs
 xoVYcveBh+I76aM2IYm+KLa5/sFyU6Xe/UKZcgjX1/86/fdWuVbXbwbYrUNxMy/OCzsU
 HvtA==
X-Gm-Message-State: AOJu0Yzq+y2Yvg2EZAQdtQBG5mctL+REUPfjRP8u+5HURnlx+5+Ca8My
 lg4JwwwFc4Wlv1oAtolQ90ATOT97Mhd3EnrdZX5nC0wHQI2GLPcx0hEsP60cMvVVIOfBl8uGr4h
 wCDLmhYixpm2HqdCrIUI7Eb6a9uBPSHD+uocYdpms
X-Google-Smtp-Source: AGHT+IGwsZ7D1N9EK6m9MDKYg8HYrDYxZSsdQ/UyWP4P5S3RX3oPW1Pug4hsDwMLNL1YDx5NljgiqCsygUt/
X-Received: by 2002:a05:6214:d0a:b0:68f:e774:d57a with SMTP id
 10-20020a0562140d0a00b0068fe774d57amr303822qvh.27.1709162677097; 
 Wed, 28 Feb 2024 15:24:37 -0800 (PST)
Received: from postal.iol.unh.edu (postal.iol.unh.edu. [132.177.123.84])
 by smtp-relay.gmail.com with ESMTPS id
 jk4-20020ad45d44000000b006901af174c7sm8319qvb.12.2024.02.28.15.24.37
 (version=TLS1_2 cipher=ECDHE-ECDSA-AES128-GCM-SHA256 bits=128/128);
 Wed, 28 Feb 2024 15:24:37 -0800 (PST)
X-Relaying-Domain: iol.unh.edu
Date: Wed, 28 Feb 2024 15:24:37 -0800 (PST)
Message-ID: <65dfc0b5.d40a0220.6d2ec.09beSMTPIN_ADDED_MISSING@mx.google.com>
Received: from [172.17.0.7] (unknown [172.18.0.217])
 by postal.iol.unh.edu (Postfix) with ESMTP id BAB8D6043484;
 Wed, 28 Feb 2024 18:24:36 -0500 (EST)
Subject: |SUCCESS| pw137455-137454 [PATCH] [v2,3/3] rcu: use rte macro instea
From: dpdklab@iol.unh.edu
To: Test Report <test-report@dpdk.org>
Cc: dpdk-test-reports@iol.unh.edu
In-Reply-To: <1709146076-22254-4-git-send-email-roretzla@linux.microsoft.com>
References: <1709146076-22254-4-git-send-email-roretzla@linux.microsoft.com>
Content-Type: text/plain
X-BeenThere: test-report@dpdk.org
X-Mailman-Version: 2.1.29
Precedence: list
List-Id: automatic DPDK test reports <test-report.dpdk.org>
List-Unsubscribe: <https://mails.dpdk.org/options/test-report>,
 <mailto:test-report-request@dpdk.org?subject=unsubscribe>
List-Archive: <http://mails.dpdk.org/archives/test-report/>
List-Post: <mailto:test-report@dpdk.org>
List-Help: <mailto:test-report-request@dpdk.org?subject=help>
List-Subscribe: <https://mails.dpdk.org/listinfo/test-report>,
 <mailto:test-report-request@dpdk.org?subject=subscribe>
Errors-To: test-report-bounces@dpdk.org

Test-Label: iol-compile-arm64-testing
Test-Status: SUCCESS
http://dpdk.org/patch/137454

_Testing PASS_

Submitter: Tyler Retzlaff <roretzla@linux.microsoft.com>
Date: Wednesday, February 28 2024 18:47:56 
DPDK git baseline: Repo:dpdk
  Branch: master
  CommitID:92c0ad70caf3ed6f4b93de6ddaf7bc369737c049

137455-137454 --> testing pass

Test environment and result as below:

+----------------------------------------+--------------------+
|              Environment               | dpdk_meson_compile |
+========================================+====================+
| Ubuntu 20.04 ARM SVE                   | PASS               |
+----------------------------------------+--------------------+
| CentOS Stream 9 (ARM)                  | PASS               |
+----------------------------------------+--------------------+
| Fedora 38 (ARM)                        | PASS               |
+----------------------------------------+--------------------+
| Debian 11 (Buster) (ARM)               | PASS               |
+----------------------------------------+--------------------+
| Debian 12 (arm)                        | PASS               |
+----------------------------------------+--------------------+
| Ubuntu 20.04 aarch32 GCC Cross Compile | PASS               |
+----------------------------------------+--------------------+
| Ubuntu 20.04 ARM Clang Cross Compile   | PASS               |
+----------------------------------------+--------------------+
| Ubuntu 20.04 ARM GCC Cross Compile     | PASS               |
+----------------------------------------+--------------------+
| Fedora 38 (ARM Clang)                  | PASS               |
+----------------------------------------+--------------------+
| Fedora 37 (ARM)                        | PASS               |
+----------------------------------------+--------------------+
| Ubuntu 20.04 (ARM)                     | PASS               |
+----------------------------------------+--------------------+


Ubuntu 20.04 ARM SVE
	Kernel: 5.4.0-80-generic
	Compiler: gcc 10.3.0 (Ubuntu 10.3.0-1ubuntu1~20.04)

CentOS Stream 9 (ARM)
	Kernel: Container Host Kernel
	Compiler: gcc 11.3.1

Fedora 38 (ARM)
	Kernel: Depends on container host
	Compiler: gcc 13.1.1

Debian 11 (Buster) (ARM)
	Kernel: Container Host Kernel
	Compiler: gcc 10.2.1

Debian 12 (arm)
	Kernel: Container Host Kernel
	Compiler: gcc 11

Ubuntu 20.04 aarch32 GCC Cross Compile
	Kernel: 5.4.0-72-generic
	Compiler: gcc 9.3.0

Ubuntu 20.04 ARM Clang Cross Compile
	Kernel: 5.4.0-72-generic
	Compiler: clang version 10.0.0-4ubuntu1

Ubuntu 20.04 ARM GCC Cross Compile
	Kernel: 5.4.0-72-generic
	Compiler: aarch64-linux-gnu-gcc (Ubuntu 9.3.0-17ubuntu1~20.04) 9.3.0

Fedora 38 (ARM Clang)
	Kernel: Depends on container host
	Compiler: clang 16.0.3

Fedora 37 (ARM)
	Kernel: Depends on container host
	Compiler: gcc 12.3.1

Ubuntu 20.04 (ARM)
	Kernel: Container Host Kernel
	Compiler: gcc 9.4.0

To view detailed results, visit:
https://lab.dpdk.org/results/dashboard/patchsets/29321/

UNH-IOL DPDK Community Lab

To manage your email subscriptions, visit: 
https://lab.dpdk.org/results/dashboard/preferences/subscriptions/