From mboxrd@z Thu Jan 1 00:00:00 1970 Return-Path: Received: from mails.dpdk.org (mails.dpdk.org [217.70.189.124]) by inbox.dpdk.org (Postfix) with ESMTP id 83F7F43C35 for ; Thu, 29 Feb 2024 11:32:12 +0100 (CET) Received: from mails.dpdk.org (localhost [127.0.0.1]) by mails.dpdk.org (Postfix) with ESMTP id 8045141109; Thu, 29 Feb 2024 11:32:12 +0100 (CET) Received: from mail-vs1-f97.google.com (mail-vs1-f97.google.com [209.85.217.97]) by mails.dpdk.org (Postfix) with ESMTP id C7BDD402B4 for ; Thu, 29 Feb 2024 11:32:04 +0100 (CET) Received: by mail-vs1-f97.google.com with SMTP id ada2fe7eead31-47283c92d24so28013137.3 for ; Thu, 29 Feb 2024 02:32:04 -0800 (PST) DKIM-Signature: v=1; a=rsa-sha256; c=relaxed/relaxed; d=iol.unh.edu; s=unh-iol; t=1709202724; x=1709807524; darn=dpdk.org; h=references:in-reply-to:cc:to:from:subject:message-id:date:from:to :cc:subject:date:message-id:reply-to; bh=F5pHjj9+jzycriQDil8P3XnxiSQgm3ODL/T/mI0KL/E=; b=HcyeVTTLKzw5G6ycZtKLOz7mPtkCgCe91Ud5f3NbFBz3n1SURJ3So/GR2wJYSiXdCe SlLjeMzRPRst2Nppr/j50QuKjJW8qZF/Byyr9Yy50HZU1faV6/zR1/SrbV7yAx2W/Q56 qqYE4OaLaliPLTQNJZvnvaVaDFApbvQCVHIGc= X-Google-DKIM-Signature: v=1; a=rsa-sha256; c=relaxed/relaxed; d=1e100.net; s=20230601; t=1709202724; x=1709807524; h=references:in-reply-to:cc:to:from:subject:message-id:date :x-gm-message-state:from:to:cc:subject:date:message-id:reply-to; bh=F5pHjj9+jzycriQDil8P3XnxiSQgm3ODL/T/mI0KL/E=; b=hd3N4HDUDOaEhTOshXhxXj4VPZuuz1dyz2rJzs7XFqDt7FxqAbU2PAv7GErfINDAxD QrA8Ct6LzYwXa021PD0wAz7k743xL7m25kA01q6F0vaIgWjjaYecyUMEjlhqokia41pY nSZCC88burOEcxSJoWu4KlgQKcn7RHWyh4m9RKoN14WtCywFGExk68nhuSIICwN45DaG xZPiOyaYgJFpaniSVlGqHSM1nMz7Wt4EAFd2CQhjqPeGeKuE+4kpBiwhPAGCQmGBhchH GCoieenbiy6Son2P9aMam89OWQhlR2KglkvzO+tISDWo/GYF66sjN4Zlma5PxCJlf13w 7n4Q== X-Gm-Message-State: AOJu0YzWEhI7AImQ9Y7rRrfkxasnFXsjcCxYChp58ZO6NxfefARuZGKV LXd0/0OYV7EJdKRWZKqnCuv5d3TFpLlf8HQPFEwXbU2Y5ew6YYKCAcMPS5RVvvY1+P7GPrVLOub BNszYo1FRpwHr9yxHeWdpuKLQ6W2qbvi9sU4g3b7Yr3I9warrBRMKZsEP X-Google-Smtp-Source: AGHT+IF7oH5HhBbY5uscxjbFi8HX+yugU8HwcOcXPZU5ljaxWIlQjxKMzwYaSfcoHXuFJy91w83zOB2vSI1+ X-Received: by 2002:a05:6102:3941:b0:472:771e:79bd with SMTP id f1-20020a056102394100b00472771e79bdmr1263602vsu.28.1709202724096; Thu, 29 Feb 2024 02:32:04 -0800 (PST) Received: from postal.iol.unh.edu (postal.iol.unh.edu. [2606:4100:3880:1234::84]) by smtp-relay.gmail.com with ESMTPS id d13-20020ab07c4d000000b007d95df9f859sm55279uaw.12.2024.02.29.02.32.03 (version=TLS1_2 cipher=ECDHE-ECDSA-AES128-GCM-SHA256 bits=128/128); Thu, 29 Feb 2024 02:32:04 -0800 (PST) X-Relaying-Domain: iol.unh.edu Date: Thu, 29 Feb 2024 02:32:04 -0800 (PST) Message-ID: <65e05d24.b00a0220.6e98d.3917SMTPIN_ADDED_MISSING@mx.google.com> Received: from [172.17.0.6] (unknown [172.18.0.217]) by postal.iol.unh.edu (Postfix) with ESMTP id A8044605250F; Thu, 29 Feb 2024 05:32:03 -0500 (EST) Subject: |SUCCESS| pw137463 [PATCH] net/mlx5: fix the counters map in bonding From: dpdklab@iol.unh.edu To: Test Report Cc: dpdk-test-reports@iol.unh.edu In-Reply-To: <20240229093456.306768-1-bingz@nvidia.com> References: <20240229093456.306768-1-bingz@nvidia.com> Content-Type: text/plain X-BeenThere: test-report@dpdk.org X-Mailman-Version: 2.1.29 Precedence: list List-Id: automatic DPDK test reports List-Unsubscribe: , List-Archive: List-Post: List-Help: List-Subscribe: , Errors-To: test-report-bounces@dpdk.org Test-Label: iol-compile-amd64-testing Test-Status: SUCCESS http://dpdk.org/patch/137463 _Testing PASS_ Submitter: Bing Zhao Date: Thursday, February 29 2024 09:34:56 DPDK git baseline: Repo:dpdk Branch: master CommitID:513a698fe1ddcb725d0ed6bca2cbc4b6fc7c8345 137463 --> testing pass Test environment and result as below: +---------------------+--------------------+----------------------+ | Environment | dpdk_meson_compile | dpdk_mingw64_compile | +=====================+====================+======================+ | CentOS Stream 9 | PASS | SKIPPED | +---------------------+--------------------+----------------------+ | CentOS Stream 8 | PASS | SKIPPED | +---------------------+--------------------+----------------------+ | Debian 12 (arm) | PASS | SKIPPED | +---------------------+--------------------+----------------------+ | Windows Server 2022 | PASS | SKIPPED | +---------------------+--------------------+----------------------+ | Fedora 38 | PASS | SKIPPED | +---------------------+--------------------+----------------------+ | Windows Server 2019 | PASS | PASS | +---------------------+--------------------+----------------------+ | FreeBSD 13.2 | PASS | SKIPPED | +---------------------+--------------------+----------------------+ | Alpine | PASS | SKIPPED | +---------------------+--------------------+----------------------+ | RHEL8 | PASS | SKIPPED | +---------------------+--------------------+----------------------+ | Debian Bullseye | PASS | SKIPPED | +---------------------+--------------------+----------------------+ | openSUSE Leap 15 | PASS | SKIPPED | +---------------------+--------------------+----------------------+ | Ubuntu 20.04 | PASS | SKIPPED | +---------------------+--------------------+----------------------+ | Ubuntu 22.04 | PASS | SKIPPED | +---------------------+--------------------+----------------------+ CentOS Stream 9 Kernel: 4.18.0-240.10.1.el8_3.x86_64 Compiler: gcc 11.3.1 20220421 CentOS Stream 8 Kernel: 4.18.0-240.10.1.el8_3.x86_64 Compiler: gcc 8.4.1 20200928 Debian 12 (arm) Kernel: Container Host Kernel Compiler: gcc 11 Windows Server 2022 Kernel: OS Build 20348.2031 Compiler: MSVC VS-Preview Fedora 38 Kernel: Depends on container host Compiler: gcc 13.1.1 Windows Server 2019 Kernel: 10.0 Compiler: clang 14.0 and gcc 8.1.0 (MinGW) FreeBSD 13.2 Kernel: 13.2 Compiler: clang 11.3.0 Alpine Kernel: 5.4.0-73-generic Compiler: gcc (Alpine 10.3.1_git20210424) 10.3.1 20210424 RHEL8 Kernel: 4.18.0-240.10.1.el8_3.x86_64 Compiler: gcc 8.3.1 20191121 (Red Hat 8.3.1-5) Debian Bullseye Kernel: 5.4.0-122-generic Compiler: gcc 10.2.1-6 openSUSE Leap 15 Kernel: 4.18.0-240.10.1.el8_3.x86_64 Compiler: gcc 7.5.0 Ubuntu 20.04 Kernel: 5.4.0-153-generic Compiler: gcc 9.4.0-1ubuntu1~20.04.1 Ubuntu 22.04 Kernel: 4.18.0-240.10.1.el8_3.x86_64 Compiler: gcc 11.3.0 To view detailed results, visit: https://lab.dpdk.org/results/dashboard/patchsets/29327/ UNH-IOL DPDK Community Lab To manage your email subscriptions, visit: https://lab.dpdk.org/results/dashboard/preferences/subscriptions/