From mboxrd@z Thu Jan  1 00:00:00 1970
Return-Path: <test-report-bounces@dpdk.org>
Received: from mails.dpdk.org (mails.dpdk.org [217.70.189.124])
	by inbox.dpdk.org (Postfix) with ESMTP id BA8EB43C35
	for <public@inbox.dpdk.org>; Thu, 29 Feb 2024 11:34:46 +0100 (CET)
Received: from mails.dpdk.org (localhost [127.0.0.1])
	by mails.dpdk.org (Postfix) with ESMTP id B5CF3402BB;
	Thu, 29 Feb 2024 11:34:46 +0100 (CET)
Received: from mail-oo1-f97.google.com (mail-oo1-f97.google.com
 [209.85.161.97]) by mails.dpdk.org (Postfix) with ESMTP id BC6A4402B4
 for <test-report@dpdk.org>; Thu, 29 Feb 2024 11:33:36 +0100 (CET)
Received: by mail-oo1-f97.google.com with SMTP id
 006d021491bc7-59fcb025b99so302853eaf.0
 for <test-report@dpdk.org>; Thu, 29 Feb 2024 02:33:36 -0800 (PST)
DKIM-Signature: v=1; a=rsa-sha256; c=relaxed/relaxed;
 d=iol.unh.edu; s=unh-iol; t=1709202816; x=1709807616; darn=dpdk.org;
 h=references:in-reply-to:cc:to:from:subject:message-id:date:from:to
 :cc:subject:date:message-id:reply-to;
 bh=F5pHjj9+jzycriQDil8P3XnxiSQgm3ODL/T/mI0KL/E=;
 b=A0kkwmQs8wmqjEUZVI/+1mLS1V72QSR65/vm42w68TZ8AfCn/bsSR5ZIxhB6saXqtL
 HFqJVQI91YNzHyC9/U50T3GiSjAFRj8n+gVqtas5Qqw6RP0JZo6p8OLHPhH7FVObmOj7
 bm4QUaDVBJiwXCDF64YmeHhuQyUXbXu2FAihc=
X-Google-DKIM-Signature: v=1; a=rsa-sha256; c=relaxed/relaxed;
 d=1e100.net; s=20230601; t=1709202816; x=1709807616;
 h=references:in-reply-to:cc:to:from:subject:message-id:date
 :x-gm-message-state:from:to:cc:subject:date:message-id:reply-to;
 bh=F5pHjj9+jzycriQDil8P3XnxiSQgm3ODL/T/mI0KL/E=;
 b=N87IiW6JDMDIErdYwnT6JDJZNnQ8QunHOBdbfoqlCq1tMRYrOC/0gK/pyPjdstJmXE
 kIFAAxK6VLYpAgDAIGcJTxZW30+9mDlvAa6uYx5/+kLRFD6yOt+X5vjIv59QXubZrviJ
 J5qhUxAbdPWWWWyiUDwlrXEaS5thN4GxSla5Oy3Jj2hbEBon/cvEcOxFvo5wcpYJDuua
 KuerQSqe4J1tShrfsuEFCSQGgHt6p+WbDYb/tC/twXjEdAOMvNhvvg1MxBdZv7usc6Rq
 AKPpDplUXdL7nr7iTSjYIy2jIB3NRyOIVI0suvpomlalziQaa2bh8u+lDzFulkj7iAEI
 DNkg==
X-Gm-Message-State: AOJu0YykfvTyu0/7PQWD2KvOzSsYys5NxlHdZU87mjD425j5PW/VvfRL
 WESiXS41bkKzJOFsOljXt/5YolTc29ioNCtHyqlzXmK9cZNxkrvMohDfJkLlZRgbmmUqh3mO0I6
 PfdC/c5HMH+L5OZBQv9xUpcPyuy3fapa37LvBxDlT
X-Google-Smtp-Source: AGHT+IGvrVQZ2okCPg5MKs/2u3rt9FZwGyX/E85tfEjph07n+ZBZbe61Edwwy88xroccUFELra+kBvlnhYih
X-Received: by 2002:a4a:cf13:0:b0:5a0:eccb:2a5f with SMTP id
 l19-20020a4acf13000000b005a0eccb2a5fmr310216oos.2.1709202816146; 
 Thu, 29 Feb 2024 02:33:36 -0800 (PST)
Received: from postal.iol.unh.edu (postal.iol.unh.edu. [132.177.123.84])
 by smtp-relay.gmail.com with ESMTPS id
 67-20020a4a0946000000b0059fae7e9604sm56049ooa.22.2024.02.29.02.33.36
 (version=TLS1_2 cipher=ECDHE-ECDSA-AES128-GCM-SHA256 bits=128/128);
 Thu, 29 Feb 2024 02:33:36 -0800 (PST)
X-Relaying-Domain: iol.unh.edu
Date: Thu, 29 Feb 2024 02:33:36 -0800 (PST)
Message-ID: <65e05d80.4a0a0220.fd8ba.3bcfSMTPIN_ADDED_MISSING@mx.google.com>
Received: from [172.21.0.6] (unknown [172.18.0.240])
 by postal.iol.unh.edu (Postfix) with ESMTP id A25CC605250F;
 Thu, 29 Feb 2024 05:33:35 -0500 (EST)
Subject: |SUCCESS| pw137463 [PATCH] net/mlx5: fix the counters map in bonding
From: dpdklab@iol.unh.edu
To: Test Report <test-report@dpdk.org>
Cc: dpdk-test-reports@iol.unh.edu
In-Reply-To: <20240229093456.306768-1-bingz@nvidia.com>
References: <20240229093456.306768-1-bingz@nvidia.com>
Content-Type: text/plain
X-BeenThere: test-report@dpdk.org
X-Mailman-Version: 2.1.29
Precedence: list
List-Id: automatic DPDK test reports <test-report.dpdk.org>
List-Unsubscribe: <https://mails.dpdk.org/options/test-report>,
 <mailto:test-report-request@dpdk.org?subject=unsubscribe>
List-Archive: <http://mails.dpdk.org/archives/test-report/>
List-Post: <mailto:test-report@dpdk.org>
List-Help: <mailto:test-report-request@dpdk.org?subject=help>
List-Subscribe: <https://mails.dpdk.org/listinfo/test-report>,
 <mailto:test-report-request@dpdk.org?subject=subscribe>
Errors-To: test-report-bounces@dpdk.org

Test-Label: iol-compile-amd64-testing
Test-Status: SUCCESS
http://dpdk.org/patch/137463

_Testing PASS_

Submitter: Bing Zhao <bingz@nvidia.com>
Date: Thursday, February 29 2024 09:34:56 
DPDK git baseline: Repo:dpdk
  Branch: master
  CommitID:513a698fe1ddcb725d0ed6bca2cbc4b6fc7c8345

137463 --> testing pass

Test environment and result as below:

+---------------------+--------------------+----------------------+
|     Environment     | dpdk_meson_compile | dpdk_mingw64_compile |
+=====================+====================+======================+
| CentOS Stream 9     | PASS               | SKIPPED              |
+---------------------+--------------------+----------------------+
| CentOS Stream 8     | PASS               | SKIPPED              |
+---------------------+--------------------+----------------------+
| Debian 12 (arm)     | PASS               | SKIPPED              |
+---------------------+--------------------+----------------------+
| Windows Server 2022 | PASS               | SKIPPED              |
+---------------------+--------------------+----------------------+
| Fedora 38           | PASS               | SKIPPED              |
+---------------------+--------------------+----------------------+
| Windows Server 2019 | PASS               | PASS                 |
+---------------------+--------------------+----------------------+
| FreeBSD 13.2        | PASS               | SKIPPED              |
+---------------------+--------------------+----------------------+
| Alpine              | PASS               | SKIPPED              |
+---------------------+--------------------+----------------------+
| RHEL8               | PASS               | SKIPPED              |
+---------------------+--------------------+----------------------+
| Debian Bullseye     | PASS               | SKIPPED              |
+---------------------+--------------------+----------------------+
| openSUSE Leap 15    | PASS               | SKIPPED              |
+---------------------+--------------------+----------------------+
| Ubuntu 20.04        | PASS               | SKIPPED              |
+---------------------+--------------------+----------------------+
| Ubuntu 22.04        | PASS               | SKIPPED              |
+---------------------+--------------------+----------------------+


CentOS Stream 9
	Kernel: 4.18.0-240.10.1.el8_3.x86_64
	Compiler: gcc 11.3.1 20220421

CentOS Stream 8
	Kernel: 4.18.0-240.10.1.el8_3.x86_64
	Compiler: gcc 8.4.1 20200928

Debian 12 (arm)
	Kernel: Container Host Kernel
	Compiler: gcc 11

Windows Server 2022
	Kernel: OS Build 20348.2031
	Compiler: MSVC VS-Preview

Fedora 38
	Kernel: Depends on container host
	Compiler: gcc 13.1.1

Windows Server 2019
	Kernel: 10.0
	Compiler: clang 14.0 and gcc 8.1.0 (MinGW)

FreeBSD 13.2
	Kernel: 13.2
	Compiler: clang 11.3.0

Alpine
	Kernel: 5.4.0-73-generic
	Compiler: gcc (Alpine 10.3.1_git20210424) 10.3.1 20210424

RHEL8
	Kernel: 4.18.0-240.10.1.el8_3.x86_64
	Compiler: gcc 8.3.1 20191121 (Red Hat 8.3.1-5)

Debian Bullseye
	Kernel: 5.4.0-122-generic
	Compiler: gcc 10.2.1-6

openSUSE Leap 15
	Kernel: 4.18.0-240.10.1.el8_3.x86_64
	Compiler: gcc 7.5.0

Ubuntu 20.04
	Kernel: 5.4.0-153-generic
	Compiler: gcc 9.4.0-1ubuntu1~20.04.1

Ubuntu 22.04
	Kernel: 4.18.0-240.10.1.el8_3.x86_64
	Compiler: gcc 11.3.0

To view detailed results, visit:
https://lab.dpdk.org/results/dashboard/patchsets/29327/

UNH-IOL DPDK Community Lab

To manage your email subscriptions, visit: 
https://lab.dpdk.org/results/dashboard/preferences/subscriptions/