From mboxrd@z Thu Jan  1 00:00:00 1970
Return-Path: <test-report-bounces@dpdk.org>
Received: from mails.dpdk.org (mails.dpdk.org [217.70.189.124])
	by inbox.dpdk.org (Postfix) with ESMTP id D79B143BA7
	for <public@inbox.dpdk.org>; Thu, 29 Feb 2024 12:37:27 +0100 (CET)
Received: from mails.dpdk.org (localhost [127.0.0.1])
	by mails.dpdk.org (Postfix) with ESMTP id D3355402AF;
	Thu, 29 Feb 2024 12:37:27 +0100 (CET)
Received: from mail-oo1-f99.google.com (mail-oo1-f99.google.com
 [209.85.161.99]) by mails.dpdk.org (Postfix) with ESMTP id 4FC7B402AE
 for <test-report@dpdk.org>; Thu, 29 Feb 2024 12:37:14 +0100 (CET)
Received: by mail-oo1-f99.google.com with SMTP id
 006d021491bc7-5a0da678302so396280eaf.0
 for <test-report@dpdk.org>; Thu, 29 Feb 2024 03:37:14 -0800 (PST)
DKIM-Signature: v=1; a=rsa-sha256; c=relaxed/relaxed;
 d=iol.unh.edu; s=unh-iol; t=1709206633; x=1709811433; darn=dpdk.org;
 h=references:in-reply-to:cc:to:from:subject:message-id:date:from:to
 :cc:subject:date:message-id:reply-to;
 bh=HrEw+0I1MpPN9H+7C5jidR62zrTKOrSVeNpTc0LQBk0=;
 b=UgkHKvtsjkwaB0KKg4uZi15HgiuvkUHcdx2+S159VMQEfaUNHhf8qLkYMhbVKHHAmj
 Scjvi7ROfVWQ/1ehkzJXfiI8TkxOvQPhwuvpnDxOov1e7infIVA3ljSIO/qcB7lx6y3Y
 S/27Ch0aG7O7L07JonLfvxEDESFFDraPR4eI4=
X-Google-DKIM-Signature: v=1; a=rsa-sha256; c=relaxed/relaxed;
 d=1e100.net; s=20230601; t=1709206633; x=1709811433;
 h=references:in-reply-to:cc:to:from:subject:message-id:date
 :x-gm-message-state:from:to:cc:subject:date:message-id:reply-to;
 bh=HrEw+0I1MpPN9H+7C5jidR62zrTKOrSVeNpTc0LQBk0=;
 b=lw/6NzNKPviWaQpsM61AHL6w7pLYiOzQkhjL3oHN5y2UGNSo0QrF26zBDGjlQjdBE0
 947TwgzwnnCC38++8FZIM4Y4YKNwqNsUF0vma2QBOp3/x/q2itK/81eIppOJp+SZHu90
 nt6VYCG6wHpYKTWojPO74gIgpudVj88D75Qi/m123Q+nNchQriL1kRqpKP7H0/MI3wX6
 CvM4yVAjpkHmnJX6lJ7S4wb13qMHpOtDenrN1NNFmkgSS/UZM6wNl32KsnhZS01nc6mT
 fSxK8YCzZZxpIJSDsf70BhFcnX7sJ+zi7DqFLHdUob09ZMyiMUTNG89Iwqb8mFNA7s3r
 wpLg==
X-Gm-Message-State: AOJu0YxI9OPg6PIEd4U7SYrCTvVtakMDzoArJMhBaSEkKnllc8pPsn+f
 Ct58qxPwpBKWkocUFjfkDk46/QpDCmQWJkxbJdP/CG9S+lorX0PPBWACLkHtXZlumuA7Wu92+XV
 HLO6sJUmJzT9+fO8MUi8DfDgiQJ8Bxgo3OSGsk3EC
X-Google-Smtp-Source: AGHT+IEtWhkLbxeEyTuQ5VHNfGvAcev4I8EbnzQd9bpi0eNSiodvsbrCsF0nFcS3d41IRqzjZ+MfFKkp9ccC
X-Received: by 2002:a4a:764a:0:b0:5a0:ec9d:56b with SMTP id
 w10-20020a4a764a000000b005a0ec9d056bmr697453ooe.0.1709206633651; 
 Thu, 29 Feb 2024 03:37:13 -0800 (PST)
Received: from postal.iol.unh.edu (postal.iol.unh.edu. [132.177.123.84])
 by smtp-relay.gmail.com with ESMTPS id
 bg43-20020a056820082b00b005a0e830ad39sm19156oob.11.2024.02.29.03.37.13
 (version=TLS1_2 cipher=ECDHE-ECDSA-AES128-GCM-SHA256 bits=128/128);
 Thu, 29 Feb 2024 03:37:13 -0800 (PST)
X-Relaying-Domain: iol.unh.edu
Date: Thu, 29 Feb 2024 03:37:13 -0800 (PST)
Message-ID: <65e06c69.050a0220.4a225.1103SMTPIN_ADDED_MISSING@mx.google.com>
Received: from [172.21.0.6] (unknown [172.18.0.240])
 by postal.iol.unh.edu (Postfix) with ESMTP id 224F1605250F;
 Thu, 29 Feb 2024 06:37:13 -0500 (EST)
Subject: |SUCCESS| pw137467 [PATCH] net/mlx5: fix sync meter processing in HW
From: dpdklab@iol.unh.edu
To: Test Report <test-report@dpdk.org>
Cc: dpdk-test-reports@iol.unh.edu
In-Reply-To: <20240229105614.593391-1-getelson@nvidia.com>
References: <20240229105614.593391-1-getelson@nvidia.com>
Content-Type: text/plain
X-BeenThere: test-report@dpdk.org
X-Mailman-Version: 2.1.29
Precedence: list
List-Id: automatic DPDK test reports <test-report.dpdk.org>
List-Unsubscribe: <https://mails.dpdk.org/options/test-report>,
 <mailto:test-report-request@dpdk.org?subject=unsubscribe>
List-Archive: <http://mails.dpdk.org/archives/test-report/>
List-Post: <mailto:test-report@dpdk.org>
List-Help: <mailto:test-report-request@dpdk.org?subject=help>
List-Subscribe: <https://mails.dpdk.org/listinfo/test-report>,
 <mailto:test-report-request@dpdk.org?subject=subscribe>
Errors-To: test-report-bounces@dpdk.org

Test-Label: iol-abi-testing
Test-Status: SUCCESS
http://dpdk.org/patch/137467

_Testing PASS_

Submitter: Gregory Etelson <getelson@nvidia.com>
Date: Thursday, February 29 2024 10:56:14 
DPDK git baseline: Repo:dpdk
  Branch: master
  CommitID:45d2195f9ea6ead7242af856c799c6f084d874bc

137467 --> testing pass

Test environment and result as below:

+------------------+----------+
|   Environment    | abi_test |
+==================+==========+
| openSUSE Leap 15 | PASS     |
+------------------+----------+
| RHEL8            | PASS     |
+------------------+----------+
| Fedora 38        | PASS     |
+------------------+----------+


openSUSE Leap 15
	Kernel: 4.18.0-240.10.1.el8_3.x86_64
	Compiler: gcc 7.5.0

RHEL8
	Kernel: 4.18.0-240.10.1.el8_3.x86_64
	Compiler: gcc 8.3.1 20191121 (Red Hat 8.3.1-5)

Fedora 38
	Kernel: Depends on container host
	Compiler: gcc 13.1.1

To view detailed results, visit:
https://lab.dpdk.org/results/dashboard/patchsets/29330/

UNH-IOL DPDK Community Lab

To manage your email subscriptions, visit: 
https://lab.dpdk.org/results/dashboard/preferences/subscriptions/