From mboxrd@z Thu Jan  1 00:00:00 1970
Return-Path: <test-report-bounces@dpdk.org>
Received: from mails.dpdk.org (mails.dpdk.org [217.70.189.124])
	by inbox.dpdk.org (Postfix) with ESMTP id 7F24A43C35
	for <public@inbox.dpdk.org>; Thu, 29 Feb 2024 12:59:06 +0100 (CET)
Received: from mails.dpdk.org (localhost [127.0.0.1])
	by mails.dpdk.org (Postfix) with ESMTP id 798F5402B4;
	Thu, 29 Feb 2024 12:59:06 +0100 (CET)
Received: from mail-yw1-f226.google.com (mail-yw1-f226.google.com
 [209.85.128.226])
 by mails.dpdk.org (Postfix) with ESMTP id 043B0402AF
 for <test-report@dpdk.org>; Thu, 29 Feb 2024 12:59:06 +0100 (CET)
Received: by mail-yw1-f226.google.com with SMTP id
 00721157ae682-608a21f1cbcso6501297b3.0
 for <test-report@dpdk.org>; Thu, 29 Feb 2024 03:59:05 -0800 (PST)
DKIM-Signature: v=1; a=rsa-sha256; c=relaxed/relaxed;
 d=iol.unh.edu; s=unh-iol; t=1709207945; x=1709812745; darn=dpdk.org;
 h=references:in-reply-to:cc:to:from:subject:message-id:date:from:to
 :cc:subject:date:message-id:reply-to;
 bh=nj5yqTGl25ZcCe2bGSA6i+txbRhKptmPf2gLq2dXVnc=;
 b=MiCmOhS+AHetk7S7UmTQZpubi3MXbAbaEPte2d4r1RvKZQjamXxbXamJ1GdFgdtp6G
 PdMo8iloton6tlZNg2plmiHb2bRw27GLQqYLZdPZwlWfPiZ85W6UMWOPsqUb1JeGaAxK
 hU6ZFcYhjtbBAsj55J0e9j02bZwxMivcUSB4k=
X-Google-DKIM-Signature: v=1; a=rsa-sha256; c=relaxed/relaxed;
 d=1e100.net; s=20230601; t=1709207945; x=1709812745;
 h=references:in-reply-to:cc:to:from:subject:message-id:date
 :x-gm-message-state:from:to:cc:subject:date:message-id:reply-to;
 bh=nj5yqTGl25ZcCe2bGSA6i+txbRhKptmPf2gLq2dXVnc=;
 b=EEDtK/JL4ttD1Cs/YuC57hL1nRjegsTWk6HgCsvZbJrgRHfaCfpcjJGpLiBDHMUZlC
 vrjLSkeg5bJyTTdXn0NNuYnU6ZW4EK4KgiWuV9IyCqGFxsTFHBac+zFKF5PyorE3XIgA
 rBBzj72VDv0ZJDx3KPWSiFosGvQ8x1Ql+Rr4MHo9visLzuekIZsSb79Y0/G0bjGBo0UR
 S9l2VqTKOJqP1KRJtqA6fOvTd5DniBl8aWfi7n4WOFiUvOJOJEZB2vWmwyZmj9uvOalx
 2kQ1ACEAXhOSUr8dyAEj/PHqfrbbs1JFN6jBAbWWPIpTi0+KCus+Tj2NTC7nvtIW2/Gl
 XjQQ==
X-Gm-Message-State: AOJu0YxxgMlhRER8zMHf9Ywbt7fMmmSGpAjn03NoIO8mXac19EIGjJRX
 y0kIYphhdQS5Nnox5vreiP27gdkD2NMoMvq2cPH3stTzDGlWKyfFVc3OWFI+2c8tKj9GukxY951
 RCUDtuC1LIh8cKOSSQWH/XRkrAYrJiRDPVKM2tEp3UUGXnOXhgrEf9pn8
X-Google-Smtp-Source: AGHT+IHXAlK7S1tu8TqNUf1W0hMGCuchAAVyVZ3grwVCv4TKq7OnNcDYDvgiJ6k3PYvJo2kcCzlj/wPixdkj
X-Received: by 2002:a81:7bc1:0:b0:607:bfa6:7434 with SMTP id
 w184-20020a817bc1000000b00607bfa67434mr1917641ywc.20.1709207945413; 
 Thu, 29 Feb 2024 03:59:05 -0800 (PST)
Received: from postal.iol.unh.edu (postal.iol.unh.edu.
 [2606:4100:3880:1234::84]) by smtp-relay.gmail.com with ESMTPS id
 df9-20020a05690c0f8900b0060784b52b43sm28120ywb.53.2024.02.29.03.59.05
 (version=TLS1_2 cipher=ECDHE-ECDSA-AES128-GCM-SHA256 bits=128/128);
 Thu, 29 Feb 2024 03:59:05 -0800 (PST)
X-Relaying-Domain: iol.unh.edu
Date: Thu, 29 Feb 2024 03:59:05 -0800 (PST)
Message-ID: <65e07189.050a0220.8b09.1ed7SMTPIN_ADDED_MISSING@mx.google.com>
Received: from [172.17.0.6] (unknown [172.18.0.217])
 by postal.iol.unh.edu (Postfix) with ESMTP id 005ED605250F;
 Thu, 29 Feb 2024 06:59:05 -0500 (EST)
Subject: |SUCCESS| pw137467 [PATCH] net/mlx5: fix sync meter processing in HW
From: dpdklab@iol.unh.edu
To: Test Report <test-report@dpdk.org>
Cc: dpdk-test-reports@iol.unh.edu
In-Reply-To: <20240229105614.593391-1-getelson@nvidia.com>
References: <20240229105614.593391-1-getelson@nvidia.com>
Content-Type: text/plain
X-BeenThere: test-report@dpdk.org
X-Mailman-Version: 2.1.29
Precedence: list
List-Id: automatic DPDK test reports <test-report.dpdk.org>
List-Unsubscribe: <https://mails.dpdk.org/options/test-report>,
 <mailto:test-report-request@dpdk.org?subject=unsubscribe>
List-Archive: <http://mails.dpdk.org/archives/test-report/>
List-Post: <mailto:test-report@dpdk.org>
List-Help: <mailto:test-report-request@dpdk.org?subject=help>
List-Subscribe: <https://mails.dpdk.org/listinfo/test-report>,
 <mailto:test-report-request@dpdk.org?subject=subscribe>
Errors-To: test-report-bounces@dpdk.org

Test-Label: iol-abi-testing
Test-Status: SUCCESS
http://dpdk.org/patch/137467

_Testing PASS_

Submitter: Gregory Etelson <getelson@nvidia.com>
Date: Thursday, February 29 2024 10:56:14 
DPDK git baseline: Repo:dpdk
  Branch: master
  CommitID:45d2195f9ea6ead7242af856c799c6f084d874bc

137467 --> testing pass

Test environment and result as below:

+------------------+----------+
|   Environment    | abi_test |
+==================+==========+
| openSUSE Leap 15 | PASS     |
+------------------+----------+
| RHEL8            | PASS     |
+------------------+----------+
| Fedora 38        | PASS     |
+------------------+----------+
| Ubuntu 22.04     | PASS     |
+------------------+----------+
| CentOS Stream 8  | PASS     |
+------------------+----------+
| Debian Bullseye  | PASS     |
+------------------+----------+
| CentOS Stream 9  | PASS     |
+------------------+----------+
| Fedora 37        | PASS     |
+------------------+----------+
| Debian 12 (arm)  | PASS     |
+------------------+----------+


openSUSE Leap 15
	Kernel: 4.18.0-240.10.1.el8_3.x86_64
	Compiler: gcc 7.5.0

RHEL8
	Kernel: 4.18.0-240.10.1.el8_3.x86_64
	Compiler: gcc 8.3.1 20191121 (Red Hat 8.3.1-5)

Fedora 38
	Kernel: Depends on container host
	Compiler: gcc 13.1.1

Ubuntu 22.04
	Kernel: 4.18.0-240.10.1.el8_3.x86_64
	Compiler: gcc 11.3.0

CentOS Stream 8
	Kernel: 4.18.0-240.10.1.el8_3.x86_64
	Compiler: gcc 8.4.1 20200928

Debian Bullseye
	Kernel: 5.4.0-122-generic
	Compiler: gcc 10.2.1-6

CentOS Stream 9
	Kernel: 4.18.0-240.10.1.el8_3.x86_64
	Compiler: gcc 11.3.1 20220421

Fedora 37
	Kernel: Depends on container host system
	Compiler: gcc 12.3.1

Debian 12 (arm)
	Kernel: Container Host Kernel
	Compiler: gcc 11

To view detailed results, visit:
https://lab.dpdk.org/results/dashboard/patchsets/29330/

UNH-IOL DPDK Community Lab

To manage your email subscriptions, visit: 
https://lab.dpdk.org/results/dashboard/preferences/subscriptions/