From mboxrd@z Thu Jan  1 00:00:00 1970
Return-Path: <test-report-bounces@dpdk.org>
Received: from mails.dpdk.org (mails.dpdk.org [217.70.189.124])
	by inbox.dpdk.org (Postfix) with ESMTP id C9DDC43B8D
	for <public@inbox.dpdk.org>; Thu, 29 Feb 2024 14:12:05 +0100 (CET)
Received: from mails.dpdk.org (localhost [127.0.0.1])
	by mails.dpdk.org (Postfix) with ESMTP id C3C54402EE;
	Thu, 29 Feb 2024 14:12:05 +0100 (CET)
Received: from mail-il1-f226.google.com (mail-il1-f226.google.com
 [209.85.166.226])
 by mails.dpdk.org (Postfix) with ESMTP id 0F531402DC
 for <test-report@dpdk.org>; Thu, 29 Feb 2024 14:12:02 +0100 (CET)
Received: by mail-il1-f226.google.com with SMTP id
 e9e14a558f8ab-365c8257940so1543645ab.2
 for <test-report@dpdk.org>; Thu, 29 Feb 2024 05:12:02 -0800 (PST)
DKIM-Signature: v=1; a=rsa-sha256; c=relaxed/relaxed;
 d=iol.unh.edu; s=unh-iol; t=1709212321; x=1709817121; darn=dpdk.org;
 h=references:in-reply-to:cc:to:from:subject:message-id:date:from:to
 :cc:subject:date:message-id:reply-to;
 bh=0Ao9ZB6S3On1xNxJzJsJco6ggvD7YV5hZnPuQlbMZ7A=;
 b=HBoL7aUwz89kdLA24PyPzHeHkV5fBJVTvNL6PNQU2JqMQWKmi0w6eM4+JEC8IQlmMU
 11Yl8gjCPrNu4t9wpcillEnbLy+lNnEMeYN9vSw+wNBWaXXPrXHH40LiVg9/oNEseaKM
 YGaDe1N2dHmsCM6VeVue9Lt1017PuLdcnSHNA=
X-Google-DKIM-Signature: v=1; a=rsa-sha256; c=relaxed/relaxed;
 d=1e100.net; s=20230601; t=1709212321; x=1709817121;
 h=references:in-reply-to:cc:to:from:subject:message-id:date
 :x-gm-message-state:from:to:cc:subject:date:message-id:reply-to;
 bh=0Ao9ZB6S3On1xNxJzJsJco6ggvD7YV5hZnPuQlbMZ7A=;
 b=HtdqoaXJgpGCTdxkuHaBJ+nK0R1ZRXMtmu2dWazLMdIuYFh0++T040V88ZvUqQyEHV
 2kU3UB6Ps/4T7EfRjWN+vPeHlfwtSEVM7waVeu3yF1lirZFhTIwmo7wDG31UpY5EVsZe
 8YPQS0rhksio3dZRYhO5YmfQL0WjpAokRw3oQutOcAjYxGGpue2A0BNkWXt9ke06aA6g
 RCYgVbP86k1MqiNZRAbq0v0U88b8haEaOaCtTlH6s7KYt85XxXAl2xHd6gTbNmtIlCsU
 1Od5WRZnAGRTgqxQyuz4UBSz+wSLx1wvso2EMGe19tvgmUgkj3NsIz93qrZM38UmWy3X
 H7jA==
X-Gm-Message-State: AOJu0YxLpDZks8o0Lz+KFdAU17Z7ZzlSK9EmSEpqIxyJS4z/hx+sxm04
 12Or+n7TqxjjpVstjsim7W+gJSu4g8c7ZyQeAzDHWOIXrlLLEXj18DXUXRgYyyyuu5HdE7TI5sG
 ZjiCX0xgFfYUjEGqF8KocCmtfXEYQeD1PPQ3RIHoM1PiMVRK7sHVskyn9
X-Google-Smtp-Source: AGHT+IF7yeEct0YX8WVIPTaPIAwLMkwKRHY0G2ia7P95yZHM5qZzPR9VpycpqfHSN1aZh5wWsxTbwL8/0H5G
X-Received: by 2002:a05:6e02:4ae:b0:365:85c:58f8 with SMTP id
 e14-20020a056e0204ae00b00365085c58f8mr2280162ils.13.1709212321424; 
 Thu, 29 Feb 2024 05:12:01 -0800 (PST)
Received: from postal.iol.unh.edu (postal.iol.unh.edu.
 [2606:4100:3880:1234::84]) by smtp-relay.gmail.com with ESMTPS id
 cn15-20020a056e02388f00b00365822e4606sm61968ilb.62.2024.02.29.05.12.01
 (version=TLS1_2 cipher=ECDHE-ECDSA-AES128-GCM-SHA256 bits=128/128);
 Thu, 29 Feb 2024 05:12:01 -0800 (PST)
X-Relaying-Domain: iol.unh.edu
Date: Thu, 29 Feb 2024 05:12:01 -0800 (PST)
Message-ID: <65e082a1.050a0220.f13fd.445fSMTPIN_ADDED_MISSING@mx.google.com>
Received: from [172.21.0.6] (unknown [172.18.0.240])
 by postal.iol.unh.edu (Postfix) with ESMTP id 13AA7605250F;
 Thu, 29 Feb 2024 08:12:01 -0500 (EST)
Subject: |SUCCESS| pw137464 [PATCH] net/mlx5: fix action template expansion: 
From: dpdklab@iol.unh.edu
To: Test Report <test-report@dpdk.org>
Cc: dpdk-test-reports@iol.unh.edu
In-Reply-To: <20240229101955.586947-1-getelson@nvidia.com>
References: <20240229101955.586947-1-getelson@nvidia.com>
Content-Type: text/plain
X-BeenThere: test-report@dpdk.org
X-Mailman-Version: 2.1.29
Precedence: list
List-Id: automatic DPDK test reports <test-report.dpdk.org>
List-Unsubscribe: <https://mails.dpdk.org/options/test-report>,
 <mailto:test-report-request@dpdk.org?subject=unsubscribe>
List-Archive: <http://mails.dpdk.org/archives/test-report/>
List-Post: <mailto:test-report@dpdk.org>
List-Help: <mailto:test-report-request@dpdk.org?subject=help>
List-Subscribe: <https://mails.dpdk.org/listinfo/test-report>,
 <mailto:test-report-request@dpdk.org?subject=subscribe>
Errors-To: test-report-bounces@dpdk.org

Test-Label: iol-compile-amd64-testing
Test-Status: SUCCESS
http://dpdk.org/patch/137464

_Testing PASS_

Submitter: Gregory Etelson <getelson@nvidia.com>
Date: Thursday, February 29 2024 10:19:55 
DPDK git baseline: Repo:dpdk
  Branch: master
  CommitID:45d2195f9ea6ead7242af856c799c6f084d874bc

137464 --> testing pass

Test environment and result as below:

+---------------------+--------------------+----------------------+
|     Environment     | dpdk_meson_compile | dpdk_mingw64_compile |
+=====================+====================+======================+
| Windows Server 2022 | PASS               | SKIPPED              |
+---------------------+--------------------+----------------------+
| FreeBSD 13.2        | PASS               | SKIPPED              |
+---------------------+--------------------+----------------------+
| CentOS Stream 8     | PASS               | SKIPPED              |
+---------------------+--------------------+----------------------+
| Debian Bullseye     | PASS               | SKIPPED              |
+---------------------+--------------------+----------------------+
| CentOS Stream 9     | PASS               | SKIPPED              |
+---------------------+--------------------+----------------------+
| Fedora 37           | PASS               | SKIPPED              |
+---------------------+--------------------+----------------------+
| Debian 12 (arm)     | PASS               | SKIPPED              |
+---------------------+--------------------+----------------------+
| Fedora 38           | PASS               | SKIPPED              |
+---------------------+--------------------+----------------------+
| RHEL8               | PASS               | SKIPPED              |
+---------------------+--------------------+----------------------+
| openSUSE Leap 15    | PASS               | SKIPPED              |
+---------------------+--------------------+----------------------+
| Ubuntu 20.04        | PASS               | SKIPPED              |
+---------------------+--------------------+----------------------+
| Alpine              | PASS               | SKIPPED              |
+---------------------+--------------------+----------------------+
| Windows Server 2019 | PASS               | PASS                 |
+---------------------+--------------------+----------------------+
| Ubuntu 22.04        | PASS               | SKIPPED              |
+---------------------+--------------------+----------------------+


Windows Server 2022
	Kernel: OS Build 20348.2031
	Compiler: MSVC VS-Preview

FreeBSD 13.2
	Kernel: 13.2
	Compiler: clang 11.3.0

CentOS Stream 8
	Kernel: 4.18.0-240.10.1.el8_3.x86_64
	Compiler: gcc 8.4.1 20200928

Debian Bullseye
	Kernel: 5.4.0-122-generic
	Compiler: gcc 10.2.1-6

CentOS Stream 9
	Kernel: 4.18.0-240.10.1.el8_3.x86_64
	Compiler: gcc 11.3.1 20220421

Fedora 37
	Kernel: Depends on container host system
	Compiler: gcc 12.3.1

Debian 12 (arm)
	Kernel: Container Host Kernel
	Compiler: gcc 11

Fedora 38
	Kernel: Depends on container host
	Compiler: gcc 13.1.1

RHEL8
	Kernel: 4.18.0-240.10.1.el8_3.x86_64
	Compiler: gcc 8.3.1 20191121 (Red Hat 8.3.1-5)

openSUSE Leap 15
	Kernel: 4.18.0-240.10.1.el8_3.x86_64
	Compiler: gcc 7.5.0

Ubuntu 20.04
	Kernel: 5.4.0-153-generic
	Compiler: gcc 9.4.0-1ubuntu1~20.04.1

Alpine
	Kernel: 5.4.0-73-generic
	Compiler: gcc (Alpine 10.3.1_git20210424) 10.3.1 20210424

Windows Server 2019
	Kernel: 10.0
	Compiler: clang 14.0 and gcc 8.1.0 (MinGW)

Ubuntu 22.04
	Kernel: 4.18.0-240.10.1.el8_3.x86_64
	Compiler: gcc 11.3.0

To view detailed results, visit:
https://lab.dpdk.org/results/dashboard/patchsets/29328/

UNH-IOL DPDK Community Lab

To manage your email subscriptions, visit: 
https://lab.dpdk.org/results/dashboard/preferences/subscriptions/