From mboxrd@z Thu Jan  1 00:00:00 1970
Return-Path: <test-report-bounces@dpdk.org>
Received: from mails.dpdk.org (mails.dpdk.org [217.70.189.124])
	by inbox.dpdk.org (Postfix) with ESMTP id 64FF643C0C
	for <public@inbox.dpdk.org>; Thu, 29 Feb 2024 14:17:19 +0100 (CET)
Received: from mails.dpdk.org (localhost [127.0.0.1])
	by mails.dpdk.org (Postfix) with ESMTP id 61AA642D72;
	Thu, 29 Feb 2024 14:17:19 +0100 (CET)
Received: from mail-ot1-f97.google.com (mail-ot1-f97.google.com
 [209.85.210.97]) by mails.dpdk.org (Postfix) with ESMTP id 87ADB402CD
 for <test-report@dpdk.org>; Thu, 29 Feb 2024 14:17:12 +0100 (CET)
Received: by mail-ot1-f97.google.com with SMTP id
 46e09a7af769-6ddca59e336so425618a34.0
 for <test-report@dpdk.org>; Thu, 29 Feb 2024 05:17:12 -0800 (PST)
DKIM-Signature: v=1; a=rsa-sha256; c=relaxed/relaxed;
 d=iol.unh.edu; s=unh-iol; t=1709212632; x=1709817432; darn=dpdk.org;
 h=references:in-reply-to:cc:to:from:subject:message-id:date:from:to
 :cc:subject:date:message-id:reply-to;
 bh=ZNw1JMvgrxixGTNyTGC4lxoL/xMtDLn8QkNR+OLbBDY=;
 b=cBTKZ1++WcRBqZ+h3A8r7SRJOVbArxvcW+cZJRCCQ2OzYB6XmMcl2zwU7IaPk62o2i
 zDmPH1Gff7rg92CvhKCv9KyiJlK1d8Ad/HbAx9j5X+ApMu08UQS8K5yVVhdKeyLvAt3r
 fQucroCMClaEx6RhkJSKV23xn5dbEnTr/VPf4=
X-Google-DKIM-Signature: v=1; a=rsa-sha256; c=relaxed/relaxed;
 d=1e100.net; s=20230601; t=1709212632; x=1709817432;
 h=references:in-reply-to:cc:to:from:subject:message-id:date
 :x-gm-message-state:from:to:cc:subject:date:message-id:reply-to;
 bh=ZNw1JMvgrxixGTNyTGC4lxoL/xMtDLn8QkNR+OLbBDY=;
 b=wfbiYc/H4BShLyJMrPOKjkDuYhY+cb4n9bVAzLwE3aZHGOmHNtMl2FIopXPhrGTwy8
 uu6WcRoGJ7BEsEvqoRVHpTT8ZctsGqnynIlJNBONjNdGL0qJozRABowkom9vLZtD6zTE
 hBOhM82aRLQFM2sC4qQlGk/8vNYXYW4HdJe8Bvfx5cv1vv0eDZL+uwkfQIFiGzjTQjdM
 yY8dRf5gcwMwExfKNwAUUvoLang0GPsm9WJYktgETUJnHWcgZAaos1cUtP5nNIMF3ZNK
 3EVOyqPzSefuBgVT15ztxaUmDYkrWAe6mL0VyIyvmBTRvpx5ZUf/tNK3ATW0+xUM7Pt0
 1n4g==
X-Gm-Message-State: AOJu0Yzn+/UueeDDg+cjv5U2pR36JBHC6uNcZ1nOx6bcIZGWZ5E839uG
 JvFAdQ2nMmH+lUPYa00EFc/ZbFIEx7sg02TevuzHVOiVa1YUBIB7BJLmmASfUzBjAeGqsdPeJ1y
 XDHB8//g7nI6rixOSQe0smcfys+KF1ashpJ9mJOKC
X-Google-Smtp-Source: AGHT+IFaeoR0hMTjmP7o2SF9X4v+zUAkxUiDeGtHgPMt69EnBdW35U0/lvZiGl0PAw7LS2m4PRzDmB7Eoin9
X-Received: by 2002:a05:6830:4422:b0:6e4:9759:1b9d with SMTP id
 q34-20020a056830442200b006e497591b9dmr611990otv.5.1709212631833; 
 Thu, 29 Feb 2024 05:17:11 -0800 (PST)
Received: from postal.iol.unh.edu (postal.iol.unh.edu. [132.177.123.84])
 by smtp-relay.gmail.com with ESMTPS id
 bg43-20020a056820082b00b005a0e830ad39sm21578oob.11.2024.02.29.05.17.11
 (version=TLS1_2 cipher=ECDHE-ECDSA-AES128-GCM-SHA256 bits=128/128);
 Thu, 29 Feb 2024 05:17:11 -0800 (PST)
X-Relaying-Domain: iol.unh.edu
Date: Thu, 29 Feb 2024 05:17:11 -0800 (PST)
Message-ID: <65e083d7.050a0220.4a225.136cSMTPIN_ADDED_MISSING@mx.google.com>
Received: from [172.21.0.6] (unknown [172.18.0.240])
 by postal.iol.unh.edu (Postfix) with ESMTP id 4AF9F605250F;
 Thu, 29 Feb 2024 08:17:11 -0500 (EST)
Subject: |SUCCESS| pw137466 [PATCH] [v4] common/qat: add virtual qat device (
From: dpdklab@iol.unh.edu
To: Test Report <test-report@dpdk.org>
Cc: dpdk-test-reports@iol.unh.edu
In-Reply-To: <20240229102141.32527-1-arkadiuszx.kusztal@intel.com>
References: <20240229102141.32527-1-arkadiuszx.kusztal@intel.com>
Content-Type: text/plain
X-BeenThere: test-report@dpdk.org
X-Mailman-Version: 2.1.29
Precedence: list
List-Id: automatic DPDK test reports <test-report.dpdk.org>
List-Unsubscribe: <https://mails.dpdk.org/options/test-report>,
 <mailto:test-report-request@dpdk.org?subject=unsubscribe>
List-Archive: <http://mails.dpdk.org/archives/test-report/>
List-Post: <mailto:test-report@dpdk.org>
List-Help: <mailto:test-report-request@dpdk.org?subject=help>
List-Subscribe: <https://mails.dpdk.org/listinfo/test-report>,
 <mailto:test-report-request@dpdk.org?subject=subscribe>
Errors-To: test-report-bounces@dpdk.org

Test-Label: iol-unit-amd64-testing
Test-Status: SUCCESS
http://dpdk.org/patch/137466

_Testing PASS_

Submitter: Arkadiusz Kusztal <arkadiuszx.kusztal@intel.com>
Date: Thursday, February 29 2024 10:21:41 
DPDK git baseline: Repo:dpdk
  Branch: master
  CommitID:92c0ad70caf3ed6f4b93de6ddaf7bc369737c049

137466 --> testing pass

Test environment and result as below:

+---------------------+----------------+
|     Environment     | dpdk_unit_test |
+=====================+================+
| CentOS Stream 9     | PASS           |
+---------------------+----------------+
| Debian 12 (arm)     | PASS           |
+---------------------+----------------+
| Windows Server 2019 | PASS           |
+---------------------+----------------+
| Debian Bullseye     | PASS           |
+---------------------+----------------+
| Fedora 37           | PASS           |
+---------------------+----------------+
| CentOS Stream 8     | PASS           |
+---------------------+----------------+
| Fedora 38           | PASS           |
+---------------------+----------------+
| Ubuntu 20.04        | PASS           |
+---------------------+----------------+
| openSUSE Leap 15    | PASS           |
+---------------------+----------------+
| RHEL8               | PASS           |
+---------------------+----------------+
| Ubuntu 22.04        | PASS           |
+---------------------+----------------+


CentOS Stream 9
	Kernel: 4.18.0-240.10.1.el8_3.x86_64
	Compiler: gcc 11.3.1 20220421

Debian 12 (arm)
	Kernel: Container Host Kernel
	Compiler: gcc 11

Windows Server 2019
	Kernel: 10.0
	Compiler: clang 14.0 and gcc 8.1.0 (MinGW)

Debian Bullseye
	Kernel: 5.4.0-122-generic
	Compiler: gcc 10.2.1-6

Fedora 37
	Kernel: Depends on container host system
	Compiler: gcc 12.3.1

CentOS Stream 8
	Kernel: 4.18.0-240.10.1.el8_3.x86_64
	Compiler: gcc 8.4.1 20200928

Fedora 38
	Kernel: Depends on container host
	Compiler: gcc 13.1.1

Ubuntu 20.04
	Kernel: 5.4.0-153-generic
	Compiler: gcc 9.4.0-1ubuntu1~20.04.1

openSUSE Leap 15
	Kernel: 4.18.0-240.10.1.el8_3.x86_64
	Compiler: gcc 7.5.0

RHEL8
	Kernel: 4.18.0-240.10.1.el8_3.x86_64
	Compiler: gcc 8.3.1 20191121 (Red Hat 8.3.1-5)

Ubuntu 22.04
	Kernel: 4.18.0-240.10.1.el8_3.x86_64
	Compiler: gcc 11.3.0

To view detailed results, visit:
https://lab.dpdk.org/results/dashboard/patchsets/29329/

UNH-IOL DPDK Community Lab

To manage your email subscriptions, visit: 
https://lab.dpdk.org/results/dashboard/preferences/subscriptions/