From mboxrd@z Thu Jan  1 00:00:00 1970
Return-Path: <test-report-bounces@dpdk.org>
Received: from mails.dpdk.org (mails.dpdk.org [217.70.189.124])
	by inbox.dpdk.org (Postfix) with ESMTP id 4C17643C3B
	for <public@inbox.dpdk.org>; Thu, 29 Feb 2024 14:40:19 +0100 (CET)
Received: from mails.dpdk.org (localhost [127.0.0.1])
	by mails.dpdk.org (Postfix) with ESMTP id 47E94402CD;
	Thu, 29 Feb 2024 14:40:19 +0100 (CET)
Received: from mail-pl1-f225.google.com (mail-pl1-f225.google.com
 [209.85.214.225])
 by mails.dpdk.org (Postfix) with ESMTP id 35FDC4025C
 for <test-report@dpdk.org>; Thu, 29 Feb 2024 14:40:07 +0100 (CET)
Received: by mail-pl1-f225.google.com with SMTP id
 d9443c01a7336-1dc5d0162bcso8733135ad.0
 for <test-report@dpdk.org>; Thu, 29 Feb 2024 05:40:07 -0800 (PST)
DKIM-Signature: v=1; a=rsa-sha256; c=relaxed/relaxed;
 d=iol.unh.edu; s=unh-iol; t=1709214006; x=1709818806; darn=dpdk.org;
 h=references:in-reply-to:cc:to:from:subject:message-id:date:from:to
 :cc:subject:date:message-id:reply-to;
 bh=pgs+8S1wpCgrB5FTcJ7ot03Hc7jScI4UOpToTGe+nxw=;
 b=HSGbMM3OOOMV7hIbOG94pEyUdyHV1MYrc3OiHMeNAfjF4XQoNbwCGmQMelNdUM0cLe
 WVK/FD9w35AY2DaRYFTRMzCmoyy3/j4Pq6ARg9HDgHS3hJd8RcsV7imrU45cTz1QbOzm
 7hpv+pVQEaN0JoopWGFineFJzhRs07PMGqOe4=
X-Google-DKIM-Signature: v=1; a=rsa-sha256; c=relaxed/relaxed;
 d=1e100.net; s=20230601; t=1709214006; x=1709818806;
 h=references:in-reply-to:cc:to:from:subject:message-id:date
 :x-gm-message-state:from:to:cc:subject:date:message-id:reply-to;
 bh=pgs+8S1wpCgrB5FTcJ7ot03Hc7jScI4UOpToTGe+nxw=;
 b=rjNPC+RC7SAM1d02zT/jmRHXiteNGe9C0d0A5GWMBXaYasheSp9ot/waQ51soJwPeK
 ZD/141Tip5aIwGyUu7e2dXw0cWaLw1bYI0e0zEwAtu4j2XT7BcOhj03p9Ki9o3QQFVHd
 afwzCh2PK4HHCvkYIuCHig9zBivgGth9rlt3RIEUPcBZPLcH72LdTKe0PytYmn2V/BU8
 eoTOq6oqoy/QpdY86EMmQTwnWpkTRFuNSPJJyvyHrss6nLUP4o70hezQPmyiTV6wPzCT
 ZzkuB9mx77aMk+AeIjVKh9XyM/RhNelMQCeYMgtEPtS2+B235ghedNX07DVwtTKTjIv6
 DBEQ==
X-Gm-Message-State: AOJu0YxPnEKgYwxkXCcDQZRa+PJcmZ9uv/fGVSWUEHN3ujZr86f7YeyU
 l4lMllMNspLfNJIG3OYnOPFwtXJ5k4rl1MxzwEjGi3oic4dggjuL45tYCHzSiMozUkW9nMRZhrf
 e6OFeVWbAuiGSDGAhh6LTWWT3tTZWoeQozj1JkfY1ANzVCl4jefLXOxkw
X-Google-Smtp-Source: AGHT+IEQzQ6bLr38Q8DGk13fuGikg0Eqfm9Ai9+BGG4OAcjBxxL9qpbRG2X5vCK80lpZTiP0L1Ixvoegu6cj
X-Received: by 2002:a17:902:d342:b0:1dc:4a90:b87d with SMTP id
 l2-20020a170902d34200b001dc4a90b87dmr1854960plk.66.1709214006473; 
 Thu, 29 Feb 2024 05:40:06 -0800 (PST)
Received: from postal.iol.unh.edu (postal.iol.unh.edu.
 [2606:4100:3880:1234::84]) by smtp-relay.gmail.com with ESMTPS id
 kb7-20020a170903338700b001d9427ff4absm32215plb.30.2024.02.29.05.40.06
 (version=TLS1_2 cipher=ECDHE-ECDSA-AES128-GCM-SHA256 bits=128/128);
 Thu, 29 Feb 2024 05:40:06 -0800 (PST)
X-Relaying-Domain: iol.unh.edu
Date: Thu, 29 Feb 2024 05:40:06 -0800 (PST)
Message-ID: <65e08936.170a0220.71836.2354SMTPIN_ADDED_MISSING@mx.google.com>
Received: from [172.17.0.6] (unknown [172.18.0.217])
 by postal.iol.unh.edu (Postfix) with ESMTP id A8482605250F;
 Thu, 29 Feb 2024 08:40:05 -0500 (EST)
Subject: |SUCCESS| pw137464 [PATCH] net/mlx5: fix action template expansion: 
From: dpdklab@iol.unh.edu
To: Test Report <test-report@dpdk.org>
Cc: dpdk-test-reports@iol.unh.edu
In-Reply-To: <20240229101955.586947-1-getelson@nvidia.com>
References: <20240229101955.586947-1-getelson@nvidia.com>
Content-Type: text/plain
X-BeenThere: test-report@dpdk.org
X-Mailman-Version: 2.1.29
Precedence: list
List-Id: automatic DPDK test reports <test-report.dpdk.org>
List-Unsubscribe: <https://mails.dpdk.org/options/test-report>,
 <mailto:test-report-request@dpdk.org?subject=unsubscribe>
List-Archive: <http://mails.dpdk.org/archives/test-report/>
List-Post: <mailto:test-report@dpdk.org>
List-Help: <mailto:test-report-request@dpdk.org?subject=help>
List-Subscribe: <https://mails.dpdk.org/listinfo/test-report>,
 <mailto:test-report-request@dpdk.org?subject=subscribe>
Errors-To: test-report-bounces@dpdk.org

Test-Label: iol-unit-amd64-testing
Test-Status: SUCCESS
http://dpdk.org/patch/137464

_Testing PASS_

Submitter: Gregory Etelson <getelson@nvidia.com>
Date: Thursday, February 29 2024 10:19:55 
DPDK git baseline: Repo:dpdk
  Branch: master
  CommitID:45d2195f9ea6ead7242af856c799c6f084d874bc

137464 --> testing pass

Test environment and result as below:

+------------------+----------------+
|   Environment    | dpdk_unit_test |
+==================+================+
| CentOS Stream 8  | PASS           |
+------------------+----------------+
| Debian Bullseye  | PASS           |
+------------------+----------------+
| Fedora 37        | PASS           |
+------------------+----------------+
| CentOS Stream 9  | PASS           |
+------------------+----------------+
| Debian 12 (arm)  | PASS           |
+------------------+----------------+
| RHEL8            | PASS           |
+------------------+----------------+
| Fedora 38        | PASS           |
+------------------+----------------+
| openSUSE Leap 15 | PASS           |
+------------------+----------------+
| Ubuntu 22.04     | PASS           |
+------------------+----------------+
| Ubuntu 20.04     | PASS           |
+------------------+----------------+


CentOS Stream 8
	Kernel: 4.18.0-240.10.1.el8_3.x86_64
	Compiler: gcc 8.4.1 20200928

Debian Bullseye
	Kernel: 5.4.0-122-generic
	Compiler: gcc 10.2.1-6

Fedora 37
	Kernel: Depends on container host system
	Compiler: gcc 12.3.1

CentOS Stream 9
	Kernel: 4.18.0-240.10.1.el8_3.x86_64
	Compiler: gcc 11.3.1 20220421

Debian 12 (arm)
	Kernel: Container Host Kernel
	Compiler: gcc 11

RHEL8
	Kernel: 4.18.0-240.10.1.el8_3.x86_64
	Compiler: gcc 8.3.1 20191121 (Red Hat 8.3.1-5)

Fedora 38
	Kernel: Depends on container host
	Compiler: gcc 13.1.1

openSUSE Leap 15
	Kernel: 4.18.0-240.10.1.el8_3.x86_64
	Compiler: gcc 7.5.0

Ubuntu 22.04
	Kernel: 4.18.0-240.10.1.el8_3.x86_64
	Compiler: gcc 11.3.0

Ubuntu 20.04
	Kernel: 5.4.0-153-generic
	Compiler: gcc 9.4.0-1ubuntu1~20.04.1

To view detailed results, visit:
https://lab.dpdk.org/results/dashboard/patchsets/29328/

UNH-IOL DPDK Community Lab

To manage your email subscriptions, visit: 
https://lab.dpdk.org/results/dashboard/preferences/subscriptions/